Workbook
Name Calc_Crops: INDEX(Nutrients_2[For],1):INDEX(Nutrients_2[For],MAX(1,SUMPRODUCT(--(TRIM(Nutrients_2[For])<>""))))
Name Calc_Crops: INDEX(Nutrients_2[For],1):INDEX(Nutrients_2[For],MAX(1,SUMPRODUCT(--(TRIM(Nutrients_2[For])<>""))))
Name Calc_Crops: INDEX(Nutrients_2[For],1):INDEX(Nutrients_2[For],MAX(1,SUMPRODUCT(--(TRIM(Nutrients_2[For])<>""))))
Name Calc_Fertilizers: INDEX(Fertilizers[Fertilizer],1):INDEX(Fertilizers[Fertilizer],MAX(1,SUMPRODUCT(--(TRIM(Fertilizers[Fertilizer])<>""))))
Name Calc_Fertilizers: INDEX(Fertilizers[Fertilizer],1):INDEX(Fertilizers[Fertilizer],MAX(1,SUMPRODUCT(--(TRIM(Fertilizers[Fertilizer])<>""))))
Name Calc_Fertilizers: INDEX(Fertilizers[Fertilizer],1):INDEX(Fertilizers[Fertilizer],MAX(1,SUMPRODUCT(--(TRIM(Fertilizers[Fertilizer])<>""))))

Sheet Procedures
A10: Id | B10: Group | C10: Type | D10: Name | E10: Description | F10: Link to Steps
A11: 1 | B11: pH | C11: default-ph | D11: General Hydroponics pH Up Adjustment | E11: General Hydroponics pH Up Adjustment
A12: 2 | B12: Seed Scarification | C12: default-ss | D12: 3% H2O2 Seed Scarification | E12: 3% H2O2 Seed Scarification
A13: 3 | B13: Water Sterilization | C13: default-ws | D13: Added 3% H2O2 for O2 | E13: Added 3% H2O2 for O2

Sheet Conversions
A1: Conversions
A10: From | B10: From (MM) | C10: To | D10: To (MM) | E10: Value
A11: Liters | C11: US Gallon | E11: 3.78541
A12: Grams | C12: Ounce | E12: 28.3495
A13: Sulfur | B13: 32.06 | C13: SO₄²⁻ | D13: 96.06 | E13: =32.06/96.06 -> 0.33374974

Sheet Containers
D1: Cube
D2: Cylinder
D3: Vase
A10: Jar | B10: Name | C10: Volume (mL) | D10: Shape | E10: Tapered Top | F10: Outer Width (mm) | G10: Outer Height (mm) | H10: Inner Lid Diameter (mm)
A11: Half-Gallon Ball Mason Jar | B11: Half-Gallon Ball Mason Jar | C11: 1892.7 | D11: Cylinder | E11: 1
A12: Cylindrical Olive Jar | B12: Cylindrical Olive Jar | C12: 371 | D12: Cylinder | E12: 0 | F12: 69 | G12: 110 | H12: 55
A13: Jelly Jar, Cube Shape | B13: Stonewall Kitchen Wild Maine Blueberry Jam | C13: 354 | D13: Cube | E13: 1 | F13: 72 | G13: 96 | H13: 53
A14: Smucker's Sugar Free Jam Jar | B14: Smucker's Sugar Free Jam Jar | C14: 361 | D14: Cylinder | E14: 1 | F14: 70 | G14: 125 | H14: 50
A15: Dr. Schroeder's 250ml Jar | B15: Dr. Schroeder's 250ml Jar | C15: 250 | D15: Vase | E15: 1

Sheet Fertilizers
D1: Cube
D2: Cylinder
D3: Vase
A10: Fertilizer | B10: Name | C10: N | D10: P | E10: K | F10: Total Nitrogen (N) | G10: Nitrate - N (NO₃) | H10: Ammonium - N (NH₄) | I10: Urea - N | J10: Phosphorus (P) | K10: Available Phosphate (P₂O₅) | L10: Potassium (K) | M10: Soluble Potash (K₂O) | N10: Calcium (Ca) | O10: Magnesium (Mg) | P10: Sulfur (S) | Q10: Boron (B) | R10: Copper (Cu) | S10: Iron (Fe) | T10: Manganese (Mn) | U10: Molybdenum (Mo) | V10: Zinc (Zn)
A11: 12-4-16 | B11: Jack's Nutrients 12-4-16 RO | C11: 12.0 | D11: 4.0 | E11: 16.0 | F11: 100 | G11: 98.3 | H11: 1.7 | I11: 0 | J11: 14.5 | K11: 33.2 | L11: 110.7 | M11: 133.4 | N11: 58.3 | O11: 16.7 | P11: 0 | Q11: 0.17 | R11: 0.17 | S11: 1.25 | T11: 0.42 | U11: 0.01 | V11: 0.29
C26: Total Nitrogen (N),Ammoniacal Nitrogen, Nitrate Nitrogen,Available Phosphate (P2O5),Soluble Potash (K2O),Calcium (Ca),Magnesium (Mg),Water Soluble Magnesium (Mg),Boron (B),Copper (Cu),Chelated Copper (Cu),Iron (Fe),Chelated Iron (Fe),Manganese (Mn),Chelated Manganese (Mn),Molybdenum (Mo),Zinc (Zn),Chelated Zinc (Zn)
C27: 12.0%,0.2%,11.8%,4.0%,16.0%,7.0%,2.0%,2.0%,0.02%,0.02%,0.02%,0.15%,0.15%,0.05%,0.05%,0.001%,0.035%,0.035%
A31: Total Nitrogen (N),Nitrate - N (NO₃),Ammonium - N (NH₄),Urea - N,Phosphorus (P),Available Phosphate (P₂O₅),Potassium (K),Soluble Potash (K₂O),Calcium (Ca),Magnesium (Mg),Sulfur (S),Boron (B),Copper (Cu),Iron (Fe),Manganese (Mn),Molybdenum (Mo),Zinc (Zn)
A32: 100.0,98.3,1.7,0.0,14.5,33.2,110.7,133.4,58.3,16.7,0.0,0.17,0.17,1.25,0.42,0.01,0.29

Sheet Nutrients
K9: PPM [N]
A10: For | B10: Active | C10: EC (min) | D10: V:EC (min) | E10: EC (max) | F10: V:EC (max) | G10: pH (min) | H10: V:pH (min) | I10: pH (max) | J10: V:pH (max) | K10: Nitrogen | L10: V:Nitrogen | M10: Phosphorus | N10: V:Phosphorus | O10: Potassium | P10: V:Potassium | Q10: Calcium | R10: V:Calcium | S10: Magnesium | T10: V:Magnesium | U10: Sulfur | V10: V:Sulfur | W10: Iron | X10: V:Iron | Y10: Manganese | Z10: V:Manganese | AA10: Zinc | AB10: V:Zinc | AC10: Boron | AD10: V:Boron | AE10: Copper | AF10: V:Copper | AG10: Molybdenum | AH10: V:Molybdenum | AI10: Cl | AJ10: V:Cl | AK10: Source | AN10: For | AO10: C:pH (min) | AP10: C:pH (max) | AQ10: C:EC (min) | AR10: C:EC (max) | AS10: C:Nitrogen | AT10: C:Phosphorus | AU10: C:Potassium | AV10: C:Calcium | AW10: C:Magnesium | AX10: C:Sulfur | AY10: C:Iron | AZ10: C:Manganese | BA10: C:Zinc | BB10: C:Boron | BC10: C:Copper | BD10: C:Molybdenum | BE10: C:Cl
A11: Ocimum basilicum | B11: 1 | D11: =IF(Nutrients_1[[#This Row],[EC (min)]]="", "", IFERROR(VALUE(Nutrients_1[[#This Row],[EC (min)]]), "")) | F11: =IF(Nutrients_1[[#This Row],[EC (max)]]="", "", IFERROR(VALUE(Nutrients_1[[#This Row],[EC (max)]]), "")) | H11: {=_xlfn.LET(_xlpm.data, _xlfn.SINGLE(Nutrients_1[pH (min)]), IF(_xlpm.data="", "", IFERROR(VALUE(_xlpm.data), "")))} | J11: {=_xlfn.LET(_xlpm.data, _xlfn.SINGLE(Nutrients_1[pH (max)]), IF(_xlpm.data="", "", IFERROR(VALUE(_xlpm.data), "")))} | K11: 150 | L11: {=_xlfn.LET(_xlpm.data, _xlfn.SINGLE(Nutrients_1[Nitrogen]), IF(_xlpm.data="", "", IFERROR(VALUE(_xlpm.data), "")))} -> 150 | M11: 31 | N11: =IF(Nutrients_1[[#This Row],[Phosphorus]]="", "", IFERROR(VALUE(Nutrients_1[[#This Row],[Phosphorus]]), "")) -> 31 | O11: 210 | P11: =IF(Nutrients_1[[#This Row],[Potassium]]="", "", IFERROR(VALUE(Nutrients_1[[#This Row],[Potassium]]), "")) -> 210 | Q11: 90 | R11: =IF(Nutrients_1[[#This Row],[Calcium]]="", "", IFERROR(VALUE(Nutrients_1[[#This Row],[Calcium]]), "")) -> 90 | S11: 24 | T11: {=_xlfn.LET(_xlpm.data, Nutrients_1[[#This Row],[Magnesium]], IF(_xlpm.data="", "", IFERROR(VALUE(_xlpm.data), "")))} -> 24 | V11: {=_xlfn.LET(_xlpm.data, Nutrients_1[[#This Row],[Sulfur]], IF(_xlpm.data="", "", IFERROR(VALUE(_xlpm.data), "")))} | W11: 1.0 | X11: {=_xlfn.LET(_xlpm.data, Nutrients_1[[#This Row],[Iron]], IF(_xlpm.data="", "", IFERROR(VALUE(_xlpm.data), "")))} -> 1 | Y11: 0.25 | Z11: {=_xlfn.LET(_xlpm.data, Nutrients_1[[#This Row],[Manganese]], IF(_xlpm.data="", "", IFERROR(VALUE(_xlpm.data), "")))} -> 0.25 | AA11: 0.13 | AB11: {=_xlfn.LET(_xlpm.data, Nutrients_1[[#This Row],[Zinc]], IF(_xlpm.data="", "", IFERROR(VALUE(_xlpm.data), "")))} -> 0.13 | AC11: 0.16 | AD11: {=_xlfn.LET(_xlpm.data, Nutrients_1[[#This Row],[Boron]], IF(_xlpm.data="", "", IFERROR(VALUE(_xlpm.data), "")))} -> 0.16 | AE11: 0.023 | AF11: {=_xlfn.LET(_xlpm.data, Nutrients_1[[#This Row],[Copper]], IF(_xlpm.data="", "", IFERROR(VALUE(_xlpm.data), "")))} -> 0.023 | AG11: 0.024 | AH11: {=_xlfn.LET(_xlpm.data, Nutrients_1[[#This Row],[Molybdenum]], IF(_xlpm.data="", "", IFERROR(VALUE(_xlpm.data), "")))} -> 0.024 | AJ11: {=_xlfn.LET(_xlpm.data, Nutrients_1[[#This Row],[Cl]], IF(_xlpm.data="", "", IFERROR(VALUE(_xlpm.data), "")))} | AK11: Modified Sonneveld's Solution | AM11: {=_xlfn.UNIQUE(_xlfn._xlws.FILTER(Nutrients_1[For], Nutrients_1[For]<>""))} -> Ocimum basilicum | AN11: {=_xlfn.LET(_xlpm.value, OFFSET(INDIRECT(ADDRESS(ROW(), COLUMN())), 0, -1), IF(_xlpm.value="", " ", _xlpm.value))} -> Ocimum basilicum | AO11: =IFERROR(AVERAGEIFS(Nutrients_1[V:pH (min)], Nutrients_1[For], Nutrients_2[[#This Row],[For]], Nutrients_1[Active], "1"), " ") -> 5.8 | AP11: =IFERROR(AVERAGEIFS(Nutrients_1[V:pH (max)], Nutrients_1[For], Nutrients_2[[#This Row],[For]], Nutrients_1[Active], "1"), " ") -> 6.2 | AQ11: =IFERROR(AVERAGEIFS(Nutrients_1[V:EC (min)], Nutrients_1[For], Nutrients_2[[#This Row],[For]], Nutrients_1[Active], "1"), " ") -> 0.5 | AR11: =IFERROR(AVERAGEIFS(Nutrients_1[V:EC (max)], Nutrients_1[For], Nutrients_2[[#This Row],[For]], Nutrients_1[Active], "1"), " ") -> 1.5 | AS11: =IFERROR(AVERAGEIFS(Nutrients_1[V:Nitrogen], Nutrients_1[For], Nutrients_2[[#This Row],[For]], Nutrients_1[Active], "1"), " ") -> 170 | AT11: =IFERROR(AVERAGEIFS(Nutrients_1[V:Phosphorus], Nutrients_1[For], Nutrients_2[[#This Row],[For]], Nutrients_1[Active], "1"), " ") -> 41.566667 | AU11: =IFERROR(AVERAGEIFS(Nutrients_1[V:Potassium], Nutrients_1[For], Nutrients_2[[#This Row],[For]], Nutrients_1[Active], "1"), " ") -> 248.93333 | AV11: =IFERROR(AVERAGEIFS(Nutrients_1[V:Calcium], Nutrients_1[For], Nutrients_2[[#This Row],[For]], Nutrients_1[Active], "1"), " ") -> 127.4 | AW11: =IFERROR(AVERAGEIFS(Nutrients_1[V:Magnesium], Nutrients_1[For], Nutrients_2[[#This Row],[For]], Nutrients_1[Active], "1"), " ") -> 40.733333 | AX11: =IFERROR(AVERAGEIFS(Nutrients_1[V:Sulfur], Nutrients_1[For], Nutrients_2[[#This Row],[For]], Nutrients_1[Active], "1"), " ") -> 58.6 | AY11: =IFERROR(AVERAGEIFS(Nutrients_1[V:Iron], Nutrients_1[For], Nutrients_2[[#This Row],[For]], Nutrients_1[Active], "1"), " ") -> 2.5 | AZ11: =IFERROR(AVERAGEIFS(Nutrients_1[V:Manganese], Nutrients_1[For], Nutrients_2[[#This Row],[For]], Nutrients_1[Active], "1"), " ") -> 0.41666667 | BA11: =IFERROR(AVERAGEIFS(Nutrients_1[V:Zinc], Nutrients_1[For], Nutrients_2[[#This Row],[For]], Nutrients_1[Active], "1"), " ") -> 0.17666667 | BB11: =IFERROR(AVERAGEIFS(Nutrients_1[V:Boron], Nutrients_1[For], Nutrients_2[[#This Row],[For]], Nutrients_1[Active], "1"), " ") -> 0.35333333 | BC11: =IFERROR(AVERAGEIFS(Nutrients_1[V:Copper], Nutrients_1[For], Nutrients_2[[#This Row],[For]], Nutrients_1[Active], "1"), " ") -> 0.10766667 | BD11: =IFERROR(AVERAGEIFS(Nutrients_1[V:Molybdenum], Nutrients_1[For], Nutrients_2[[#This Row],[For]], Nutrients_1[Active], "1"), " ") -> 0.031333333 | BE11: =IFERROR(AVERAGEIFS(Nutrients_1[V:Cl], Nutrients_1[For], Nutrients_2[[#This Row],[For]], Nutrients_1[Active], "1"), " ") -> 2.7
A12: Ocimum basilicum | B12: 1 | D12: =IF(Nutrients_1[[#This Row],[EC (min)]]="", "", IFERROR(VALUE(Nutrients_1[[#This Row],[EC (min)]]), "")) | F12: =IF(Nutrients_1[[#This Row],[EC (max)]]="", "", IFERROR(VALUE(Nutrients_1[[#This Row],[EC (max)]]), "")) | H12: {=_xlfn.LET(_xlpm.data, _xlfn.SINGLE(Nutrients_1[pH (min)]), IF(_xlpm.data="", "", IFERROR(VALUE(_xlpm.data), "")))} | J12: {=_xlfn.LET(_xlpm.data, _xlfn.SINGLE(Nutrients_1[pH (max)]), IF(_xlpm.data="", "", IFERROR(VALUE(_xlpm.data), "")))} | K12: 210 | L12: {=_xlfn.LET(_xlpm.data, _xlfn.SINGLE(Nutrients_1[Nitrogen]), IF(_xlpm.data="", "", IFERROR(VALUE(_xlpm.data), "")))} -> 210 | M12: 31 | N12: =IF(Nutrients_1[[#This Row],[Phosphorus]]="", "", IFERROR(VALUE(Nutrients_1[[#This Row],[Phosphorus]]), "")) -> 31 | O12: 235 | P12: =IF(Nutrients_1[[#This Row],[Potassium]]="", "", IFERROR(VALUE(Nutrients_1[[#This Row],[Potassium]]), "")) -> 235 | Q12: 200 | R12: =IF(Nutrients_1[[#This Row],[Calcium]]="", "", IFERROR(VALUE(Nutrients_1[[#This Row],[Calcium]]), "")) -> 200 | S12: 49 | T12: {=_xlfn.LET(_xlpm.data, Nutrients_1[[#This Row],[Magnesium]], IF(_xlpm.data="", "", IFERROR(VALUE(_xlpm.data), "")))} -> 49 | U12: 64 | V12: {=_xlfn.LET(_xlpm.data, Nutrients_1[[#This Row],[Sulfur]], IF(_xlpm.data="", "", IFERROR(VALUE(_xlpm.data), "")))} -> 64 | W12: 4.0 | X12: {=_xlfn.LET(_xlpm.data, Nutrients_1[[#This Row],[Iron]], IF(_xlpm.data="", "", IFERROR(VALUE(_xlpm.data), "")))} -> 4 | Y12: 0.5 | Z12: {=_xlfn.LET(_xlpm.data, Nutrients_1[[#This Row],[Manganese]], IF(_xlpm.data="", "", IFERROR(VALUE(_xlpm.data), "")))} -> 0.5 | AA12: 0.1 | AB12: {=_xlfn.LET(_xlpm.data, Nutrients_1[[#This Row],[Zinc]], IF(_xlpm.data="", "", IFERROR(VALUE(_xlpm.data), "")))} -> 0.1 | AC12: 0.5 | AD12: {=_xlfn.LET(_xlpm.data, Nutrients_1[[#This Row],[Boron]], IF(_xlpm.data="", "", IFERROR(VALUE(_xlpm.data), "")))} -> 0.5 | AE12: 0.10 | AF12: {=_xlfn.LET(_xlpm.data, Nutrients_1[[#This Row],[Copper]], IF(_xlpm.data="", "", IFERROR(VALUE(_xlpm.data), "")))} -> 0.1 | AG12: 0.01 | AH12: {=_xlfn.LET(_xlpm.data, Nutrients_1[[#This Row],[Molybdenum]], IF(_xlpm.data="", "", IFERROR(VALUE(_xlpm.data), "")))} -> 0.01 | AJ12: {=_xlfn.LET(_xlpm.data, Nutrients_1[[#This Row],[Cl]], IF(_xlpm.data="", "", IFERROR(VALUE(_xlpm.data), "")))} | AK12: Symptoms of Common Nutrient Deficiencies in Hydroponic Basil by Neil Mattson and Tanya Merrill | AM12: Lactuca sativa | AN12: {=_xlfn.LET(_xlpm.value, OFFSET(INDIRECT(ADDRESS(ROW(), COLUMN())), 0, -1), IF(_xlpm.value="", " ", _xlpm.value))} -> Lactuca sativa | AO12: =IFERROR(AVERAGEIFS(Nutrients_1[V:pH (min)], Nutrients_1[For], Nutrients_2[[#This Row],[For]], Nutrients_1[Active], "1"), " ") -> 5.5 | AP12: =IFERROR(AVERAGEIFS(Nutrients_1[V:pH (max)], Nutrients_1[For], Nutrients_2[[#This Row],[For]], Nutrients_1[Active], "1"), " ") -> 6 | AQ12: =IFERROR(AVERAGEIFS(Nutrients_1[V:EC (min)], Nutrients_1[For], Nutrients_2[[#This Row],[For]], Nutrients_1[Active], "1"), " ") | AR12: =IFERROR(AVERAGEIFS(Nutrients_1[V:EC (max)], Nutrients_1[For], Nutrients_2[[#This Row],[For]], Nutrients_1[Active], "1"), " ") | AS12: =IFERROR(AVERAGEIFS(Nutrients_1[V:Nitrogen], Nutrients_1[For], Nutrients_2[[#This Row],[For]], Nutrients_1[Active], "1"), " ") -> 150 | AT12: =IFERROR(AVERAGEIFS(Nutrients_1[V:Phosphorus], Nutrients_1[For], Nutrients_2[[#This Row],[For]], Nutrients_1[Active], "1"), " ") -> 31 | AU12: =IFERROR(AVERAGEIFS(Nutrients_1[V:Potassium], Nutrients_1[For], Nutrients_2[[#This Row],[For]], Nutrients_1[Active], "1"), " ") -> 210 | AV12: =IFERROR(AVERAGEIFS(Nutrients_1[V:Calcium], Nutrients_1[For], Nutrients_2[[#This Row],[For]], Nutrients_1[Active], "1"), " ") -> 90 | AW12: =IFERROR(AVERAGEIFS(Nutrients_1[V:Magnesium], Nutrients_1[For], Nutrients_2[[#This Row],[For]], Nutrients_1[Active], "1"), " ") -> 24 | AX12: =IFERROR(AVERAGEIFS(Nutrients_1[V:Sulfur], Nutrients_1[For], Nutrients_2[[#This Row],[For]], Nutrients_1[Active], "1"), " ") -> 0 | AY12: =IFERROR(AVERAGEIFS(Nutrients_1[V:Iron], Nutrients_1[For], Nutrients_2[[#This Row],[For]], Nutrients_1[Active], "1"), " ") -> 1 | AZ12: =IFERROR(AVERAGEIFS(Nutrients_1[V:Manganese], Nutrients_1[For], Nutrients_2[[#This Row],[For]], Nutrients_1[Active], "1"), " ") -> 0.25 | BA12: =IFERROR(AVERAGEIFS(Nutrients_1[V:Zinc], Nutrients_1[For], Nutrients_2[[#This Row],[For]], Nutrients_1[Active], "1"), " ") -> 0.13 | BB12: =IFERROR(AVERAGEIFS(Nutrients_1[V:Boron], Nutrients_1[For], Nutrients_2[[#This Row],[For]], Nutrients_1[Active], "1"), " ") -> 0.16 | BC12: =IFERROR(AVERAGEIFS(Nutrients_1[V:Copper], Nutrients_1[For], Nutrients_2[[#This Row],[For]], Nutrients_1[Active], "1"), " ") -> 0.02 | BD12: =IFERROR(AVERAGEIFS(Nutrients_1[V:Molybdenum], Nutrients_1[For], Nutrients_2[[#This Row],[For]], Nutrients_1[Active], "1"), " ") -> 0.02 | BE12: =IFERROR(AVERAGEIFS(Nutrients_1[V:Cl], Nutrients_1[For], Nutrients_2[[#This Row],[For]], Nutrients_1[Active], "1"), " ")
A13: Ocimum basilicum | B13: 1 | C13: 0.5 | D13: =IF(Nutrients_1[[#This Row],[EC (min)]]="", "", IFERROR(VALUE(Nutrients_1[[#This Row],[EC (min)]]), "")) -> 0.5 | E13: 1.5 | F13: =IF(Nutrients_1[[#This Row],[EC (max)]]="", "", IFERROR(VALUE(Nutrients_1[[#This Row],[EC (max)]]), "")) -> 1.5 | G13: 5.8 | H13: {=_xlfn.LET(_xlpm.data, _xlfn.SINGLE(Nutrients_1[pH (min)]), IF(_xlpm.data="", "", IFERROR(VALUE(_xlpm.data), "")))} -> 5.8 | I13: 6.2 | J13: {=_xlfn.LET(_xlpm.data, _xlfn.SINGLE(Nutrients_1[pH (max)]), IF(_xlpm.data="", "", IFERROR(VALUE(_xlpm.data), "")))} -> 6.2 | K13: 150 | L13: {=_xlfn.LET(_xlpm.data, _xlfn.SINGLE(Nutrients_1[Nitrogen]), IF(_xlpm.data="", "", IFERROR(VALUE(_xlpm.data), "")))} -> 150 | M13: 62.7 | N13: =IF(Nutrients_1[[#This Row],[Phosphorus]]="", "", IFERROR(VALUE(Nutrients_1[[#This Row],[Phosphorus]]), "")) -> 62.7 | O13: 301.8 | P13: =IF(Nutrients_1[[#This Row],[Potassium]]="", "", IFERROR(VALUE(Nutrients_1[[#This Row],[Potassium]]), "")) -> 301.8 | Q13: 92.2 | R13: =IF(Nutrients_1[[#This Row],[Calcium]]="", "", IFERROR(VALUE(Nutrients_1[[#This Row],[Calcium]]), "")) -> 92.2 | S13: 49.2 | T13: {=_xlfn.LET(_xlpm.data, Nutrients_1[[#This Row],[Magnesium]], IF(_xlpm.data="", "", IFERROR(VALUE(_xlpm.data), "")))} -> 49.2 | U13: 53.2 | V13: {=_xlfn.LET(_xlpm.data, Nutrients_1[[#This Row],[Sulfur]], IF(_xlpm.data="", "", IFERROR(VALUE(_xlpm.data), "")))} -> 53.2 | W13: 2.5 | X13: {=_xlfn.LET(_xlpm.data, Nutrients_1[[#This Row],[Iron]], IF(_xlpm.data="", "", IFERROR(VALUE(_xlpm.data), "")))} -> 2.5 | Y13: 0.5 | Z13: {=_xlfn.LET(_xlpm.data, Nutrients_1[[#This Row],[Manganese]], IF(_xlpm.data="", "", IFERROR(VALUE(_xlpm.data), "")))} -> 0.5 | AA13: 0.3 | AB13: {=_xlfn.LET(_xlpm.data, Nutrients_1[[#This Row],[Zinc]], IF(_xlpm.data="", "", IFERROR(VALUE(_xlpm.data), "")))} -> 0.3 | AC13: 0.4 | AD13: {=_xlfn.LET(_xlpm.data, Nutrients_1[[#This Row],[Boron]], IF(_xlpm.data="", "", IFERROR(VALUE(_xlpm.data), "")))} -> 0.4 | AE13: 0.2 | AF13: {=_xlfn.LET(_xlpm.data, Nutrients_1[[#This Row],[Copper]], IF(_xlpm.data="", "", IFERROR(VALUE(_xlpm.data), "")))} -> 0.2 | AG13: 0.06 | AH13: {=_xlfn.LET(_xlpm.data, Nutrients_1[[#This Row],[Molybdenum]], IF(_xlpm.data="", "", IFERROR(VALUE(_xlpm.data), "")))} -> 0.06 | AI13: 2.7 | AJ13: {=_xlfn.LET(_xlpm.data, Nutrients_1[[#This Row],[Cl]], IF(_xlpm.data="", "", IFERROR(VALUE(_xlpm.data), "")))} -> 2.7 | AK13: MU Hydroponic Nutrient Solution Calculator -Basil from e-Gro publication (nutritional monitoring series vol 1 No 14 April 2018). pH range 5.8 to 6.2: below pH iron toxicity and above pH iron deficiency. Magnesium critical for basil. Too much N promote excessive vegetative growth and lowers oil content by 28%. From Solis-Taopanta et al. 2020 https://doi.org/10.21273/HORTSCI14727-19 took the P to Cl elements recommendations. Left N at 150 according to the Egro article. Solis-Taopanta article suggested 178 ppm N but I don't want to risk lower oil content. | AL13: ... | AN13: {=_xlfn.LET(_xlpm.value, OFFSET(INDIRECT(ADDRESS(ROW(), COLUMN())), 0, -1), IF(_xlpm.value="", " ", _xlpm.value))} | AO13: =IFERROR(AVERAGEIFS(Nutrients_1[V:pH (min)], Nutrients_1[For], Nutrients_2[[#This Row],[For]], Nutrients_1[Active], "1"), " ") | AP13: =IFERROR(AVERAGEIFS(Nutrients_1[V:pH (max)], Nutrients_1[For], Nutrients_2[[#This Row],[For]], Nutrients_1[Active], "1"), " ") | AQ13: =IFERROR(AVERAGEIFS(Nutrients_1[V:EC (min)], Nutrients_1[For], Nutrients_2[[#This Row],[For]], Nutrients_1[Active], "1"), " ") | AR13: =IFERROR(AVERAGEIFS(Nutrients_1[V:EC (max)], Nutrients_1[For], Nutrients_2[[#This Row],[For]], Nutrients_1[Active], "1"), " ") | AS13: =IFERROR(AVERAGEIFS(Nutrients_1[V:Nitrogen], Nutrients_1[For], Nutrients_2[[#This Row],[For]], Nutrients_1[Active], "1"), " ") | AT13: =IFERROR(AVERAGEIFS(Nutrients_1[V:Phosphorus], Nutrients_1[For], Nutrients_2[[#This Row],[For]], Nutrients_1[Active], "1"), " ") | AU13: =IFERROR(AVERAGEIFS(Nutrients_1[V:Potassium], Nutrients_1[For], Nutrients_2[[#This Row],[For]], Nutrients_1[Active], "1"), " ") | AV13: =IFERROR(AVERAGEIFS(Nutrients_1[V:Calcium], Nutrients_1[For], Nutrients_2[[#This Row],[For]], Nutrients_1[Active], "1"), " ") | AW13: =IFERROR(AVERAGEIFS(Nutrients_1[V:Magnesium], Nutrients_1[For], Nutrients_2[[#This Row],[For]], Nutrients_1[Active], "1"), " ") | AX13: =IFERROR(AVERAGEIFS(Nutrients_1[V:Sulfur], Nutrients_1[For], Nutrients_2[[#This Row],[For]], Nutrients_1[Active], "1"), " ") | AY13: =IFERROR(AVERAGEIFS(Nutrients_1[V:Iron], Nutrients_1[For], Nutrients_2[[#This Row],[For]], Nutrients_1[Active], "1"), " ") | AZ13: =IFERROR(AVERAGEIFS(Nutrients_1[V:Manganese], Nutrients_1[For], Nutrients_2[[#This Row],[For]], Nutrients_1[Active], "1"), " ") | BA13: =IFERROR(AVERAGEIFS(Nutrients_1[V:Zinc], Nutrients_1[For], Nutrients_2[[#This Row],[For]], Nutrients_1[Active], "1"), " ") | BB13: =IFERROR(AVERAGEIFS(Nutrients_1[V:Boron], Nutrients_1[For], Nutrients_2[[#This Row],[For]], Nutrients_1[Active], "1"), " ") | BC13: =IFERROR(AVERAGEIFS(Nutrients_1[V:Copper], Nutrients_1[For], Nutrients_2[[#This Row],[For]], Nutrients_1[Active], "1"), " ") | BD13: =IFERROR(AVERAGEIFS(Nutrients_1[V:Molybdenum], Nutrients_1[For], Nutrients_2[[#This Row],[For]], Nutrients_1[Active], "1"), " ") | BE13: =IFERROR(AVERAGEIFS(Nutrients_1[V:Cl], Nutrients_1[For], Nutrients_2[[#This Row],[For]], Nutrients_1[Active], "1"), " ")
A14: Lactuca sativa | B14: 1 | D14: =IF(Nutrients_1[[#This Row],[EC (min)]]="", "", IFERROR(VALUE(Nutrients_1[[#This Row],[EC (min)]]), "")) | F14: =IF(Nutrients_1[[#This Row],[EC (max)]]="", "", IFERROR(VALUE(Nutrients_1[[#This Row],[EC (max)]]), "")) | G14: 5.5 | H14: {=_xlfn.LET(_xlpm.data, _xlfn.SINGLE(Nutrients_1[pH (min)]), IF(_xlpm.data="", "", IFERROR(VALUE(_xlpm.data), "")))} -> 5.5 | I14: 6.0 | J14: {=_xlfn.LET(_xlpm.data, _xlfn.SINGLE(Nutrients_1[pH (max)]), IF(_xlpm.data="", "", IFERROR(VALUE(_xlpm.data), "")))} -> 6 | K14: 150 | L14: {=_xlfn.LET(_xlpm.data, _xlfn.SINGLE(Nutrients_1[Nitrogen]), IF(_xlpm.data="", "", IFERROR(VALUE(_xlpm.data), "")))} -> 150 | M14: 31 | N14: =IF(Nutrients_1[[#This Row],[Phosphorus]]="", "", IFERROR(VALUE(Nutrients_1[[#This Row],[Phosphorus]]), "")) -> 31 | O14: 210 | P14: =IF(Nutrients_1[[#This Row],[Potassium]]="", "", IFERROR(VALUE(Nutrients_1[[#This Row],[Potassium]]), "")) -> 210 | Q14: 90 | R14: =IF(Nutrients_1[[#This Row],[Calcium]]="", "", IFERROR(VALUE(Nutrients_1[[#This Row],[Calcium]]), "")) -> 90 | S14: 24 | T14: {=_xlfn.LET(_xlpm.data, Nutrients_1[[#This Row],[Magnesium]], IF(_xlpm.data="", "", IFERROR(VALUE(_xlpm.data), "")))} -> 24 | U14: 0 | V14: {=_xlfn.LET(_xlpm.data, Nutrients_1[[#This Row],[Sulfur]], IF(_xlpm.data="", "", IFERROR(VALUE(_xlpm.data), "")))} -> 0 | W14: 1 | X14: {=_xlfn.LET(_xlpm.data, Nutrients_1[[#This Row],[Iron]], IF(_xlpm.data="", "", IFERROR(VALUE(_xlpm.data), "")))} -> 1 | Y14: 0.25 | Z14: {=_xlfn.LET(_xlpm.data, Nutrients_1[[#This Row],[Manganese]], IF(_xlpm.data="", "", IFERROR(VALUE(_xlpm.data), "")))} -> 0.25 | AA14: 0.13 | AB14: {=_xlfn.LET(_xlpm.data, Nutrients_1[[#This Row],[Zinc]], IF(_xlpm.data="", "", IFERROR(VALUE(_xlpm.data), "")))} -> 0.13 | AC14: 0.16 | AD14: {=_xlfn.LET(_xlpm.data, Nutrients_1[[#This Row],[Boron]], IF(_xlpm.data="", "", IFERROR(VALUE(_xlpm.data), "")))} -> 0.16 | AE14: 0.02 | AF14: {=_xlfn.LET(_xlpm.data, Nutrients_1[[#This Row],[Copper]], IF(_xlpm.data="", "", IFERROR(VALUE(_xlpm.data), "")))} -> 0.02 | AG14: 0.02 | AH14: {=_xlfn.LET(_xlpm.data, Nutrients_1[[#This Row],[Molybdenum]], IF(_xlpm.data="", "", IFERROR(VALUE(_xlpm.data), "")))} -> 0.02 | AJ14: {=_xlfn.LET(_xlpm.data, Nutrients_1[[#This Row],[Cl]], IF(_xlpm.data="", "", IFERROR(VALUE(_xlpm.data), "")))} | AK14: MU Hydroponic Nutrient Solution Calculator -Lettuce Modified Sonneveld from Mattson N. & Peters, C. "A Recipe for Hydroponic Success" http://hort.cornell.edu/greenhouse/crops/factsheets/hydroponic-recipes.pdf. | AL14: ... | AN14: {=_xlfn.LET(_xlpm.value, OFFSET(INDIRECT(ADDRESS(ROW(), COLUMN())), 0, -1), IF(_xlpm.value="", " ", _xlpm.value))} | AO14: =IFERROR(AVERAGEIFS(Nutrients_1[V:pH (min)], Nutrients_1[For], Nutrients_2[[#This Row],[For]], Nutrients_1[Active], "1"), " ") | AP14: =IFERROR(AVERAGEIFS(Nutrients_1[V:pH (max)], Nutrients_1[For], Nutrients_2[[#This Row],[For]], Nutrients_1[Active], "1"), " ") | AQ14: =IFERROR(AVERAGEIFS(Nutrients_1[V:EC (min)], Nutrients_1[For], Nutrients_2[[#This Row],[For]], Nutrients_1[Active], "1"), " ") | AR14: =IFERROR(AVERAGEIFS(Nutrients_1[V:EC (max)], Nutrients_1[For], Nutrients_2[[#This Row],[For]], Nutrients_1[Active], "1"), " ") | AS14: =IFERROR(AVERAGEIFS(Nutrients_1[V:Nitrogen], Nutrients_1[For], Nutrients_2[[#This Row],[For]], Nutrients_1[Active], "1"), " ") | AT14: =IFERROR(AVERAGEIFS(Nutrients_1[V:Phosphorus], Nutrients_1[For], Nutrients_2[[#This Row],[For]], Nutrients_1[Active], "1"), " ") | AU14: =IFERROR(AVERAGEIFS(Nutrients_1[V:Potassium], Nutrients_1[For], Nutrients_2[[#This Row],[For]], Nutrients_1[Active], "1"), " ") | AV14: =IFERROR(AVERAGEIFS(Nutrients_1[V:Calcium], Nutrients_1[For], Nutrients_2[[#This Row],[For]], Nutrients_1[Active], "1"), " ") | AW14: =IFERROR(AVERAGEIFS(Nutrients_1[V:Magnesium], Nutrients_1[For], Nutrients_2[[#This Row],[For]], Nutrients_1[Active], "1"), " ") | AX14: =IFERROR(AVERAGEIFS(Nutrients_1[V:Sulfur], Nutrients_1[For], Nutrients_2[[#This Row],[For]], Nutrients_1[Active], "1"), " ") | AY14: =IFERROR(AVERAGEIFS(Nutrients_1[V:Iron], Nutrients_1[For], Nutrients_2[[#This Row],[For]], Nutrients_1[Active], "1"), " ") | AZ14: =IFERROR(AVERAGEIFS(Nutrients_1[V:Manganese], Nutrients_1[For], Nutrients_2[[#This Row],[For]], Nutrients_1[Active], "1"), " ") | BA14: =IFERROR(AVERAGEIFS(Nutrients_1[V:Zinc], Nutrients_1[For], Nutrients_2[[#This Row],[For]], Nutrients_1[Active], "1"), " ") | BB14: =IFERROR(AVERAGEIFS(Nutrients_1[V:Boron], Nutrients_1[For], Nutrients_2[[#This Row],[For]], Nutrients_1[Active], "1"), " ") | BC14: =IFERROR(AVERAGEIFS(Nutrients_1[V:Copper], Nutrients_1[For], Nutrients_2[[#This Row],[For]], Nutrients_1[Active], "1"), " ") | BD14: =IFERROR(AVERAGEIFS(Nutrients_1[V:Molybdenum], Nutrients_1[For], Nutrients_2[[#This Row],[For]], Nutrients_1[Active], "1"), " ") | BE14: =IFERROR(AVERAGEIFS(Nutrients_1[V:Cl], Nutrients_1[For], Nutrients_2[[#This Row],[For]], Nutrients_1[Active], "1"), " ")
D15: =IF(Nutrients_1[[#This Row],[EC (min)]]="", "", IFERROR(VALUE(Nutrients_1[[#This Row],[EC (min)]]), "")) | F15: =IF(Nutrients_1[[#This Row],[EC (max)]]="", "", IFERROR(VALUE(Nutrients_1[[#This Row],[EC (max)]]), "")) | H15: {=_xlfn.LET(_xlpm.data, _xlfn.SINGLE(Nutrients_1[pH (min)]), IF(_xlpm.data="", "", IFERROR(VALUE(_xlpm.data), "")))} | J15: {=_xlfn.LET(_xlpm.data, _xlfn.SINGLE(Nutrients_1[pH (max)]), IF(_xlpm.data="", "", IFERROR(VALUE(_xlpm.data), "")))} | L15: {=_xlfn.LET(_xlpm.data, _xlfn.SINGLE(Nutrients_1[Nitrogen]), IF(_xlpm.data="", "", IFERROR(VALUE(_xlpm.data), "")))} | N15: =IF(Nutrients_1[[#This Row],[Phosphorus]]="", "", IFERROR(VALUE(Nutrients_1[[#This Row],[Phosphorus]]), "")) | P15: =IF(Nutrients_1[[#This Row],[Potassium]]="", "", IFERROR(VALUE(Nutrients_1[[#This Row],[Potassium]]), "")) | R15: =IF(Nutrients_1[[#This Row],[Calcium]]="", "", IFERROR(VALUE(Nutrients_1[[#This Row],[Calcium]]), "")) | T15: {=_xlfn.LET(_xlpm.data, Nutrients_1[[#This Row],[Magnesium]], IF(_xlpm.data="", "", IFERROR(VALUE(_xlpm.data), "")))} | V15: {=_xlfn.LET(_xlpm.data, Nutrients_1[[#This Row],[Sulfur]], IF(_xlpm.data="", "", IFERROR(VALUE(_xlpm.data), "")))} | X15: {=_xlfn.LET(_xlpm.data, Nutrients_1[[#This Row],[Iron]], IF(_xlpm.data="", "", IFERROR(VALUE(_xlpm.data), "")))} | Z15: {=_xlfn.LET(_xlpm.data, Nutrients_1[[#This Row],[Manganese]], IF(_xlpm.data="", "", IFERROR(VALUE(_xlpm.data), "")))} | AB15: {=_xlfn.LET(_xlpm.data, Nutrients_1[[#This Row],[Zinc]], IF(_xlpm.data="", "", IFERROR(VALUE(_xlpm.data), "")))} | AD15: {=_xlfn.LET(_xlpm.data, Nutrients_1[[#This Row],[Boron]], IF(_xlpm.data="", "", IFERROR(VALUE(_xlpm.data), "")))} | AF15: {=_xlfn.LET(_xlpm.data, Nutrients_1[[#This Row],[Copper]], IF(_xlpm.data="", "", IFERROR(VALUE(_xlpm.data), "")))} | AH15: {=_xlfn.LET(_xlpm.data, Nutrients_1[[#This Row],[Molybdenum]], IF(_xlpm.data="", "", IFERROR(VALUE(_xlpm.data), "")))} | AJ15: {=_xlfn.LET(_xlpm.data, Nutrients_1[[#This Row],[Cl]], IF(_xlpm.data="", "", IFERROR(VALUE(_xlpm.data), "")))} | AN15: {=_xlfn.LET(_xlpm.value, OFFSET(INDIRECT(ADDRESS(ROW(), COLUMN())), 0, -1), IF(_xlpm.value="", " ", _xlpm.value))} | AO15: =IFERROR(AVERAGEIFS(Nutrients_1[V:pH (min)], Nutrients_1[For], Nutrients_2[[#This Row],[For]], Nutrients_1[Active], "1"), " ") | AP15: =IFERROR(AVERAGEIFS(Nutrients_1[V:pH (max)], Nutrients_1[For], Nutrients_2[[#This Row],[For]], Nutrients_1[Active], "1"), " ") | AQ15: =IFERROR(AVERAGEIFS(Nutrients_1[V:EC (min)], Nutrients_1[For], Nutrients_2[[#This Row],[For]], Nutrients_1[Active], "1"), " ") | AR15: =IFERROR(AVERAGEIFS(Nutrients_1[V:EC (max)], Nutrients_1[For], Nutrients_2[[#This Row],[For]], Nutrients_1[Active], "1"), " ") | AS15: =IFERROR(AVERAGEIFS(Nutrients_1[V:Nitrogen], Nutrients_1[For], Nutrients_2[[#This Row],[For]], Nutrients_1[Active], "1"), " ") | AT15: =IFERROR(AVERAGEIFS(Nutrients_1[V:Phosphorus], Nutrients_1[For], Nutrients_2[[#This Row],[For]], Nutrients_1[Active], "1"), " ") | AU15: =IFERROR(AVERAGEIFS(Nutrients_1[V:Potassium], Nutrients_1[For], Nutrients_2[[#This Row],[For]], Nutrients_1[Active], "1"), " ") | AV15: =IFERROR(AVERAGEIFS(Nutrients_1[V:Calcium], Nutrients_1[For], Nutrients_2[[#This Row],[For]], Nutrients_1[Active], "1"), " ") | AW15: =IFERROR(AVERAGEIFS(Nutrients_1[V:Magnesium], Nutrients_1[For], Nutrients_2[[#This Row],[For]], Nutrients_1[Active], "1"), " ") | AX15: =IFERROR(AVERAGEIFS(Nutrients_1[V:Sulfur], Nutrients_1[For], Nutrients_2[[#This Row],[For]], Nutrients_1[Active], "1"), " ") | AY15: =IFERROR(AVERAGEIFS(Nutrients_1[V:Iron], Nutrients_1[For], Nutrients_2[[#This Row],[For]], Nutrients_1[Active], "1"), " ") | AZ15: =IFERROR(AVERAGEIFS(Nutrients_1[V:Manganese], Nutrients_1[For], Nutrients_2[[#This Row],[For]], Nutrients_1[Active], "1"), " ") | BA15: =IFERROR(AVERAGEIFS(Nutrients_1[V:Zinc], Nutrients_1[For], Nutrients_2[[#This Row],[For]], Nutrients_1[Active], "1"), " ") | BB15: =IFERROR(AVERAGEIFS(Nutrients_1[V:Boron], Nutrients_1[For], Nutrients_2[[#This Row],[For]], Nutrients_1[Active], "1"), " ") | BC15: =IFERROR(AVERAGEIFS(Nutrients_1[V:Copper], Nutrients_1[For], Nutrients_2[[#This Row],[For]], Nutrients_1[Active], "1"), " ") | BD15: =IFERROR(AVERAGEIFS(Nutrients_1[V:Molybdenum], Nutrients_1[For], Nutrients_2[[#This Row],[For]], Nutrients_1[Active], "1"), " ") | BE15: =IFERROR(AVERAGEIFS(Nutrients_1[V:Cl], Nutrients_1[For], Nutrients_2[[#This Row],[For]], Nutrients_1[Active], "1"), " ")
D16: =IF(Nutrients_1[[#This Row],[EC (min)]]="", "", IFERROR(VALUE(Nutrients_1[[#This Row],[EC (min)]]), "")) | F16: =IF(Nutrients_1[[#This Row],[EC (max)]]="", "", IFERROR(VALUE(Nutrients_1[[#This Row],[EC (max)]]), "")) | H16: {=_xlfn.LET(_xlpm.data, _xlfn.SINGLE(Nutrients_1[pH (min)]), IF(_xlpm.data="", "", IFERROR(VALUE(_xlpm.data), "")))} | J16: {=_xlfn.LET(_xlpm.data, _xlfn.SINGLE(Nutrients_1[pH (max)]), IF(_xlpm.data="", "", IFERROR(VALUE(_xlpm.data), "")))} | L16: {=_xlfn.LET(_xlpm.data, _xlfn.SINGLE(Nutrients_1[Nitrogen]), IF(_xlpm.data="", "", IFERROR(VALUE(_xlpm.data), "")))} | N16: =IF(Nutrients_1[[#This Row],[Phosphorus]]="", "", IFERROR(VALUE(Nutrients_1[[#This Row],[Phosphorus]]), "")) | P16: =IF(Nutrients_1[[#This Row],[Potassium]]="", "", IFERROR(VALUE(Nutrients_1[[#This Row],[Potassium]]), "")) | R16: =IF(Nutrients_1[[#This Row],[Calcium]]="", "", IFERROR(VALUE(Nutrients_1[[#This Row],[Calcium]]), "")) | T16: {=_xlfn.LET(_xlpm.data, Nutrients_1[[#This Row],[Magnesium]], IF(_xlpm.data="", "", IFERROR(VALUE(_xlpm.data), "")))} | V16: {=_xlfn.LET(_xlpm.data, Nutrients_1[[#This Row],[Sulfur]], IF(_xlpm.data="", "", IFERROR(VALUE(_xlpm.data), "")))} | X16: {=_xlfn.LET(_xlpm.data, Nutrients_1[[#This Row],[Iron]], IF(_xlpm.data="", "", IFERROR(VALUE(_xlpm.data), "")))} | Z16: {=_xlfn.LET(_xlpm.data, Nutrients_1[[#This Row],[Manganese]], IF(_xlpm.data="", "", IFERROR(VALUE(_xlpm.data), "")))} | AB16: {=_xlfn.LET(_xlpm.data, Nutrients_1[[#This Row],[Zinc]], IF(_xlpm.data="", "", IFERROR(VALUE(_xlpm.data), "")))} | AD16: {=_xlfn.LET(_xlpm.data, Nutrients_1[[#This Row],[Boron]], IF(_xlpm.data="", "", IFERROR(VALUE(_xlpm.data), "")))} | AF16: {=_xlfn.LET(_xlpm.data, Nutrients_1[[#This Row],[Copper]], IF(_xlpm.data="", "", IFERROR(VALUE(_xlpm.data), "")))} | AH16: {=_xlfn.LET(_xlpm.data, Nutrients_1[[#This Row],[Molybdenum]], IF(_xlpm.data="", "", IFERROR(VALUE(_xlpm.data), "")))} | AJ16: {=_xlfn.LET(_xlpm.data, Nutrients_1[[#This Row],[Cl]], IF(_xlpm.data="", "", IFERROR(VALUE(_xlpm.data), "")))} | AN16: {=_xlfn.LET(_xlpm.value, OFFSET(INDIRECT(ADDRESS(ROW(), COLUMN())), 0, -1), IF(_xlpm.value="", " ", _xlpm.value))} | AO16: =IFERROR(AVERAGEIFS(Nutrients_1[V:pH (min)], Nutrients_1[For], Nutrients_2[[#This Row],[For]], Nutrients_1[Active], "1"), " ") | AP16: =IFERROR(AVERAGEIFS(Nutrients_1[V:pH (max)], Nutrients_1[For], Nutrients_2[[#This Row],[For]], Nutrients_1[Active], "1"), " ") | AQ16: =IFERROR(AVERAGEIFS(Nutrients_1[V:EC (min)], Nutrients_1[For], Nutrients_2[[#This Row],[For]], Nutrients_1[Active], "1"), " ") | AR16: =IFERROR(AVERAGEIFS(Nutrients_1[V:EC (max)], Nutrients_1[For], Nutrients_2[[#This Row],[For]], Nutrients_1[Active], "1"), " ") | AS16: =IFERROR(AVERAGEIFS(Nutrients_1[V:Nitrogen], Nutrients_1[For], Nutrients_2[[#This Row],[For]], Nutrients_1[Active], "1"), " ") | AT16: =IFERROR(AVERAGEIFS(Nutrients_1[V:Phosphorus], Nutrients_1[For], Nutrients_2[[#This Row],[For]], Nutrients_1[Active], "1"), " ") | AU16: =IFERROR(AVERAGEIFS(Nutrients_1[V:Potassium], Nutrients_1[For], Nutrients_2[[#This Row],[For]], Nutrients_1[Active], "1"), " ") | AV16: =IFERROR(AVERAGEIFS(Nutrients_1[V:Calcium], Nutrients_1[For], Nutrients_2[[#This Row],[For]], Nutrients_1[Active], "1"), " ") | AW16: =IFERROR(AVERAGEIFS(Nutrients_1[V:Magnesium], Nutrients_1[For], Nutrients_2[[#This Row],[For]], Nutrients_1[Active], "1"), " ") | AX16: =IFERROR(AVERAGEIFS(Nutrients_1[V:Sulfur], Nutrients_1[For], Nutrients_2[[#This Row],[For]], Nutrients_1[Active], "1"), " ") | AY16: =IFERROR(AVERAGEIFS(Nutrients_1[V:Iron], Nutrients_1[For], Nutrients_2[[#This Row],[For]], Nutrients_1[Active], "1"), " ") | AZ16: =IFERROR(AVERAGEIFS(Nutrients_1[V:Manganese], Nutrients_1[For], Nutrients_2[[#This Row],[For]], Nutrients_1[Active], "1"), " ") | BA16: =IFERROR(AVERAGEIFS(Nutrients_1[V:Zinc], Nutrients_1[For], Nutrients_2[[#This Row],[For]], Nutrients_1[Active], "1"), " ") | BB16: =IFERROR(AVERAGEIFS(Nutrients_1[V:Boron], Nutrients_1[For], Nutrients_2[[#This Row],[For]], Nutrients_1[Active], "1"), " ") | BC16: =IFERROR(AVERAGEIFS(Nutrients_1[V:Copper], Nutrients_1[For], Nutrients_2[[#This Row],[For]], Nutrients_1[Active], "1"), " ") | BD16: =IFERROR(AVERAGEIFS(Nutrients_1[V:Molybdenum], Nutrients_1[For], Nutrients_2[[#This Row],[For]], Nutrients_1[Active], "1"), " ") | BE16: =IFERROR(AVERAGEIFS(Nutrients_1[V:Cl], Nutrients_1[For], Nutrients_2[[#This Row],[For]], Nutrients_1[Active], "1"), " ")
D17: =IF(Nutrients_1[[#This Row],[EC (min)]]="", "", IFERROR(VALUE(Nutrients_1[[#This Row],[EC (min)]]), "")) | F17: =IF(Nutrients_1[[#This Row],[EC (max)]]="", "", IFERROR(VALUE(Nutrients_1[[#This Row],[EC (max)]]), "")) | H17: {=_xlfn.LET(_xlpm.data, _xlfn.SINGLE(Nutrients_1[pH (min)]), IF(_xlpm.data="", "", IFERROR(VALUE(_xlpm.data), "")))} | J17: {=_xlfn.LET(_xlpm.data, _xlfn.SINGLE(Nutrients_1[pH (max)]), IF(_xlpm.data="", "", IFERROR(VALUE(_xlpm.data), "")))} | L17: {=_xlfn.LET(_xlpm.data, _xlfn.SINGLE(Nutrients_1[Nitrogen]), IF(_xlpm.data="", "", IFERROR(VALUE(_xlpm.data), "")))} | N17: =IF(Nutrients_1[[#This Row],[Phosphorus]]="", "", IFERROR(VALUE(Nutrients_1[[#This Row],[Phosphorus]]), "")) | P17: =IF(Nutrients_1[[#This Row],[Potassium]]="", "", IFERROR(VALUE(Nutrients_1[[#This Row],[Potassium]]), "")) | R17: =IF(Nutrients_1[[#This Row],[Calcium]]="", "", IFERROR(VALUE(Nutrients_1[[#This Row],[Calcium]]), "")) | T17: {=_xlfn.LET(_xlpm.data, Nutrients_1[[#This Row],[Magnesium]], IF(_xlpm.data="", "", IFERROR(VALUE(_xlpm.data), "")))} | V17: {=_xlfn.LET(_xlpm.data, Nutrients_1[[#This Row],[Sulfur]], IF(_xlpm.data="", "", IFERROR(VALUE(_xlpm.data), "")))} | X17: {=_xlfn.LET(_xlpm.data, Nutrients_1[[#This Row],[Iron]], IF(_xlpm.data="", "", IFERROR(VALUE(_xlpm.data), "")))} | Z17: {=_xlfn.LET(_xlpm.data, Nutrients_1[[#This Row],[Manganese]], IF(_xlpm.data="", "", IFERROR(VALUE(_xlpm.data), "")))} | AB17: {=_xlfn.LET(_xlpm.data, Nutrients_1[[#This Row],[Zinc]], IF(_xlpm.data="", "", IFERROR(VALUE(_xlpm.data), "")))} | AD17: {=_xlfn.LET(_xlpm.data, Nutrients_1[[#This Row],[Boron]], IF(_xlpm.data="", "", IFERROR(VALUE(_xlpm.data), "")))} | AF17: {=_xlfn.LET(_xlpm.data, Nutrients_1[[#This Row],[Copper]], IF(_xlpm.data="", "", IFERROR(VALUE(_xlpm.data), "")))} | AH17: {=_xlfn.LET(_xlpm.data, Nutrients_1[[#This Row],[Molybdenum]], IF(_xlpm.data="", "", IFERROR(VALUE(_xlpm.data), "")))} | AJ17: {=_xlfn.LET(_xlpm.data, Nutrients_1[[#This Row],[Cl]], IF(_xlpm.data="", "", IFERROR(VALUE(_xlpm.data), "")))} | AN17: {=_xlfn.LET(_xlpm.value, OFFSET(INDIRECT(ADDRESS(ROW(), COLUMN())), 0, -1), IF(_xlpm.value="", " ", _xlpm.value))} | AO17: =IFERROR(AVERAGEIFS(Nutrients_1[V:pH (min)], Nutrients_1[For], Nutrients_2[[#This Row],[For]], Nutrients_1[Active], "1"), " ") | AP17: =IFERROR(AVERAGEIFS(Nutrients_1[V:pH (max)], Nutrients_1[For], Nutrients_2[[#This Row],[For]], Nutrients_1[Active], "1"), " ") | AQ17: =IFERROR(AVERAGEIFS(Nutrients_1[V:EC (min)], Nutrients_1[For], Nutrients_2[[#This Row],[For]], Nutrients_1[Active], "1"), " ") | AR17: =IFERROR(AVERAGEIFS(Nutrients_1[V:EC (max)], Nutrients_1[For], Nutrients_2[[#This Row],[For]], Nutrients_1[Active], "1"), " ") | AS17: =IFERROR(AVERAGEIFS(Nutrients_1[V:Nitrogen], Nutrients_1[For], Nutrients_2[[#This Row],[For]], Nutrients_1[Active], "1"), " ") | AT17: =IFERROR(AVERAGEIFS(Nutrients_1[V:Phosphorus], Nutrients_1[For], Nutrients_2[[#This Row],[For]], Nutrients_1[Active], "1"), " ") | AU17: =IFERROR(AVERAGEIFS(Nutrients_1[V:Potassium], Nutrients_1[For], Nutrients_2[[#This Row],[For]], Nutrients_1[Active], "1"), " ") | AV17: =IFERROR(AVERAGEIFS(Nutrients_1[V:Calcium], Nutrients_1[For], Nutrients_2[[#This Row],[For]], Nutrients_1[Active], "1"), " ") | AW17: =IFERROR(AVERAGEIFS(Nutrients_1[V:Magnesium], Nutrients_1[For], Nutrients_2[[#This Row],[For]], Nutrients_1[Active], "1"), " ") | AX17: =IFERROR(AVERAGEIFS(Nutrients_1[V:Sulfur], Nutrients_1[For], Nutrients_2[[#This Row],[For]], Nutrients_1[Active], "1"), " ") | AY17: =IFERROR(AVERAGEIFS(Nutrients_1[V:Iron], Nutrients_1[For], Nutrients_2[[#This Row],[For]], Nutrients_1[Active], "1"), " ") | AZ17: =IFERROR(AVERAGEIFS(Nutrients_1[V:Manganese], Nutrients_1[For], Nutrients_2[[#This Row],[For]], Nutrients_1[Active], "1"), " ") | BA17: =IFERROR(AVERAGEIFS(Nutrients_1[V:Zinc], Nutrients_1[For], Nutrients_2[[#This Row],[For]], Nutrients_1[Active], "1"), " ") | BB17: =IFERROR(AVERAGEIFS(Nutrients_1[V:Boron], Nutrients_1[For], Nutrients_2[[#This Row],[For]], Nutrients_1[Active], "1"), " ") | BC17: =IFERROR(AVERAGEIFS(Nutrients_1[V:Copper], Nutrients_1[For], Nutrients_2[[#This Row],[For]], Nutrients_1[Active], "1"), " ") | BD17: =IFERROR(AVERAGEIFS(Nutrients_1[V:Molybdenum], Nutrients_1[For], Nutrients_2[[#This Row],[For]], Nutrients_1[Active], "1"), " ") | BE17: =IFERROR(AVERAGEIFS(Nutrients_1[V:Cl], Nutrients_1[For], Nutrients_2[[#This Row],[For]], Nutrients_1[Active], "1"), " ")
D18: =IF(Nutrients_1[[#This Row],[EC (min)]]="", "", IFERROR(VALUE(Nutrients_1[[#This Row],[EC (min)]]), "")) | F18: =IF(Nutrients_1[[#This Row],[EC (max)]]="", "", IFERROR(VALUE(Nutrients_1[[#This Row],[EC (max)]]), "")) | H18: {=_xlfn.LET(_xlpm.data, _xlfn.SINGLE(Nutrients_1[pH (min)]), IF(_xlpm.data="", "", IFERROR(VALUE(_xlpm.data), "")))} | J18: {=_xlfn.LET(_xlpm.data, _xlfn.SINGLE(Nutrients_1[pH (max)]), IF(_xlpm.data="", "", IFERROR(VALUE(_xlpm.data), "")))} | L18: {=_xlfn.LET(_xlpm.data, _xlfn.SINGLE(Nutrients_1[Nitrogen]), IF(_xlpm.data="", "", IFERROR(VALUE(_xlpm.data), "")))} | N18: =IF(Nutrients_1[[#This Row],[Phosphorus]]="", "", IFERROR(VALUE(Nutrients_1[[#This Row],[Phosphorus]]), "")) | P18: =IF(Nutrients_1[[#This Row],[Potassium]]="", "", IFERROR(VALUE(Nutrients_1[[#This Row],[Potassium]]), "")) | R18: =IF(Nutrients_1[[#This Row],[Calcium]]="", "", IFERROR(VALUE(Nutrients_1[[#This Row],[Calcium]]), "")) | T18: {=_xlfn.LET(_xlpm.data, Nutrients_1[[#This Row],[Magnesium]], IF(_xlpm.data="", "", IFERROR(VALUE(_xlpm.data), "")))} | V18: {=_xlfn.LET(_xlpm.data, Nutrients_1[[#This Row],[Sulfur]], IF(_xlpm.data="", "", IFERROR(VALUE(_xlpm.data), "")))} | X18: {=_xlfn.LET(_xlpm.data, Nutrients_1[[#This Row],[Iron]], IF(_xlpm.data="", "", IFERROR(VALUE(_xlpm.data), "")))} | Z18: {=_xlfn.LET(_xlpm.data, Nutrients_1[[#This Row],[Manganese]], IF(_xlpm.data="", "", IFERROR(VALUE(_xlpm.data), "")))} | AB18: {=_xlfn.LET(_xlpm.data, Nutrients_1[[#This Row],[Zinc]], IF(_xlpm.data="", "", IFERROR(VALUE(_xlpm.data), "")))} | AD18: {=_xlfn.LET(_xlpm.data, Nutrients_1[[#This Row],[Boron]], IF(_xlpm.data="", "", IFERROR(VALUE(_xlpm.data), "")))} | AF18: {=_xlfn.LET(_xlpm.data, Nutrients_1[[#This Row],[Copper]], IF(_xlpm.data="", "", IFERROR(VALUE(_xlpm.data), "")))} | AH18: {=_xlfn.LET(_xlpm.data, Nutrients_1[[#This Row],[Molybdenum]], IF(_xlpm.data="", "", IFERROR(VALUE(_xlpm.data), "")))} | AJ18: {=_xlfn.LET(_xlpm.data, Nutrients_1[[#This Row],[Cl]], IF(_xlpm.data="", "", IFERROR(VALUE(_xlpm.data), "")))} | AN18: {=_xlfn.LET(_xlpm.value, OFFSET(INDIRECT(ADDRESS(ROW(), COLUMN())), 0, -1), IF(_xlpm.value="", " ", _xlpm.value))} | AO18: =IFERROR(AVERAGEIFS(Nutrients_1[V:pH (min)], Nutrients_1[For], Nutrients_2[[#This Row],[For]], Nutrients_1[Active], "1"), " ") | AP18: =IFERROR(AVERAGEIFS(Nutrients_1[V:pH (max)], Nutrients_1[For], Nutrients_2[[#This Row],[For]], Nutrients_1[Active], "1"), " ") | AQ18: =IFERROR(AVERAGEIFS(Nutrients_1[V:EC (min)], Nutrients_1[For], Nutrients_2[[#This Row],[For]], Nutrients_1[Active], "1"), " ") | AR18: =IFERROR(AVERAGEIFS(Nutrients_1[V:EC (max)], Nutrients_1[For], Nutrients_2[[#This Row],[For]], Nutrients_1[Active], "1"), " ") | AS18: =IFERROR(AVERAGEIFS(Nutrients_1[V:Nitrogen], Nutrients_1[For], Nutrients_2[[#This Row],[For]], Nutrients_1[Active], "1"), " ") | AT18: =IFERROR(AVERAGEIFS(Nutrients_1[V:Phosphorus], Nutrients_1[For], Nutrients_2[[#This Row],[For]], Nutrients_1[Active], "1"), " ") | AU18: =IFERROR(AVERAGEIFS(Nutrients_1[V:Potassium], Nutrients_1[For], Nutrients_2[[#This Row],[For]], Nutrients_1[Active], "1"), " ") | AV18: =IFERROR(AVERAGEIFS(Nutrients_1[V:Calcium], Nutrients_1[For], Nutrients_2[[#This Row],[For]], Nutrients_1[Active], "1"), " ") | AW18: =IFERROR(AVERAGEIFS(Nutrients_1[V:Magnesium], Nutrients_1[For], Nutrients_2[[#This Row],[For]], Nutrients_1[Active], "1"), " ") | AX18: =IFERROR(AVERAGEIFS(Nutrients_1[V:Sulfur], Nutrients_1[For], Nutrients_2[[#This Row],[For]], Nutrients_1[Active], "1"), " ") | AY18: =IFERROR(AVERAGEIFS(Nutrients_1[V:Iron], Nutrients_1[For], Nutrients_2[[#This Row],[For]], Nutrients_1[Active], "1"), " ") | AZ18: =IFERROR(AVERAGEIFS(Nutrients_1[V:Manganese], Nutrients_1[For], Nutrients_2[[#This Row],[For]], Nutrients_1[Active], "1"), " ") | BA18: =IFERROR(AVERAGEIFS(Nutrients_1[V:Zinc], Nutrients_1[For], Nutrients_2[[#This Row],[For]], Nutrients_1[Active], "1"), " ") | BB18: =IFERROR(AVERAGEIFS(Nutrients_1[V:Boron], Nutrients_1[For], Nutrients_2[[#This Row],[For]], Nutrients_1[Active], "1"), " ") | BC18: =IFERROR(AVERAGEIFS(Nutrients_1[V:Copper], Nutrients_1[For], Nutrients_2[[#This Row],[For]], Nutrients_1[Active], "1"), " ") | BD18: =IFERROR(AVERAGEIFS(Nutrients_1[V:Molybdenum], Nutrients_1[For], Nutrients_2[[#This Row],[For]], Nutrients_1[Active], "1"), " ") | BE18: =IFERROR(AVERAGEIFS(Nutrients_1[V:Cl], Nutrients_1[For], Nutrients_2[[#This Row],[For]], Nutrients_1[Active], "1"), " ")

Sheet 2026-10-01_Recipes
A10: Water Added (mL) | B10: Fertilizer | C10: Expected Plant | D10: Target PPM N | E10: Expected Fertilizer (g, min) | I10: Fertilizer | J10: Plant | K10: Water Added (mL) | L10: Fertilizer Per L
A11: 1700 | B11: 12-4-16 | C11: Ocimum basilicum | D11: 125 | E11: {=IFERROR(_xlfn.LET( _xlpm.targetN, xxx_Recipes[[#This Row],[Target PPM N]], _xlpm.fertilizerN, _xlfn.XLOOKUP(xxx_Recipes[[#This Row],[Fertilizer]], Fertilizers[Fertilizer], Fertilizers[N]) / 100, _xlpm.targetN / _xlpm.fertilizerN * xxx_Recipes[[#This Row],[Water Added (mL)]] / 1000 / 1000 ), "")} -> 1.7708333 | G11: {=_xlfn.LET( _xlpm.fertilizers,_xlfn._xlws.FILTER(_xlfn.UNIQUE(TRIM(Fertilizers[Fertilizer])),_xlfn.UNIQUE(TRIM(Fertilizers[Fertilizer]))<>""), _xlpm.nutrients,_xlfn._xlws.FILTER(_xlfn.UNIQUE(TRIM(Nutrients_2[For])),_xlfn.UNIQUE(TRIM(Nutrients_2[For]))<>""), _xlpm.data,_xlfn.MAKEARRAY( ROWS(_xlpm.fertilizers)*ROWS(_xlpm.nutrients), 2, _xlfn.LAMBDA(_xlpm.r,_xlpm.c, IF( _xlpm.c=1, INDEX(_xlpm.fertilizers,ROUNDUP(_xlpm.r/ROWS(_xlpm.nutrients),0)), INDEX(_xlpm.nutrients,MOD(_xlpm.r-1,ROWS(_xlpm.nutrients))+1) ) ) ), _xlfn.SORTBY(_xlpm.data,_xlfn.CHOOSECOLS(_xlpm.data,2),1,VALUE(_xlfn.CHOOSECOLS(_xlpm.data,1)),1) )} -> 12-4-16 | H11: Lactuca sativa | I11: {=_xlfn.LET(_xlpm.value, OFFSET(INDIRECT(ADDRESS(ROW(),COLUMN())),0,-2), IF(_xlpm.value="","",_xlpm.value))} -> 12-4-16 | J11: {=_xlfn.LET(_xlpm.value, OFFSET(INDIRECT(ADDRESS(ROW(),COLUMN())),0,-2), IF(_xlpm.value="","",_xlpm.value))} -> Lactuca sativa | K11: 1000 | L11: {=IFERROR(_xlfn.LET( _xlpm.targetN, _xlfn.XLOOKUP(xxx_Table23[[#This Row],[Plant]], Nutrients_2[For], Nutrients_2[C:Nitrogen]), _xlpm.fertilizerN, _xlfn.XLOOKUP(xxx_Table23[[#This Row],[Fertilizer]], Fertilizers[Fertilizer], Fertilizers[N]) / 100, _xlpm.targetN / _xlpm.fertilizerN * xxx_Table23[[#This Row],[Water Added (mL)]] / 1000 / 1000 ), "")} -> 1.25
G12: 12-4-16 | H12: Ocimum basilicum | I12: {=_xlfn.LET(_xlpm.value, OFFSET(INDIRECT(ADDRESS(ROW(),COLUMN())),0,-2), IF(_xlpm.value="","",_xlpm.value))} -> 12-4-16 | J12: {=_xlfn.LET(_xlpm.value, OFFSET(INDIRECT(ADDRESS(ROW(),COLUMN())),0,-2), IF(_xlpm.value="","",_xlpm.value))} -> Ocimum basilicum | K12: 1000 | L12: {=IFERROR(_xlfn.LET( _xlpm.targetN, _xlfn.XLOOKUP(xxx_Table23[[#This Row],[Plant]], Nutrients_2[For], Nutrients_2[C:Nitrogen]), _xlpm.fertilizerN, _xlfn.XLOOKUP(xxx_Table23[[#This Row],[Fertilizer]], Fertilizers[Fertilizer], Fertilizers[N]) / 100, _xlpm.targetN / _xlpm.fertilizerN * xxx_Table23[[#This Row],[Water Added (mL)]] / 1000 / 1000 ), "")} -> 1.4166667
I13: {=_xlfn.LET(_xlpm.value, OFFSET(INDIRECT(ADDRESS(ROW(),COLUMN())),0,-2), IF(_xlpm.value="","",_xlpm.value))} | J13: {=_xlfn.LET(_xlpm.value, OFFSET(INDIRECT(ADDRESS(ROW(),COLUMN())),0,-2), IF(_xlpm.value="","",_xlpm.value))} | L13: {=IFERROR(_xlfn.LET( _xlpm.targetN, _xlfn.XLOOKUP(xxx_Table23[[#This Row],[Plant]], Nutrients_2[For], Nutrients_2[C:Nitrogen]), _xlpm.fertilizerN, _xlfn.XLOOKUP(xxx_Table23[[#This Row],[Fertilizer]], Fertilizers[Fertilizer], Fertilizers[N]) / 100, _xlpm.targetN / _xlpm.fertilizerN * xxx_Table23[[#This Row],[Water Added (mL)]] / 1000 / 1000 ), "")}
I14: {=_xlfn.LET(_xlpm.value, OFFSET(INDIRECT(ADDRESS(ROW(),COLUMN())),0,-2), IF(_xlpm.value="","",_xlpm.value))} | J14: {=_xlfn.LET(_xlpm.value, OFFSET(INDIRECT(ADDRESS(ROW(),COLUMN())),0,-2), IF(_xlpm.value="","",_xlpm.value))} | L14: {=IFERROR(_xlfn.LET( _xlpm.targetN, _xlfn.XLOOKUP(xxx_Table23[[#This Row],[Plant]], Nutrients_2[For], Nutrients_2[C:Nitrogen]), _xlpm.fertilizerN, _xlfn.XLOOKUP(xxx_Table23[[#This Row],[Fertilizer]], Fertilizers[Fertilizer], Fertilizers[N]) / 100, _xlpm.targetN / _xlpm.fertilizerN * xxx_Table23[[#This Row],[Water Added (mL)]] / 1000 / 1000 ), "")}

Sheet 2026-10-04_Recipes
A2: Hydroponic Nutrient Solution Calculator
A3: Recreated from the University of Missouri Extension calculator (J. Cabrera-Garcia & R. Milhollin, 1/2026; see MU Extension g6984). Crop requirements are read from the Nutrients sheet and fertilizer analyses from the Fertilizers sheet.
A4: Cell colors: | B4: Input | C4: Result | D4: Info | E4: Educational use only; the user assumes all risks associated with its use.
A6: Crop | B6: Nutrient Volume (L) | C6: Column2 | D6: Column1
A7: Ocimum basilicum | B7: 1.7 | C7: =IF(Recipes_Crop37[[#This Row],[Crop]]="","",IFERROR(IF(ISNUMBER(INDEX(Nutrients_2[C:pH (min)],MATCH(Recipes_Crop37[[#This Row],[Crop]],Nutrients_2[For],0))),INDEX(Nutrients_2[C:pH (min)],MATCH(Recipes_Crop37[[#This Row],[Crop]],Nutrients_2[For],0)),""),"")) -> 5.8 | D7: =IF(Recipes_Crop37[[#This Row],[Crop]]="","",IFERROR(IF(ISNUMBER(INDEX(Nutrients_2[C:pH (max)],MATCH(Recipes_Crop37[[#This Row],[Crop]],Nutrients_2[For],0))),INDEX(Nutrients_2[C:pH (max)],MATCH(Recipes_Crop37[[#This Row],[Crop]],Nutrients_2[For],0)),""),"")) -> 6.2
A9: STEP 3: Select the fertilizers and input the amount dissolved in the nutrient volume above
A10: Type of fertilizer | B10: Target PPM N | C10: Target PPM P | D10: Target PPM K | E10: Amount (grams) | F10: Fertilizer (mg/L) | G10: N supplied (ppm)
A11: 12-4-16 | B11: 125 | E11: {=IF(Recipe_Input36[[#This Row],[Type of fertilizer]]="","", IFERROR( MAX( IF(N(Recipe_Input36[[#This Row],[Target PPM N]])=0,0, Recipe_Input36[[#This Row],[Target PPM N]]/(VALUE(INDEX(Fertilizers[N],MATCH(Recipe_Input36[[#This Row],[Type of fertilizer]],Fertilizers[Fertilizer],0)))/100)), IF(N(Recipe_Input36[[#This Row],[Target PPM P]])=0,0, Recipe_Input36[[#This Row],[Target PPM P]]/(VALUE(INDEX(Fertilizers[P],MATCH(Recipe_Input36[[#This Row],[Type of fertilizer]],Fertilizers[Fertilizer],0)))/100)), IF(N(Recipe_Input36[[#This Row],[Target PPM K]])=0,0, Recipe_Input36[[#This Row],[Target PPM K]]/(VALUE(INDEX(Fertilizers[K],MATCH(Recipe_Input36[[#This Row],[Type of fertilizer]],Fertilizers[Fertilizer],0)))/100)) )/1000*Recipes_Crop37[Nutrient Volume (L)], "") )} -> 1.7708333 | F11: {=IF(OR(Recipe_Input36[[#This Row],[Type of fertilizer]]="",Recipe_Input36[[#This Row],[Amount (grams)]]=""),"",IFERROR(Recipe_Input36[[#This Row],[Amount (grams)]]*1000/Recipes_Crop37[Nutrient Volume (L)],""))} -> 1041.6667 | G11: {=IFERROR(IF(Recipe_Input36[[#This Row],[Type of fertilizer]]="",0,VALUE(INDEX(Fertilizers[N],MATCH(Recipe_Input36[[#This Row],[Type of fertilizer]],Fertilizers[Fertilizer],0)))*N(Recipe_Input36[[#This Row],[Amount (grams)]])*10/Recipes_Crop37[Nutrient Volume (L)]),0)} -> 125
E12: {=IF(Recipe_Input36[[#This Row],[Type of fertilizer]]="","", IFERROR( MAX( IF(N(Recipe_Input36[[#This Row],[Target PPM N]])=0,0, Recipe_Input36[[#This Row],[Target PPM N]]/(VALUE(INDEX(Fertilizers[N],MATCH(Recipe_Input36[[#This Row],[Type of fertilizer]],Fertilizers[Fertilizer],0)))/100)), IF(N(Recipe_Input36[[#This Row],[Target PPM P]])=0,0, Recipe_Input36[[#This Row],[Target PPM P]]/(VALUE(INDEX(Fertilizers[P],MATCH(Recipe_Input36[[#This Row],[Type of fertilizer]],Fertilizers[Fertilizer],0)))/100)), IF(N(Recipe_Input36[[#This Row],[Target PPM K]])=0,0, Recipe_Input36[[#This Row],[Target PPM K]]/(VALUE(INDEX(Fertilizers[K],MATCH(Recipe_Input36[[#This Row],[Type of fertilizer]],Fertilizers[Fertilizer],0)))/100)) )/1000*Recipes_Crop37[Nutrient Volume (L)], "") )} | F12: {=IF(OR(Recipe_Input36[[#This Row],[Type of fertilizer]]="",Recipe_Input36[[#This Row],[Amount (grams)]]=""),"",IFERROR(Recipe_Input36[[#This Row],[Amount (grams)]]*1000/Recipes_Crop37[Nutrient Volume (L)],""))} | G12: {=IFERROR(IF(Recipe_Input36[[#This Row],[Type of fertilizer]]="",0,VALUE(INDEX(Fertilizers[N],MATCH(Recipe_Input36[[#This Row],[Type of fertilizer]],Fertilizers[Fertilizer],0)))*N(Recipe_Input36[[#This Row],[Amount (grams)]])*10/Recipes_Crop37[Nutrient Volume (L)]),0)} -> 0
E13: {=IF(Recipe_Input36[[#This Row],[Type of fertilizer]]="","", IFERROR( MAX( IF(N(Recipe_Input36[[#This Row],[Target PPM N]])=0,0, Recipe_Input36[[#This Row],[Target PPM N]]/(VALUE(INDEX(Fertilizers[N],MATCH(Recipe_Input36[[#This Row],[Type of fertilizer]],Fertilizers[Fertilizer],0)))/100)), IF(N(Recipe_Input36[[#This Row],[Target PPM P]])=0,0, Recipe_Input36[[#This Row],[Target PPM P]]/(VALUE(INDEX(Fertilizers[P],MATCH(Recipe_Input36[[#This Row],[Type of fertilizer]],Fertilizers[Fertilizer],0)))/100)), IF(N(Recipe_Input36[[#This Row],[Target PPM K]])=0,0, Recipe_Input36[[#This Row],[Target PPM K]]/(VALUE(INDEX(Fertilizers[K],MATCH(Recipe_Input36[[#This Row],[Type of fertilizer]],Fertilizers[Fertilizer],0)))/100)) )/1000*Recipes_Crop37[Nutrient Volume (L)], "") )} | F13: {=IF(OR(Recipe_Input36[[#This Row],[Type of fertilizer]]="",Recipe_Input36[[#This Row],[Amount (grams)]]=""),"",IFERROR(Recipe_Input36[[#This Row],[Amount (grams)]]*1000/Recipes_Crop37[Nutrient Volume (L)],""))} | G13: {=IFERROR(IF(Recipe_Input36[[#This Row],[Type of fertilizer]]="",0,VALUE(INDEX(Fertilizers[N],MATCH(Recipe_Input36[[#This Row],[Type of fertilizer]],Fertilizers[Fertilizer],0)))*N(Recipe_Input36[[#This Row],[Amount (grams)]])*10/Recipes_Crop37[Nutrient Volume (L)]),0)} -> 0
E14: {=IF(Recipe_Input36[[#This Row],[Type of fertilizer]]="","", IFERROR( MAX( IF(N(Recipe_Input36[[#This Row],[Target PPM N]])=0,0, Recipe_Input36[[#This Row],[Target PPM N]]/(VALUE(INDEX(Fertilizers[N],MATCH(Recipe_Input36[[#This Row],[Type of fertilizer]],Fertilizers[Fertilizer],0)))/100)), IF(N(Recipe_Input36[[#This Row],[Target PPM P]])=0,0, Recipe_Input36[[#This Row],[Target PPM P]]/(VALUE(INDEX(Fertilizers[P],MATCH(Recipe_Input36[[#This Row],[Type of fertilizer]],Fertilizers[Fertilizer],0)))/100)), IF(N(Recipe_Input36[[#This Row],[Target PPM K]])=0,0, Recipe_Input36[[#This Row],[Target PPM K]]/(VALUE(INDEX(Fertilizers[K],MATCH(Recipe_Input36[[#This Row],[Type of fertilizer]],Fertilizers[Fertilizer],0)))/100)) )/1000*Recipes_Crop37[Nutrient Volume (L)], "") )} | F14: {=IF(OR(Recipe_Input36[[#This Row],[Type of fertilizer]]="",Recipe_Input36[[#This Row],[Amount (grams)]]=""),"",IFERROR(Recipe_Input36[[#This Row],[Amount (grams)]]*1000/Recipes_Crop37[Nutrient Volume (L)],""))} | G14: {=IFERROR(IF(Recipe_Input36[[#This Row],[Type of fertilizer]]="",0,VALUE(INDEX(Fertilizers[N],MATCH(Recipe_Input36[[#This Row],[Type of fertilizer]],Fertilizers[Fertilizer],0)))*N(Recipe_Input36[[#This Row],[Amount (grams)]])*10/Recipes_Crop37[Nutrient Volume (L)]),0)} -> 0
E15: {=IF(Recipe_Input36[[#This Row],[Type of fertilizer]]="","", IFERROR( MAX( IF(N(Recipe_Input36[[#This Row],[Target PPM N]])=0,0, Recipe_Input36[[#This Row],[Target PPM N]]/(VALUE(INDEX(Fertilizers[N],MATCH(Recipe_Input36[[#This Row],[Type of fertilizer]],Fertilizers[Fertilizer],0)))/100)), IF(N(Recipe_Input36[[#This Row],[Target PPM P]])=0,0, Recipe_Input36[[#This Row],[Target PPM P]]/(VALUE(INDEX(Fertilizers[P],MATCH(Recipe_Input36[[#This Row],[Type of fertilizer]],Fertilizers[Fertilizer],0)))/100)), IF(N(Recipe_Input36[[#This Row],[Target PPM K]])=0,0, Recipe_Input36[[#This Row],[Target PPM K]]/(VALUE(INDEX(Fertilizers[K],MATCH(Recipe_Input36[[#This Row],[Type of fertilizer]],Fertilizers[Fertilizer],0)))/100)) )/1000*Recipes_Crop37[Nutrient Volume (L)], "") )} | F15: {=IF(OR(Recipe_Input36[[#This Row],[Type of fertilizer]]="",Recipe_Input36[[#This Row],[Amount (grams)]]=""),"",IFERROR(Recipe_Input36[[#This Row],[Amount (grams)]]*1000/Recipes_Crop37[Nutrient Volume (L)],""))} | G15: {=IFERROR(IF(Recipe_Input36[[#This Row],[Type of fertilizer]]="",0,VALUE(INDEX(Fertilizers[N],MATCH(Recipe_Input36[[#This Row],[Type of fertilizer]],Fertilizers[Fertilizer],0)))*N(Recipe_Input36[[#This Row],[Amount (grams)]])*10/Recipes_Crop37[Nutrient Volume (L)]),0)} -> 0
A17: STEP 4: Verify that the inputs from Step 3 meet the crop nutritional requirement
A18: Nutrient concentration (ppm) | B18: Total N | C18: Urea | D18: Ammonium-N | E18: Nitrate-N | F18: P | G18: K | H18: Ca | I18: Mg | J18: S | K18: B | L18: Cu | M18: Fe | N18: Mn | O18: Mo | P18: Zn | Q18: K/N
A19: =IF(INDEX(Recipe_Input36[Type of fertilizer],ROW()-ROW(Recipe_Calc31[#Headers]))="","(none selected)",INDEX(Recipe_Input36[Type of fertilizer],ROW()-ROW(Recipe_Calc31[#Headers]))) -> 12-4-16 | B19: =IFERROR(INDEX(Recipe_Input36[N supplied (ppm)],ROW()-ROW(Recipe_Calc31[#Headers]))*INDEX(Fertilizers[#Data],MATCH(INDEX(Recipe_Input36[Type of fertilizer],ROW()-ROW(Recipe_Calc31[#Headers])),Fertilizers[Fertilizer],0),MATCH(B$41,Fertilizers[#Headers],0))/100,0) -> 125 | C19: =IFERROR(INDEX(Recipe_Input36[N supplied (ppm)],ROW()-ROW(Recipe_Calc31[#Headers]))*INDEX(Fertilizers[#Data],MATCH(INDEX(Recipe_Input36[Type of fertilizer],ROW()-ROW(Recipe_Calc31[#Headers])),Fertilizers[Fertilizer],0),MATCH(C$41,Fertilizers[#Headers],0))/100,0) -> 0 | D19: =IFERROR(INDEX(Recipe_Input36[N supplied (ppm)],ROW()-ROW(Recipe_Calc31[#Headers]))*INDEX(Fertilizers[#Data],MATCH(INDEX(Recipe_Input36[Type of fertilizer],ROW()-ROW(Recipe_Calc31[#Headers])),Fertilizers[Fertilizer],0),MATCH(D$41,Fertilizers[#Headers],0))/100,0) -> 2.125 | E19: =IFERROR(INDEX(Recipe_Input36[N supplied (ppm)],ROW()-ROW(Recipe_Calc31[#Headers]))*INDEX(Fertilizers[#Data],MATCH(INDEX(Recipe_Input36[Type of fertilizer],ROW()-ROW(Recipe_Calc31[#Headers])),Fertilizers[Fertilizer],0),MATCH(E$41,Fertilizers[#Headers],0))/100,0) -> 122.875 | F19: =IFERROR(INDEX(Recipe_Input36[N supplied (ppm)],ROW()-ROW(Recipe_Calc31[#Headers]))*INDEX(Fertilizers[#Data],MATCH(INDEX(Recipe_Input36[Type of fertilizer],ROW()-ROW(Recipe_Calc31[#Headers])),Fertilizers[Fertilizer],0),MATCH(F$41,Fertilizers[#Headers],0))/100,0) -> 18.125 | G19: =IFERROR(INDEX(Recipe_Input36[N supplied (ppm)],ROW()-ROW(Recipe_Calc31[#Headers]))*INDEX(Fertilizers[#Data],MATCH(INDEX(Recipe_Input36[Type of fertilizer],ROW()-ROW(Recipe_Calc31[#Headers])),Fertilizers[Fertilizer],0),MATCH(G$41,Fertilizers[#Headers],0))/100,0) -> 138.375 | H19: =IFERROR(INDEX(Recipe_Input36[N supplied (ppm)],ROW()-ROW(Recipe_Calc31[#Headers]))*INDEX(Fertilizers[#Data],MATCH(INDEX(Recipe_Input36[Type of fertilizer],ROW()-ROW(Recipe_Calc31[#Headers])),Fertilizers[Fertilizer],0),MATCH(H$41,Fertilizers[#Headers],0))/100,0) -> 72.875 | I19: =IFERROR(INDEX(Recipe_Input36[N supplied (ppm)],ROW()-ROW(Recipe_Calc31[#Headers]))*INDEX(Fertilizers[#Data],MATCH(INDEX(Recipe_Input36[Type of fertilizer],ROW()-ROW(Recipe_Calc31[#Headers])),Fertilizers[Fertilizer],0),MATCH(I$41,Fertilizers[#Headers],0))/100,0) -> 20.875 | ... P19: =IFERROR(INDEX(Recipe_Input36[N supplied (ppm)],ROW()-ROW(Recipe_Calc31[#Headers]))*INDEX(Fertilizers[#Data],MATCH(INDEX(Recipe_Input36[Type of fertilizer],ROW()-ROW(Recipe_Calc31[#Headers])),Fertilizers[Fertilizer],0),MATCH(P$41,Fertilizers[#Headers],0))/100,0) -> 0.3625
