Workbook
Name Calc_Crops: INDEX(Nutrients_2[For],1):INDEX(Nutrients_2[For],MAX(1,SUMPRODUCT(--(TRIM(Nutrients_2[For])<>""))))
Name Calc_Crops: INDEX(Nutrients_2[For],1):INDEX(Nutrients_2[For],MAX(1,SUMPRODUCT(--(TRIM(Nutrients_2[For])<>""))))
Name Calc_Crops: INDEX(Nutrients_2[For],1):INDEX(Nutrients_2[For],MAX(1,SUMPRODUCT(--(TRIM(Nutrients_2[For])<>""))))
Name Calc_Fertilizers: INDEX(Fertilizers[Fertilizer],1):INDEX(Fertilizers[Fertilizer],MAX(1,SUMPRODUCT(--(TRIM(Fertilizers[Fertilizer])<>""))))
Name Calc_Fertilizers: INDEX(Fertilizers[Fertilizer],1):INDEX(Fertilizers[Fertilizer],MAX(1,SUMPRODUCT(--(TRIM(Fertilizers[Fertilizer])<>""))))
Name Calc_Fertilizers: INDEX(Fertilizers[Fertilizer],1):INDEX(Fertilizers[Fertilizer],MAX(1,SUMPRODUCT(--(TRIM(Fertilizers[Fertilizer])<>""))))

Sheet Procedures
A10: Id | B10: Group | C10: Type | D10: Name | E10: Description | F10: Link to Steps
A11: 1 | B11: pH | C11: default-ph | D11: General Hydroponics pH Up Adjustment | E11: General Hydroponics pH Up Adjustment
A12: 2 | B12: Seed Scarification | C12: default-ss | D12: 3% H2O2 Seed Scarification | E12: 3% H2O2 Seed Scarification
A13: 3 | B13: Water Sterilization | C13: default-ws | D13: Added 3% H2O2 for O2 | E13: Added 3% H2O2 for O2

Sheet Conversions
A1: Conversions
A10: From | B10: From (MM) | C10: To | D10: To (MM) | E10: Value
A11: Liters | C11: US Gallon | E11: 3.78541
A12: Grams | C12: Ounce | E12: 28.3495
A13: Sulfur | B13: 32.06 | C13: SO₄²⁻ | D13: 96.06 | E13: =32.06/96.06 -> 0.33374974

Sheet Containers
D1: Cube
D2: Cylinder
D3: Vase
A10: Jar | B10: Name | C10: Volume (mL) | D10: Shape | E10: Tapered Top | F10: Outer Width (mm) | G10: Outer Height (mm) | H10: Inner Lid Diameter (mm)
A11: Half-Gallon Ball Mason Jar | B11: Half-Gallon Ball Mason Jar | C11: 1892.7 | D11: Cylinder | E11: 1
A12: Cylindrical Olive Jar | B12: Cylindrical Olive Jar | C12: 371 | D12: Cylinder | E12: 0 | F12: 69 | G12: 110 | H12: 55
A13: Jelly Jar, Cube Shape | B13: Stonewall Kitchen Wild Maine Blueberry Jam | C13: 354 | D13: Cube | E13: 1 | F13: 72 | G13: 96 | H13: 53
A14: Smucker's Sugar Free Jam Jar | B14: Smucker's Sugar Free Jam Jar | C14: 361 | D14: Cylinder | E14: 1 | F14: 70 | G14: 125 | H14: 50
A15: Dr. Schroeder's 250ml Jar | B15: Dr. Schroeder's 250ml Jar | C15: 250 | D15: Vase | E15: 1

Sheet Fertilizers
D1: Cube
D2: Cylinder
D3: Vase
A10: Fertilizer | B10: Name | C10: N | D10: P | E10: K | F10: Total Nitrogen (N) | G10: Nitrate - N (NO₃) | H10: Ammonium - N (NH₄) | I10: Urea - N | J10: Phosphorus (P) | K10: Available Phosphate (P₂O₅) | L10: Potassium (K) | M10: Soluble Potash (K₂O) | N10: Calcium (Ca) | O10: Magnesium (Mg) | P10: Sulfur (S) | Q10: Boron (B) | R10: Copper (Cu) | S10: Iron (Fe) | T10: Manganese (Mn) | U10: Molybdenum (Mo) | V10: Zinc (Zn)
A11: 12-4-16 | B11: Jack's Nutrients 12-4-16 RO | C11: 12.0 | D11: 4.0 | E11: 16.0 | F11: 100 | G11: 98.3 | H11: 1.7 | I11: 0 | J11: 14.5 | K11: 33.2 | L11: 110.7 | M11: 133.4 | N11: 58.3 | O11: 16.7 | P11: 0 | Q11: 0.17 | R11: 0.17 | S11: 1.25 | T11: 0.42 | U11: 0.01 | V11: 0.29
C26: Total Nitrogen (N),Ammoniacal Nitrogen, Nitrate Nitrogen,Available Phosphate (P2O5),Soluble Potash (K2O),Calcium (Ca),Magnesium (Mg),Water Soluble Magnesium (Mg),Boron (B),Copper (Cu),Chelated Copper (Cu),Iron (Fe),Chelated Iron (Fe),Manganese (Mn),Chelated Manganese (Mn),Molybdenum (Mo),Zinc (Zn),Chelated Zinc (Zn)
C27: 12.0%,0.2%,11.8%,4.0%,16.0%,7.0%,2.0%,2.0%,0.02%,0.02%,0.02%,0.15%,0.15%,0.05%,0.05%,0.001%,0.035%,0.035%
A31: Total Nitrogen (N),Nitrate - N (NO₃),Ammonium - N (NH₄),Urea - N,Phosphorus (P),Available Phosphate (P₂O₅),Potassium (K),Soluble Potash (K₂O),Calcium (Ca),Magnesium (Mg),Sulfur (S),Boron (B),Copper (Cu),Iron (Fe),Manganese (Mn),Molybdenum (Mo),Zinc (Zn)
A32: 100.0,98.3,1.7,0.0,14.5,33.2,110.7,133.4,58.3,16.7,0.0,0.17,0.17,1.25,0.42,0.01,0.29

Sheet Nutrients
K9: PPM [N]
A10: For | B10: Active | C10: EC (min) | D10: V:EC (min) | E10: EC (max) | F10: V:EC (max) | G10: pH (min) | H10: V:pH (min) | I10: pH (max) | J10: V:pH (max) | K10: Nitrogen | L10: V:Nitrogen | M10: Phosphorus | N10: V:Phosphorus | O10: Potassium | P10: V:Potassium | Q10: Calcium | R10: V:Calcium | S10: Magnesium | T10: V:Magnesium | U10: Sulfur | V10: V:Sulfur | W10: Iron | X10: V:Iron | Y10: Manganese | Z10: V:Manganese | AA10: Zinc | AB10: V:Zinc | AC10: Boron | AD10: V:Boron | AE10: Copper | AF10: V:Copper | AG10: Molybdenum | AH10: V:Molybdenum | AI10: Cl | AJ10: V:Cl | AK10: Source | AN10: For | AO10: C:pH (min) | AP10: C:pH (max) | AQ10: C:EC (min) | AR10: C:EC (max) | AS10: C:Nitrogen | AT10: C:Phosphorus | AU10: C:Potassium | AV10: C:Calcium | AW10: C:Magnesium | AX10: C:Sulfur | AY10: C:Iron | AZ10: C:Manganese | BA10: C:Zinc | BB10: C:Boron | BC10: C:Copper | BD10: C:Molybdenum | BE10: C:Cl
A11: Ocimum basilicum | B11: 1 | D11: =IF(Nutrients_1[[#This Row],[EC (min)]]="", "", IFERROR(VALUE(Nutrients_1[[#This Row],[EC (min)]]), "")) | F11: =IF(Nutrients_1[[#This Row],[EC (max)]]="", "", IFERROR(VALUE(Nutrients_1[[#This Row],[EC (max)]]), "")) | H11: {=_xlfn.LET(_xlpm.data, _xlfn.SINGLE(Nutrients_1[pH (min)]), IF(_xlpm.data="", "", IFERROR(VALUE(_xlpm.data), "")))} | J11: {=_xlfn.LET(_xlpm.data, _xlfn.SINGLE(Nutrients_1[pH (max)]), IF(_xlpm.data="", "", IFERROR(VALUE(_xlpm.data), "")))} | K11: 150 | L11: {=_xlfn.LET(_xlpm.data, _xlfn.SINGLE(Nutrients_1[Nitrogen]), IF(_xlpm.data="", "", IFERROR(VALUE(_xlpm.data), "")))} -> 150 | M11: 31 | N11: =IF(Nutrients_1[[#This Row],[Phosphorus]]="", "", IFERROR(VALUE(Nutrients_1[[#This Row],[Phosphorus]]), "")) -> 31 | O11: 210 | P11: =IF(Nutrients_1[[#This Row],[Potassium]]="", "", IFERROR(VALUE(Nutrients_1[[#This Row],[Potassium]]), "")) -> 210 | Q11: 90 | R11: =IF(Nutrients_1[[#This Row],[Calcium]]="", "", IFERROR(VALUE(Nutrients_1[[#This Row],[Calcium]]), "")) -> 90 | S11: 24 | T11: {=_xlfn.LET(_xlpm.data, Nutrients_1[[#This Row],[Magnesium]], IF(_xlpm.data="", "", IFERROR(VALUE(_xlpm.data), "")))} -> 24 | V11: {=_xlfn.LET(_xlpm.data, Nutrients_1[[#This Row],[Sulfur]], IF(_xlpm.data="", "", IFERROR(VALUE(_xlpm.data), "")))} | W11: 1.0 | X11: {=_xlfn.LET(_xlpm.data, Nutrients_1[[#This Row],[Iron]], IF(_xlpm.data="", "", IFERROR(VALUE(_xlpm.data), "")))} -> 1 | Y11: 0.25 | Z11: {=_xlfn.LET(_xlpm.data, Nutrients_1[[#This Row],[Manganese]], IF(_xlpm.data="", "", IFERROR(VALUE(_xlpm.data), "")))} -> 0.25 | AA11: 0.13 | AB11: {=_xlfn.LET(_xlpm.data, Nutrients_1[[#This Row],[Zinc]], IF(_xlpm.data="", "", IFERROR(VALUE(_xlpm.data), "")))} -> 0.13 | AC11: 0.16 | AD11: {=_xlfn.LET(_xlpm.data, Nutrients_1[[#This Row],[Boron]], IF(_xlpm.data="", "", IFERROR(VALUE(_xlpm.data), "")))} -> 0.16 | AE11: 0.023 | AF11: {=_xlfn.LET(_xlpm.data, Nutrients_1[[#This Row],[Copper]], IF(_xlpm.data="", "", IFERROR(VALUE(_xlpm.data), "")))} -> 0.023 | AG11: 0.024 | AH11: {=_xlfn.LET(_xlpm.data, Nutrients_1[[#This Row],[Molybdenum]], IF(_xlpm.data="", "", IFERROR(VALUE(_xlpm.data), "")))} -> 0.024 | AJ11: {=_xlfn.LET(_xlpm.data, Nutrients_1[[#This Row],[Cl]], IF(_xlpm.data="", "", IFERROR(VALUE(_xlpm.data), "")))} | AK11: Modified Sonneveld's Solution | AM11: {=_xlfn.UNIQUE(_xlfn._xlws.FILTER(Nutrients_1[For], Nutrients_1[For]<>""))} -> Ocimum basilicum | AN11: {=_xlfn.LET(_xlpm.value, OFFSET(INDIRECT(ADDRESS(ROW(), COLUMN())), 0, -1), IF(_xlpm.value="", " ", _xlpm.value))} -> Ocimum basilicum | AO11: =IFERROR(AVERAGEIFS(Nutrients_1[V:pH (min)], Nutrients_1[For], Nutrients_2[[#This Row],[For]], Nutrients_1[Active], "1"), " ") -> 5.8 | AP11: =IFERROR(AVERAGEIFS(Nutrients_1[V:pH (max)], Nutrients_1[For], Nutrients_2[[#This Row],[For]], Nutrients_1[Active], "1"), " ") -> 6.2 | AQ11: =IFERROR(AVERAGEIFS(Nutrients_1[V:EC (min)], Nutrients_1[For], Nutrients_2[[#This Row],[For]], Nutrients_1[Active], "1"), " ") -> 0.5 | AR11: =IFERROR(AVERAGEIFS(Nutrients_1[V:EC (max)], Nutrients_1[For], Nutrients_2[[#This Row],[For]], Nutrients_1[Active], "1"), " ") -> 1.5 | AS11: =IFERROR(AVERAGEIFS(Nutrients_1[V:Nitrogen], Nutrients_1[For], Nutrients_2[[#This Row],[For]], Nutrients_1[Active], "1"), " ") -> 170 | AT11: =IFERROR(AVERAGEIFS(Nutrients_1[V:Phosphorus], Nutrients_1[For], Nutrients_2[[#This Row],[For]], Nutrients_1[Active], "1"), " ") -> 41.566667 | AU11: =IFERROR(AVERAGEIFS(Nutrients_1[V:Potassium], Nutrients_1[For], Nutrients_2[[#This Row],[For]], Nutrients_1[Active], "1"), " ") -> 248.93333 | AV11: =IFERROR(AVERAGEIFS(Nutrients_1[V:Calcium], Nutrients_1[For], Nutrients_2[[#This Row],[For]], Nutrients_1[Active], "1"), " ") -> 127.4 | AW11: =IFERROR(AVERAGEIFS(Nutrients_1[V:Magnesium], Nutrients_1[For], Nutrients_2[[#This Row],[For]], Nutrients_1[Active], "1"), " ") -> 40.733333 | AX11: =IFERROR(AVERAGEIFS(Nutrients_1[V:Sulfur], Nutrients_1[For], Nutrients_2[[#This Row],[For]], Nutrients_1[Active], "1"), " ") -> 58.6 | AY11: =IFERROR(AVERAGEIFS(Nutrients_1[V:Iron], Nutrients_1[For], Nutrients_2[[#This Row],[For]], Nutrients_1[Active], "1"), " ") -> 2.5 | AZ11: =IFERROR(AVERAGEIFS(Nutrients_1[V:Manganese], Nutrients_1[For], Nutrients_2[[#This Row],[For]], Nutrients_1[Active], "1"), " ") -> 0.41666667 | BA11: =IFERROR(AVERAGEIFS(Nutrients_1[V:Zinc], Nutrients_1[For], Nutrients_2[[#This Row],[For]], Nutrients_1[Active], "1"), " ") -> 0.17666667 | BB11: =IFERROR(AVERAGEIFS(Nutrients_1[V:Boron], Nutrients_1[For], Nutrients_2[[#This Row],[For]], Nutrients_1[Active], "1"), " ") -> 0.35333333 | BC11: =IFERROR(AVERAGEIFS(Nutrients_1[V:Copper], Nutrients_1[For], Nutrients_2[[#This Row],[For]], Nutrients_1[Active], "1"), " ") -> 0.10766667 | BD11: =IFERROR(AVERAGEIFS(Nutrients_1[V:Molybdenum], Nutrients_1[For], Nutrients_2[[#This Row],[For]], Nutrients_1[Active], "1"), " ") -> 0.031333333 | BE11: =IFERROR(AVERAGEIFS(Nutrients_1[V:Cl], Nutrients_1[For], Nutrients_2[[#This Row],[For]], Nutrients_1[Active], "1"), " ") -> 2.7
A12: Ocimum basilicum | B12: 1 | D12: =IF(Nutrients_1[[#This Row],[EC (min)]]="", "", IFERROR(VALUE(Nutrients_1[[#This Row],[EC (min)]]), "")) | F12: =IF(Nutrients_1[[#This Row],[EC (max)]]="", "", IFERROR(VALUE(Nutrients_1[[#This Row],[EC (max)]]), "")) | H12: {=_xlfn.LET(_xlpm.data, _xlfn.SINGLE(Nutrients_1[pH (min)]), IF(_xlpm.data="", "", IFERROR(VALUE(_xlpm.data), "")))} | J12: {=_xlfn.LET(_xlpm.data, _xlfn.SINGLE(Nutrients_1[pH (max)]), IF(_xlpm.data="", "", IFERROR(VALUE(_xlpm.data), "")))} | K12: 210 | L12: {=_xlfn.LET(_xlpm.data, _xlfn.SINGLE(Nutrients_1[Nitrogen]), IF(_xlpm.data="", "", IFERROR(VALUE(_xlpm.data), "")))} -> 210 | M12: 31 | N12: =IF(Nutrients_1[[#This Row],[Phosphorus]]="", "", IFERROR(VALUE(Nutrients_1[[#This Row],[Phosphorus]]), "")) -> 31 | O12: 235 | P12: =IF(Nutrients_1[[#This Row],[Potassium]]="", "", IFERROR(VALUE(Nutrients_1[[#This Row],[Potassium]]), "")) -> 235 | Q12: 200 | R12: =IF(Nutrients_1[[#This Row],[Calcium]]="", "", IFERROR(VALUE(Nutrients_1[[#This Row],[Calcium]]), "")) -> 200 | S12: 49 | T12: {=_xlfn.LET(_xlpm.data, Nutrients_1[[#This Row],[Magnesium]], IF(_xlpm.data="", "", IFERROR(VALUE(_xlpm.data), "")))} -> 49 | U12: 64 | V12: {=_xlfn.LET(_xlpm.data, Nutrients_1[[#This Row],[Sulfur]], IF(_xlpm.data="", "", IFERROR(VALUE(_xlpm.data), "")))} -> 64 | W12: 4.0 | X12: {=_xlfn.LET(_xlpm.data, Nutrients_1[[#This Row],[Iron]], IF(_xlpm.data="", "", IFERROR(VALUE(_xlpm.data), "")))} -> 4 | Y12: 0.5 | Z12: {=_xlfn.LET(_xlpm.data, Nutrients_1[[#This Row],[Manganese]], IF(_xlpm.data="", "", IFERROR(VALUE(_xlpm.data), "")))} -> 0.5 | AA12: 0.1 | AB12: {=_xlfn.LET(_xlpm.data, Nutrients_1[[#This Row],[Zinc]], IF(_xlpm.data="", "", IFERROR(VALUE(_xlpm.data), "")))} -> 0.1 | AC12: 0.5 | AD12: {=_xlfn.LET(_xlpm.data, Nutrients_1[[#This Row],[Boron]], IF(_xlpm.data="", "", IFERROR(VALUE(_xlpm.data), "")))} -> 0.5 | AE12: 0.10 | AF12: {=_xlfn.LET(_xlpm.data, Nutrients_1[[#This Row],[Copper]], IF(_xlpm.data="", "", IFERROR(VALUE(_xlpm.data), "")))} -> 0.1 | AG12: 0.01 | AH12: {=_xlfn.LET(_xlpm.data, Nutrients_1[[#This Row],[Molybdenum]], IF(_xlpm.data="", "", IFERROR(VALUE(_xlpm.data), "")))} -> 0.01 | AJ12: {=_xlfn.LET(_xlpm.data, Nutrients_1[[#This Row],[Cl]], IF(_xlpm.data="", "", IFERROR(VALUE(_xlpm.data), "")))} | AK12: Symptoms of Common Nutrient Deficiencies in Hydroponic Basil by Neil Mattson and Tanya Merrill | AM12: Lactuca sativa | AN12: {=_xlfn.LET(_xlpm.value, OFFSET(INDIRECT(ADDRESS(ROW(), COLUMN())), 0, -1), IF(_xlpm.value="", " ", _xlpm.value))} -> Lactuca sativa | AO12: =IFERROR(AVERAGEIFS(Nutrients_1[V:pH (min)], Nutrients_1[For], Nutrients_2[[#This Row],[For]], Nutrients_1[Active], "1"), " ") -> 5.5 | AP12: =IFERROR(AVERAGEIFS(Nutrients_1[V:pH (max)], Nutrients_1[For], Nutrients_2[[#This Row],[For]], Nutrients_1[Active], "1"), " ") -> 6 | AQ12: =IFERROR(AVERAGEIFS(Nutrients_1[V:EC (min)], Nutrients_1[For], Nutrients_2[[#This Row],[For]], Nutrients_1[Active], "1"), " ") | AR12: =IFERROR(AVERAGEIFS(Nutrients_1[V:EC (max)], Nutrients_1[For], Nutrients_2[[#This Row],[For]], Nutrients_1[Active], "1"), " ") | AS12: =IFERROR(AVERAGEIFS(Nutrients_1[V:Nitrogen], Nutrients_1[For], Nutrients_2[[#This Row],[For]], Nutrients_1[Active], "1"), " ") -> 150 | AT12: =IFERROR(AVERAGEIFS(Nutrients_1[V:Phosphorus], Nutrients_1[For], Nutrients_2[[#This Row],[For]], Nutrients_1[Active], "1"), " ") -> 31 | AU12: =IFERROR(AVERAGEIFS(Nutrients_1[V:Potassium], Nutrients_1[For], Nutrients_2[[#This Row],[For]], Nutrients_1[Active], "1"), " ") -> 210 | AV12: =IFERROR(AVERAGEIFS(Nutrients_1[V:Calcium], Nutrients_1[For], Nutrients_2[[#This Row],[For]], Nutrients_1[Active], "1"), " ") -> 90 | AW12: =IFERROR(AVERAGEIFS(Nutrients_1[V:Magnesium], Nutrients_1[For], Nutrients_2[[#This Row],[For]], Nutrients_1[Active], "1"), " ") -> 24 | AX12: =IFERROR(AVERAGEIFS(Nutrients_1[V:Sulfur], Nutrients_1[For], Nutrients_2[[#This Row],[For]], Nutrients_1[Active], "1"), " ") -> 0 | AY12: =IFERROR(AVERAGEIFS(Nutrients_1[V:Iron], Nutrients_1[For], Nutrients_2[[#This Row],[For]], Nutrients_1[Active], "1"), " ") -> 1 | AZ12: =IFERROR(AVERAGEIFS(Nutrients_1[V:Manganese], Nutrients_1[For], Nutrients_2[[#This Row],[For]], Nutrients_1[Active], "1"), " ") -> 0.25 | BA12: =IFERROR(AVERAGEIFS(Nutrients_1[V:Zinc], Nutrients_1[For], Nutrients_2[[#This Row],[For]], Nutrients_1[Active], "1"), " ") -> 0.13 | BB12: =IFERROR(AVERAGEIFS(Nutrients_1[V:Boron], Nutrients_1[For], Nutrients_2[[#This Row],[For]], Nutrients_1[Active], "1"), " ") -> 0.16 | BC12: =IFERROR(AVERAGEIFS(Nutrients_1[V:Copper], Nutrients_1[For], Nutrients_2[[#This Row],[For]], Nutrients_1[Active], "1"), " ") -> 0.02 | BD12: =IFERROR(AVERAGEIFS(Nutrients_1[V:Molybdenum], Nutrients_1[For], Nutrients_2[[#This Row],[For]], Nutrients_1[Active], "1"), " ") -> 0.02 | BE12: =IFERROR(AVERAGEIFS(Nutrients_1[V:Cl], Nutrients_1[For], Nutrients_2[[#This Row],[For]], Nutrients_1[Active], "1"), " ")
A13: Ocimum basilicum | B13: 1 | C13: 0.5 | D13: =IF(Nutrients_1[[#This Row],[EC (min)]]="", "", IFERROR(VALUE(Nutrients_1[[#This Row],[EC (min)]]), "")) -> 0.5 | E13: 1.5 | F13: =IF(Nutrients_1[[#This Row],[EC (max)]]="", "", IFERROR(VALUE(Nutrients_1[[#This Row],[EC (max)]]), "")) -> 1.5 | G13: 5.8 | H13: {=_xlfn.LET(_xlpm.data, _xlfn.SINGLE(Nutrients_1[pH (min)]), IF(_xlpm.data="", "", IFERROR(VALUE(_xlpm.data), "")))} -> 5.8 | I13: 6.2 | J13: {=_xlfn.LET(_xlpm.data, _xlfn.SINGLE(Nutrients_1[pH (max)]), IF(_xlpm.data="", "", IFERROR(VALUE(_xlpm.data), "")))} -> 6.2 | K13: 150 | L13: {=_xlfn.LET(_xlpm.data, _xlfn.SINGLE(Nutrients_1[Nitrogen]), IF(_xlpm.data="", "", IFERROR(VALUE(_xlpm.data), "")))} -> 150 | M13: 62.7 | N13: =IF(Nutrients_1[[#This Row],[Phosphorus]]="", "", IFERROR(VALUE(Nutrients_1[[#This Row],[Phosphorus]]), "")) -> 62.7 | O13: 301.8 | P13: =IF(Nutrients_1[[#This Row],[Potassium]]="", "", IFERROR(VALUE(Nutrients_1[[#This Row],[Potassium]]), "")) -> 301.8 | Q13: 92.2 | R13: =IF(Nutrients_1[[#This Row],[Calcium]]="", "", IFERROR(VALUE(Nutrients_1[[#This Row],[Calcium]]), "")) -> 92.2 | S13: 49.2 | T13: {=_xlfn.LET(_xlpm.data, Nutrients_1[[#This Row],[Magnesium]], IF(_xlpm.data="", "", IFERROR(VALUE(_xlpm.data), "")))} -> 49.2 | U13: 53.2 | V13: {=_xlfn.LET(_xlpm.data, Nutrients_1[[#This Row],[Sulfur]], IF(_xlpm.data="", "", IFERROR(VALUE(_xlpm.data), "")))} -> 53.2 | W13: 2.5 | X13: {=_xlfn.LET(_xlpm.data, Nutrients_1[[#This Row],[Iron]], IF(_xlpm.data="", "", IFERROR(VALUE(_xlpm.data), "")))} -> 2.5 | Y13: 0.5 | Z13: {=_xlfn.LET(_xlpm.data, Nutrients_1[[#This Row],[Manganese]], IF(_xlpm.data="", "", IFERROR(VALUE(_xlpm.data), "")))} -> 0.5 | AA13: 0.3 | AB13: {=_xlfn.LET(_xlpm.data, Nutrients_1[[#This Row],[Zinc]], IF(_xlpm.data="", "", IFERROR(VALUE(_xlpm.data), "")))} -> 0.3 | AC13: 0.4 | AD13: {=_xlfn.LET(_xlpm.data, Nutrients_1[[#This Row],[Boron]], IF(_xlpm.data="", "", IFERROR(VALUE(_xlpm.data), "")))} -> 0.4 | AE13: 0.2 | AF13: {=_xlfn.LET(_xlpm.data, Nutrients_1[[#This Row],[Copper]], IF(_xlpm.data="", "", IFERROR(VALUE(_xlpm.data), "")))} -> 0.2 | AG13: 0.06 | AH13: {=_xlfn.LET(_xlpm.data, Nutrients_1[[#This Row],[Molybdenum]], IF(_xlpm.data="", "", IFERROR(VALUE(_xlpm.data), "")))} -> 0.06 | AI13: 2.7 | AJ13: {=_xlfn.LET(_xlpm.data, Nutrients_1[[#This Row],[Cl]], IF(_xlpm.data="", "", IFERROR(VALUE(_xlpm.data), "")))} -> 2.7 | AK13: MU Hydroponic Nutrient Solution Calculator -Basil from e-Gro publication (nutritional monitoring series vol 1 No 14 April 2018). pH range 5.8 to 6.2: below pH iron toxicity and above pH iron deficiency. Magnesium critical for basil. Too much N promote excessive vegetative growth and lowers oil content by 28%. From Solis-Taopanta et al. 2020 https://doi.org/10.21273/HORTSCI14727-19 took the P to Cl elements recommendations. Left N at 150 according to the Egro article. Solis-Taopanta article suggested 178 ppm N but I don't want to risk lower oil content. | AL13: ... | AN13: {=_xlfn.LET(_xlpm.value, OFFSET(INDIRECT(ADDRESS(ROW(), COLUMN())), 0, -1), IF(_xlpm.value="", " ", _xlpm.value))} | AO13: =IFERROR(AVERAGEIFS(Nutrients_1[V:pH (min)], Nutrients_1[For], Nutrients_2[[#This Row],[For]], Nutrients_1[Active], "1"), " ") | AP13: =IFERROR(AVERAGEIFS(Nutrients_1[V:pH (max)], Nutrients_1[For], Nutrients_2[[#This Row],[For]], Nutrients_1[Active], "1"), " ") | AQ13: =IFERROR(AVERAGEIFS(Nutrients_1[V:EC (min)], Nutrients_1[For], Nutrients_2[[#This Row],[For]], Nutrients_1[Active], "1"), " ") | AR13: =IFERROR(AVERAGEIFS(Nutrients_1[V:EC (max)], Nutrients_1[For], Nutrients_2[[#This Row],[For]], Nutrients_1[Active], "1"), " ") | AS13: =IFERROR(AVERAGEIFS(Nutrients_1[V:Nitrogen], Nutrients_1[For], Nutrients_2[[#This Row],[For]], Nutrients_1[Active], "1"), " ") | AT13: =IFERROR(AVERAGEIFS(Nutrients_1[V:Phosphorus], Nutrients_1[For], Nutrients_2[[#This Row],[For]], Nutrients_1[Active], "1"), " ") | AU13: =IFERROR(AVERAGEIFS(Nutrients_1[V:Potassium], Nutrients_1[For], Nutrients_2[[#This Row],[For]], Nutrients_1[Active], "1"), " ") | AV13: =IFERROR(AVERAGEIFS(Nutrients_1[V:Calcium], Nutrients_1[For], Nutrients_2[[#This Row],[For]], Nutrients_1[Active], "1"), " ") | AW13: =IFERROR(AVERAGEIFS(Nutrients_1[V:Magnesium], Nutrients_1[For], Nutrients_2[[#This Row],[For]], Nutrients_1[Active], "1"), " ") | AX13: =IFERROR(AVERAGEIFS(Nutrients_1[V:Sulfur], Nutrients_1[For], Nutrients_2[[#This Row],[For]], Nutrients_1[Active], "1"), " ") | AY13: =IFERROR(AVERAGEIFS(Nutrients_1[V:Iron], Nutrients_1[For], Nutrients_2[[#This Row],[For]], Nutrients_1[Active], "1"), " ") | AZ13: =IFERROR(AVERAGEIFS(Nutrients_1[V:Manganese], Nutrients_1[For], Nutrients_2[[#This Row],[For]], Nutrients_1[Active], "1"), " ") | BA13: =IFERROR(AVERAGEIFS(Nutrients_1[V:Zinc], Nutrients_1[For], Nutrients_2[[#This Row],[For]], Nutrients_1[Active], "1"), " ") | BB13: =IFERROR(AVERAGEIFS(Nutrients_1[V:Boron], Nutrients_1[For], Nutrients_2[[#This Row],[For]], Nutrients_1[Active], "1"), " ") | BC13: =IFERROR(AVERAGEIFS(Nutrients_1[V:Copper], Nutrients_1[For], Nutrients_2[[#This Row],[For]], Nutrients_1[Active], "1"), " ") | BD13: =IFERROR(AVERAGEIFS(Nutrients_1[V:Molybdenum], Nutrients_1[For], Nutrients_2[[#This Row],[For]], Nutrients_1[Active], "1"), " ") | BE13: =IFERROR(AVERAGEIFS(Nutrients_1[V:Cl], Nutrients_1[For], Nutrients_2[[#This Row],[For]], Nutrients_1[Active], "1"), " ")
A14: Lactuca sativa | B14: 1 | D14: =IF(Nutrients_1[[#This Row],[EC (min)]]="", "", IFERROR(VALUE(Nutrients_1[[#This Row],[EC (min)]]), "")) | F14: =IF(Nutrients_1[[#This Row],[EC (max)]]="", "", IFERROR(VALUE(Nutrients_1[[#This Row],[EC (max)]]), "")) | G14: 5.5 | H14: {=_xlfn.LET(_xlpm.data, _xlfn.SINGLE(Nutrients_1[pH (min)]), IF(_xlpm.data="", "", IFERROR(VALUE(_xlpm.data), "")))} -> 5.5 | I14: 6.0 | J14: {=_xlfn.LET(_xlpm.data, _xlfn.SINGLE(Nutrients_1[pH (max)]), IF(_xlpm.data="", "", IFERROR(VALUE(_xlpm.data), "")))} -> 6 | K14: 150 | L14: {=_xlfn.LET(_xlpm.data, _xlfn.SINGLE(Nutrients_1[Nitrogen]), IF(_xlpm.data="", "", IFERROR(VALUE(_xlpm.data), "")))} -> 150 | M14: 31 | N14: =IF(Nutrients_1[[#This Row],[Phosphorus]]="", "", IFERROR(VALUE(Nutrients_1[[#This Row],[Phosphorus]]), "")) -> 31 | O14: 210 | P14: =IF(Nutrients_1[[#This Row],[Potassium]]="", "", IFERROR(VALUE(Nutrients_1[[#This Row],[Potassium]]), "")) -> 210 | Q14: 90 | R14: =IF(Nutrients_1[[#This Row],[Calcium]]="", "", IFERROR(VALUE(Nutrients_1[[#This Row],[Calcium]]), "")) -> 90 | S14: 24 | T14: {=_xlfn.LET(_xlpm.data, Nutrients_1[[#This Row],[Magnesium]], IF(_xlpm.data="", "", IFERROR(VALUE(_xlpm.data), "")))} -> 24 | U14: 0 | V14: {=_xlfn.LET(_xlpm.data, Nutrients_1[[#This Row],[Sulfur]], IF(_xlpm.data="", "", IFERROR(VALUE(_xlpm.data), "")))} -> 0 | W14: 1 | X14: {=_xlfn.LET(_xlpm.data, Nutrients_1[[#This Row],[Iron]], IF(_xlpm.data="", "", IFERROR(VALUE(_xlpm.data), "")))} -> 1 | Y14: 0.25 | Z14: {=_xlfn.LET(_xlpm.data, Nutrients_1[[#This Row],[Manganese]], IF(_xlpm.data="", "", IFERROR(VALUE(_xlpm.data), "")))} -> 0.25 | AA14: 0.13 | AB14: {=_xlfn.LET(_xlpm.data, Nutrients_1[[#This Row],[Zinc]], IF(_xlpm.data="", "", IFERROR(VALUE(_xlpm.data), "")))} -> 0.13 | AC14: 0.16 | AD14: {=_xlfn.LET(_xlpm.data, Nutrients_1[[#This Row],[Boron]], IF(_xlpm.data="", "", IFERROR(VALUE(_xlpm.data), "")))} -> 0.16 | AE14: 0.02 | AF14: {=_xlfn.LET(_xlpm.data, Nutrients_1[[#This Row],[Copper]], IF(_xlpm.data="", "", IFERROR(VALUE(_xlpm.data), "")))} -> 0.02 | AG14: 0.02 | AH14: {=_xlfn.LET(_xlpm.data, Nutrients_1[[#This Row],[Molybdenum]], IF(_xlpm.data="", "", IFERROR(VALUE(_xlpm.data), "")))} -> 0.02 | AJ14: {=_xlfn.LET(_xlpm.data, Nutrients_1[[#This Row],[Cl]], IF(_xlpm.data="", "", IFERROR(VALUE(_xlpm.data), "")))} | AK14: MU Hydroponic Nutrient Solution Calculator -Lettuce Modified Sonneveld from Mattson N. & Peters, C. "A Recipe for Hydroponic Success" http://hort.cornell.edu/greenhouse/crops/factsheets/hydroponic-recipes.pdf. | AL14: ... | AN14: {=_xlfn.LET(_xlpm.value, OFFSET(INDIRECT(ADDRESS(ROW(), COLUMN())), 0, -1), IF(_xlpm.value="", " ", _xlpm.value))} | AO14: =IFERROR(AVERAGEIFS(Nutrients_1[V:pH (min)], Nutrients_1[For], Nutrients_2[[#This Row],[For]], Nutrients_1[Active], "1"), " ") | AP14: =IFERROR(AVERAGEIFS(Nutrients_1[V:pH (max)], Nutrients_1[For], Nutrients_2[[#This Row],[For]], Nutrients_1[Active], "1"), " ") | AQ14: =IFERROR(AVERAGEIFS(Nutrients_1[V:EC (min)], Nutrients_1[For], Nutrients_2[[#This Row],[For]], Nutrients_1[Active], "1"), " ") | AR14: =IFERROR(AVERAGEIFS(Nutrients_1[V:EC (max)], Nutrients_1[For], Nutrients_2[[#This Row],[For]], Nutrients_1[Active], "1"), " ") | AS14: =IFERROR(AVERAGEIFS(Nutrients_1[V:Nitrogen], Nutrients_1[For], Nutrients_2[[#This Row],[For]], Nutrients_1[Active], "1"), " ") | AT14: =IFERROR(AVERAGEIFS(Nutrients_1[V:Phosphorus], Nutrients_1[For], Nutrients_2[[#This Row],[For]], Nutrients_1[Active], "1"), " ") | AU14: =IFERROR(AVERAGEIFS(Nutrients_1[V:Potassium], Nutrients_1[For], Nutrients_2[[#This Row],[For]], Nutrients_1[Active], "1"), " ") | AV14: =IFERROR(AVERAGEIFS(Nutrients_1[V:Calcium], Nutrients_1[For], Nutrients_2[[#This Row],[For]], Nutrients_1[Active], "1"), " ") | AW14: =IFERROR(AVERAGEIFS(Nutrients_1[V:Magnesium], Nutrients_1[For], Nutrients_2[[#This Row],[For]], Nutrients_1[Active], "1"), " ") | AX14: =IFERROR(AVERAGEIFS(Nutrients_1[V:Sulfur], Nutrients_1[For], Nutrients_2[[#This Row],[For]], Nutrients_1[Active], "1"), " ") | AY14: =IFERROR(AVERAGEIFS(Nutrients_1[V:Iron], Nutrients_1[For], Nutrients_2[[#This Row],[For]], Nutrients_1[Active], "1"), " ") | AZ14: =IFERROR(AVERAGEIFS(Nutrients_1[V:Manganese], Nutrients_1[For], Nutrients_2[[#This Row],[For]], Nutrients_1[Active], "1"), " ") | BA14: =IFERROR(AVERAGEIFS(Nutrients_1[V:Zinc], Nutrients_1[For], Nutrients_2[[#This Row],[For]], Nutrients_1[Active], "1"), " ") | BB14: =IFERROR(AVERAGEIFS(Nutrients_1[V:Boron], Nutrients_1[For], Nutrients_2[[#This Row],[For]], Nutrients_1[Active], "1"), " ") | BC14: =IFERROR(AVERAGEIFS(Nutrients_1[V:Copper], Nutrients_1[For], Nutrients_2[[#This Row],[For]], Nutrients_1[Active], "1"), " ") | BD14: =IFERROR(AVERAGEIFS(Nutrients_1[V:Molybdenum], Nutrients_1[For], Nutrients_2[[#This Row],[For]], Nutrients_1[Active], "1"), " ") | BE14: =IFERROR(AVERAGEIFS(Nutrients_1[V:Cl], Nutrients_1[For], Nutrients_2[[#This Row],[For]], Nutrients_1[Active], "1"), " ")
D15: =IF(Nutrients_1[[#This Row],[EC (min)]]="", "", IFERROR(VALUE(Nutrients_1[[#This Row],[EC (min)]]), "")) | F15: =IF(Nutrients_1[[#This Row],[EC (max)]]="", "", IFERROR(VALUE(Nutrients_1[[#This Row],[EC (max)]]), "")) | H15: {=_xlfn.LET(_xlpm.data, _xlfn.SINGLE(Nutrients_1[pH (min)]), IF(_xlpm.data="", "", IFERROR(VALUE(_xlpm.data), "")))} | J15: {=_xlfn.LET(_xlpm.data, _xlfn.SINGLE(Nutrients_1[pH (max)]), IF(_xlpm.data="", "", IFERROR(VALUE(_xlpm.data), "")))} | L15: {=_xlfn.LET(_xlpm.data, _xlfn.SINGLE(Nutrients_1[Nitrogen]), IF(_xlpm.data="", "", IFERROR(VALUE(_xlpm.data), "")))} | N15: =IF(Nutrients_1[[#This Row],[Phosphorus]]="", "", IFERROR(VALUE(Nutrients_1[[#This Row],[Phosphorus]]), "")) | P15: =IF(Nutrients_1[[#This Row],[Potassium]]="", "", IFERROR(VALUE(Nutrients_1[[#This Row],[Potassium]]), "")) | R15: =IF(Nutrients_1[[#This Row],[Calcium]]="", "", IFERROR(VALUE(Nutrients_1[[#This Row],[Calcium]]), "")) | T15: {=_xlfn.LET(_xlpm.data, Nutrients_1[[#This Row],[Magnesium]], IF(_xlpm.data="", "", IFERROR(VALUE(_xlpm.data), "")))} | V15: {=_xlfn.LET(_xlpm.data, Nutrients_1[[#This Row],[Sulfur]], IF(_xlpm.data="", "", IFERROR(VALUE(_xlpm.data), "")))} | X15: {=_xlfn.LET(_xlpm.data, Nutrients_1[[#This Row],[Iron]], IF(_xlpm.data="", "", IFERROR(VALUE(_xlpm.data), "")))} | Z15: {=_xlfn.LET(_xlpm.data, Nutrients_1[[#This Row],[Manganese]], IF(_xlpm.data="", "", IFERROR(VALUE(_xlpm.data), "")))} | AB15: {=_xlfn.LET(_xlpm.data, Nutrients_1[[#This Row],[Zinc]], IF(_xlpm.data="", "", IFERROR(VALUE(_xlpm.data), "")))} | AD15: {=_xlfn.LET(_xlpm.data, Nutrients_1[[#This Row],[Boron]], IF(_xlpm.data="", "", IFERROR(VALUE(_xlpm.data), "")))} | AF15: {=_xlfn.LET(_xlpm.data, Nutrients_1[[#This Row],[Copper]], IF(_xlpm.data="", "", IFERROR(VALUE(_xlpm.data), "")))} | AH15: {=_xlfn.LET(_xlpm.data, Nutrients_1[[#This Row],[Molybdenum]], IF(_xlpm.data="", "", IFERROR(VALUE(_xlpm.data), "")))} | AJ15: {=_xlfn.LET(_xlpm.data, Nutrients_1[[#This Row],[Cl]], IF(_xlpm.data="", "", IFERROR(VALUE(_xlpm.data), "")))} | AN15: {=_xlfn.LET(_xlpm.value, OFFSET(INDIRECT(ADDRESS(ROW(), COLUMN())), 0, -1), IF(_xlpm.value="", " ", _xlpm.value))} | AO15: =IFERROR(AVERAGEIFS(Nutrients_1[V:pH (min)], Nutrients_1[For], Nutrients_2[[#This Row],[For]], Nutrients_1[Active], "1"), " ") | AP15: =IFERROR(AVERAGEIFS(Nutrients_1[V:pH (max)], Nutrients_1[For], Nutrients_2[[#This Row],[For]], Nutrients_1[Active], "1"), " ") | AQ15: =IFERROR(AVERAGEIFS(Nutrients_1[V:EC (min)], Nutrients_1[For], Nutrients_2[[#This Row],[For]], Nutrients_1[Active], "1"), " ") | AR15: =IFERROR(AVERAGEIFS(Nutrients_1[V:EC (max)], Nutrients_1[For], Nutrients_2[[#This Row],[For]], Nutrients_1[Active], "1"), " ") | AS15: =IFERROR(AVERAGEIFS(Nutrients_1[V:Nitrogen], Nutrients_1[For], Nutrients_2[[#This Row],[For]], Nutrients_1[Active], "1"), " ") | AT15: =IFERROR(AVERAGEIFS(Nutrients_1[V:Phosphorus], Nutrients_1[For], Nutrients_2[[#This Row],[For]], Nutrients_1[Active], "1"), " ") | AU15: =IFERROR(AVERAGEIFS(Nutrients_1[V:Potassium], Nutrients_1[For], Nutrients_2[[#This Row],[For]], Nutrients_1[Active], "1"), " ") | AV15: =IFERROR(AVERAGEIFS(Nutrients_1[V:Calcium], Nutrients_1[For], Nutrients_2[[#This Row],[For]], Nutrients_1[Active], "1"), " ") | AW15: =IFERROR(AVERAGEIFS(Nutrients_1[V:Magnesium], Nutrients_1[For], Nutrients_2[[#This Row],[For]], Nutrients_1[Active], "1"), " ") | AX15: =IFERROR(AVERAGEIFS(Nutrients_1[V:Sulfur], Nutrients_1[For], Nutrients_2[[#This Row],[For]], Nutrients_1[Active], "1"), " ") | AY15: =IFERROR(AVERAGEIFS(Nutrients_1[V:Iron], Nutrients_1[For], Nutrients_2[[#This Row],[For]], Nutrients_1[Active], "1"), " ") | AZ15: =IFERROR(AVERAGEIFS(Nutrients_1[V:Manganese], Nutrients_1[For], Nutrients_2[[#This Row],[For]], Nutrients_1[Active], "1"), " ") | BA15: =IFERROR(AVERAGEIFS(Nutrients_1[V:Zinc], Nutrients_1[For], Nutrients_2[[#This Row],[For]], Nutrients_1[Active], "1"), " ") | BB15: =IFERROR(AVERAGEIFS(Nutrients_1[V:Boron], Nutrients_1[For], Nutrients_2[[#This Row],[For]], Nutrients_1[Active], "1"), " ") | BC15: =IFERROR(AVERAGEIFS(Nutrients_1[V:Copper], Nutrients_1[For], Nutrients_2[[#This Row],[For]], Nutrients_1[Active], "1"), " ") | BD15: =IFERROR(AVERAGEIFS(Nutrients_1[V:Molybdenum], Nutrients_1[For], Nutrients_2[[#This Row],[For]], Nutrients_1[Active], "1"), " ") | BE15: =IFERROR(AVERAGEIFS(Nutrients_1[V:Cl], Nutrients_1[For], Nutrients_2[[#This Row],[For]], Nutrients_1[Active], "1"), " ")
D16: =IF(Nutrients_1[[#This Row],[EC (min)]]="", "", IFERROR(VALUE(Nutrients_1[[#This Row],[EC (min)]]), "")) | F16: =IF(Nutrients_1[[#This Row],[EC (max)]]="", "", IFERROR(VALUE(Nutrients_1[[#This Row],[EC (max)]]), "")) | H16: {=_xlfn.LET(_xlpm.data, _xlfn.SINGLE(Nutrients_1[pH (min)]), IF(_xlpm.data="", "", IFERROR(VALUE(_xlpm.data), "")))} | J16: {=_xlfn.LET(_xlpm.data, _xlfn.SINGLE(Nutrients_1[pH (max)]), IF(_xlpm.data="", "", IFERROR(VALUE(_xlpm.data), "")))} | L16: {=_xlfn.LET(_xlpm.data, _xlfn.SINGLE(Nutrients_1[Nitrogen]), IF(_xlpm.data="", "", IFERROR(VALUE(_xlpm.data), "")))} | N16: =IF(Nutrients_1[[#This Row],[Phosphorus]]="", "", IFERROR(VALUE(Nutrients_1[[#This Row],[Phosphorus]]), "")) | P16: =IF(Nutrients_1[[#This Row],[Potassium]]="", "", IFERROR(VALUE(Nutrients_1[[#This Row],[Potassium]]), "")) | R16: =IF(Nutrients_1[[#This Row],[Calcium]]="", "", IFERROR(VALUE(Nutrients_1[[#This Row],[Calcium]]), "")) | T16: {=_xlfn.LET(_xlpm.data, Nutrients_1[[#This Row],[Magnesium]], IF(_xlpm.data="", "", IFERROR(VALUE(_xlpm.data), "")))} | V16: {=_xlfn.LET(_xlpm.data, Nutrients_1[[#This Row],[Sulfur]], IF(_xlpm.data="", "", IFERROR(VALUE(_xlpm.data), "")))} | X16: {=_xlfn.LET(_xlpm.data, Nutrients_1[[#This Row],[Iron]], IF(_xlpm.data="", "", IFERROR(VALUE(_xlpm.data), "")))} | Z16: {=_xlfn.LET(_xlpm.data, Nutrients_1[[#This Row],[Manganese]], IF(_xlpm.data="", "", IFERROR(VALUE(_xlpm.data), "")))} | AB16: {=_xlfn.LET(_xlpm.data, Nutrients_1[[#This Row],[Zinc]], IF(_xlpm.data="", "", IFERROR(VALUE(_xlpm.data), "")))} | AD16: {=_xlfn.LET(_xlpm.data, Nutrients_1[[#This Row],[Boron]], IF(_xlpm.data="", "", IFERROR(VALUE(_xlpm.data), "")))} | AF16: {=_xlfn.LET(_xlpm.data, Nutrients_1[[#This Row],[Copper]], IF(_xlpm.data="", "", IFERROR(VALUE(_xlpm.data), "")))} | AH16: {=_xlfn.LET(_xlpm.data, Nutrients_1[[#This Row],[Molybdenum]], IF(_xlpm.data="", "", IFERROR(VALUE(_xlpm.data), "")))} | AJ16: {=_xlfn.LET(_xlpm.data, Nutrients_1[[#This Row],[Cl]], IF(_xlpm.data="", "", IFERROR(VALUE(_xlpm.data), "")))} | AN16: {=_xlfn.LET(_xlpm.value, OFFSET(INDIRECT(ADDRESS(ROW(), COLUMN())), 0, -1), IF(_xlpm.value="", " ", _xlpm.value))} | AO16: =IFERROR(AVERAGEIFS(Nutrients_1[V:pH (min)], Nutrients_1[For], Nutrients_2[[#This Row],[For]], Nutrients_1[Active], "1"), " ") | AP16: =IFERROR(AVERAGEIFS(Nutrients_1[V:pH (max)], Nutrients_1[For], Nutrients_2[[#This Row],[For]], Nutrients_1[Active], "1"), " ") | AQ16: =IFERROR(AVERAGEIFS(Nutrients_1[V:EC (min)], Nutrients_1[For], Nutrients_2[[#This Row],[For]], Nutrients_1[Active], "1"), " ") | AR16: =IFERROR(AVERAGEIFS(Nutrients_1[V:EC (max)], Nutrients_1[For], Nutrients_2[[#This Row],[For]], Nutrients_1[Active], "1"), " ") | AS16: =IFERROR(AVERAGEIFS(Nutrients_1[V:Nitrogen], Nutrients_1[For], Nutrients_2[[#This Row],[For]], Nutrients_1[Active], "1"), " ") | AT16: =IFERROR(AVERAGEIFS(Nutrients_1[V:Phosphorus], Nutrients_1[For], Nutrients_2[[#This Row],[For]], Nutrients_1[Active], "1"), " ") | AU16: =IFERROR(AVERAGEIFS(Nutrients_1[V:Potassium], Nutrients_1[For], Nutrients_2[[#This Row],[For]], Nutrients_1[Active], "1"), " ") | AV16: =IFERROR(AVERAGEIFS(Nutrients_1[V:Calcium], Nutrients_1[For], Nutrients_2[[#This Row],[For]], Nutrients_1[Active], "1"), " ") | AW16: =IFERROR(AVERAGEIFS(Nutrients_1[V:Magnesium], Nutrients_1[For], Nutrients_2[[#This Row],[For]], Nutrients_1[Active], "1"), " ") | AX16: =IFERROR(AVERAGEIFS(Nutrients_1[V:Sulfur], Nutrients_1[For], Nutrients_2[[#This Row],[For]], Nutrients_1[Active], "1"), " ") | AY16: =IFERROR(AVERAGEIFS(Nutrients_1[V:Iron], Nutrients_1[For], Nutrients_2[[#This Row],[For]], Nutrients_1[Active], "1"), " ") | AZ16: =IFERROR(AVERAGEIFS(Nutrients_1[V:Manganese], Nutrients_1[For], Nutrients_2[[#This Row],[For]], Nutrients_1[Active], "1"), " ") | BA16: =IFERROR(AVERAGEIFS(Nutrients_1[V:Zinc], Nutrients_1[For], Nutrients_2[[#This Row],[For]], Nutrients_1[Active], "1"), " ") | BB16: =IFERROR(AVERAGEIFS(Nutrients_1[V:Boron], Nutrients_1[For], Nutrients_2[[#This Row],[For]], Nutrients_1[Active], "1"), " ") | BC16: =IFERROR(AVERAGEIFS(Nutrients_1[V:Copper], Nutrients_1[For], Nutrients_2[[#This Row],[For]], Nutrients_1[Active], "1"), " ") | BD16: =IFERROR(AVERAGEIFS(Nutrients_1[V:Molybdenum], Nutrients_1[For], Nutrients_2[[#This Row],[For]], Nutrients_1[Active], "1"), " ") | BE16: =IFERROR(AVERAGEIFS(Nutrients_1[V:Cl], Nutrients_1[For], Nutrients_2[[#This Row],[For]], Nutrients_1[Active], "1"), " ")
D17: =IF(Nutrients_1[[#This Row],[EC (min)]]="", "", IFERROR(VALUE(Nutrients_1[[#This Row],[EC (min)]]), "")) | F17: =IF(Nutrients_1[[#This Row],[EC (max)]]="", "", IFERROR(VALUE(Nutrients_1[[#This Row],[EC (max)]]), "")) | H17: {=_xlfn.LET(_xlpm.data, _xlfn.SINGLE(Nutrients_1[pH (min)]), IF(_xlpm.data="", "", IFERROR(VALUE(_xlpm.data), "")))} | J17: {=_xlfn.LET(_xlpm.data, _xlfn.SINGLE(Nutrients_1[pH (max)]), IF(_xlpm.data="", "", IFERROR(VALUE(_xlpm.data), "")))} | L17: {=_xlfn.LET(_xlpm.data, _xlfn.SINGLE(Nutrients_1[Nitrogen]), IF(_xlpm.data="", "", IFERROR(VALUE(_xlpm.data), "")))} | N17: =IF(Nutrients_1[[#This Row],[Phosphorus]]="", "", IFERROR(VALUE(Nutrients_1[[#This Row],[Phosphorus]]), "")) | P17: =IF(Nutrients_1[[#This Row],[Potassium]]="", "", IFERROR(VALUE(Nutrients_1[[#This Row],[Potassium]]), "")) | R17: =IF(Nutrients_1[[#This Row],[Calcium]]="", "", IFERROR(VALUE(Nutrients_1[[#This Row],[Calcium]]), "")) | T17: {=_xlfn.LET(_xlpm.data, Nutrients_1[[#This Row],[Magnesium]], IF(_xlpm.data="", "", IFERROR(VALUE(_xlpm.data), "")))} | V17: {=_xlfn.LET(_xlpm.data, Nutrients_1[[#This Row],[Sulfur]], IF(_xlpm.data="", "", IFERROR(VALUE(_xlpm.data), "")))} | X17: {=_xlfn.LET(_xlpm.data, Nutrients_1[[#This Row],[Iron]], IF(_xlpm.data="", "", IFERROR(VALUE(_xlpm.data), "")))} | Z17: {=_xlfn.LET(_xlpm.data, Nutrients_1[[#This Row],[Manganese]], IF(_xlpm.data="", "", IFERROR(VALUE(_xlpm.data), "")))} | AB17: {=_xlfn.LET(_xlpm.data, Nutrients_1[[#This Row],[Zinc]], IF(_xlpm.data="", "", IFERROR(VALUE(_xlpm.data), "")))} | AD17: {=_xlfn.LET(_xlpm.data, Nutrients_1[[#This Row],[Boron]], IF(_xlpm.data="", "", IFERROR(VALUE(_xlpm.data), "")))} | AF17: {=_xlfn.LET(_xlpm.data, Nutrients_1[[#This Row],[Copper]], IF(_xlpm.data="", "", IFERROR(VALUE(_xlpm.data), "")))} | AH17: {=_xlfn.LET(_xlpm.data, Nutrients_1[[#This Row],[Molybdenum]], IF(_xlpm.data="", "", IFERROR(VALUE(_xlpm.data), "")))} | AJ17: {=_xlfn.LET(_xlpm.data, Nutrients_1[[#This Row],[Cl]], IF(_xlpm.data="", "", IFERROR(VALUE(_xlpm.data), "")))} | AN17: {=_xlfn.LET(_xlpm.value, OFFSET(INDIRECT(ADDRESS(ROW(), COLUMN())), 0, -1), IF(_xlpm.value="", " ", _xlpm.value))} | AO17: =IFERROR(AVERAGEIFS(Nutrients_1[V:pH (min)], Nutrients_1[For], Nutrients_2[[#This Row],[For]], Nutrients_1[Active], "1"), " ") | AP17: =IFERROR(AVERAGEIFS(Nutrients_1[V:pH (max)], Nutrients_1[For], Nutrients_2[[#This Row],[For]], Nutrients_1[Active], "1"), " ") | AQ17: =IFERROR(AVERAGEIFS(Nutrients_1[V:EC (min)], Nutrients_1[For], Nutrients_2[[#This Row],[For]], Nutrients_1[Active], "1"), " ") | AR17: =IFERROR(AVERAGEIFS(Nutrients_1[V:EC (max)], Nutrients_1[For], Nutrients_2[[#This Row],[For]], Nutrients_1[Active], "1"), " ") | AS17: =IFERROR(AVERAGEIFS(Nutrients_1[V:Nitrogen], Nutrients_1[For], Nutrients_2[[#This Row],[For]], Nutrients_1[Active], "1"), " ") | AT17: =IFERROR(AVERAGEIFS(Nutrients_1[V:Phosphorus], Nutrients_1[For], Nutrients_2[[#This Row],[For]], Nutrients_1[Active], "1"), " ") | AU17: =IFERROR(AVERAGEIFS(Nutrients_1[V:Potassium], Nutrients_1[For], Nutrients_2[[#This Row],[For]], Nutrients_1[Active], "1"), " ") | AV17: =IFERROR(AVERAGEIFS(Nutrients_1[V:Calcium], Nutrients_1[For], Nutrients_2[[#This Row],[For]], Nutrients_1[Active], "1"), " ") | AW17: =IFERROR(AVERAGEIFS(Nutrients_1[V:Magnesium], Nutrients_1[For], Nutrients_2[[#This Row],[For]], Nutrients_1[Active], "1"), " ") | AX17: =IFERROR(AVERAGEIFS(Nutrients_1[V:Sulfur], Nutrients_1[For], Nutrients_2[[#This Row],[For]], Nutrients_1[Active], "1"), " ") | AY17: =IFERROR(AVERAGEIFS(Nutrients_1[V:Iron], Nutrients_1[For], Nutrients_2[[#This Row],[For]], Nutrients_1[Active], "1"), " ") | AZ17: =IFERROR(AVERAGEIFS(Nutrients_1[V:Manganese], Nutrients_1[For], Nutrients_2[[#This Row],[For]], Nutrients_1[Active], "1"), " ") | BA17: =IFERROR(AVERAGEIFS(Nutrients_1[V:Zinc], Nutrients_1[For], Nutrients_2[[#This Row],[For]], Nutrients_1[Active], "1"), " ") | BB17: =IFERROR(AVERAGEIFS(Nutrients_1[V:Boron], Nutrients_1[For], Nutrients_2[[#This Row],[For]], Nutrients_1[Active], "1"), " ") | BC17: =IFERROR(AVERAGEIFS(Nutrients_1[V:Copper], Nutrients_1[For], Nutrients_2[[#This Row],[For]], Nutrients_1[Active], "1"), " ") | BD17: =IFERROR(AVERAGEIFS(Nutrients_1[V:Molybdenum], Nutrients_1[For], Nutrients_2[[#This Row],[For]], Nutrients_1[Active], "1"), " ") | BE17: =IFERROR(AVERAGEIFS(Nutrients_1[V:Cl], Nutrients_1[For], Nutrients_2[[#This Row],[For]], Nutrients_1[Active], "1"), " ")
D18: =IF(Nutrients_1[[#This Row],[EC (min)]]="", "", IFERROR(VALUE(Nutrients_1[[#This Row],[EC (min)]]), "")) | F18: =IF(Nutrients_1[[#This Row],[EC (max)]]="", "", IFERROR(VALUE(Nutrients_1[[#This Row],[EC (max)]]), "")) | H18: {=_xlfn.LET(_xlpm.data, _xlfn.SINGLE(Nutrients_1[pH (min)]), IF(_xlpm.data="", "", IFERROR(VALUE(_xlpm.data), "")))} | J18: {=_xlfn.LET(_xlpm.data, _xlfn.SINGLE(Nutrients_1[pH (max)]), IF(_xlpm.data="", "", IFERROR(VALUE(_xlpm.data), "")))} | L18: {=_xlfn.LET(_xlpm.data, _xlfn.SINGLE(Nutrients_1[Nitrogen]), IF(_xlpm.data="", "", IFERROR(VALUE(_xlpm.data), "")))} | N18: =IF(Nutrients_1[[#This Row],[Phosphorus]]="", "", IFERROR(VALUE(Nutrients_1[[#This Row],[Phosphorus]]), "")) | P18: =IF(Nutrients_1[[#This Row],[Potassium]]="", "", IFERROR(VALUE(Nutrients_1[[#This Row],[Potassium]]), "")) | R18: =IF(Nutrients_1[[#This Row],[Calcium]]="", "", IFERROR(VALUE(Nutrients_1[[#This Row],[Calcium]]), "")) | T18: {=_xlfn.LET(_xlpm.data, Nutrients_1[[#This Row],[Magnesium]], IF(_xlpm.data="", "", IFERROR(VALUE(_xlpm.data), "")))} | V18: {=_xlfn.LET(_xlpm.data, Nutrients_1[[#This Row],[Sulfur]], IF(_xlpm.data="", "", IFERROR(VALUE(_xlpm.data), "")))} | X18: {=_xlfn.LET(_xlpm.data, Nutrients_1[[#This Row],[Iron]], IF(_xlpm.data="", "", IFERROR(VALUE(_xlpm.data), "")))} | Z18: {=_xlfn.LET(_xlpm.data, Nutrients_1[[#This Row],[Manganese]], IF(_xlpm.data="", "", IFERROR(VALUE(_xlpm.data), "")))} | AB18: {=_xlfn.LET(_xlpm.data, Nutrients_1[[#This Row],[Zinc]], IF(_xlpm.data="", "", IFERROR(VALUE(_xlpm.data), "")))} | AD18: {=_xlfn.LET(_xlpm.data, Nutrients_1[[#This Row],[Boron]], IF(_xlpm.data="", "", IFERROR(VALUE(_xlpm.data), "")))} | AF18: {=_xlfn.LET(_xlpm.data, Nutrients_1[[#This Row],[Copper]], IF(_xlpm.data="", "", IFERROR(VALUE(_xlpm.data), "")))} | AH18: {=_xlfn.LET(_xlpm.data, Nutrients_1[[#This Row],[Molybdenum]], IF(_xlpm.data="", "", IFERROR(VALUE(_xlpm.data), "")))} | AJ18: {=_xlfn.LET(_xlpm.data, Nutrients_1[[#This Row],[Cl]], IF(_xlpm.data="", "", IFERROR(VALUE(_xlpm.data), "")))} | AN18: {=_xlfn.LET(_xlpm.value, OFFSET(INDIRECT(ADDRESS(ROW(), COLUMN())), 0, -1), IF(_xlpm.value="", " ", _xlpm.value))} | AO18: =IFERROR(AVERAGEIFS(Nutrients_1[V:pH (min)], Nutrients_1[For], Nutrients_2[[#This Row],[For]], Nutrients_1[Active], "1"), " ") | AP18: =IFERROR(AVERAGEIFS(Nutrients_1[V:pH (max)], Nutrients_1[For], Nutrients_2[[#This Row],[For]], Nutrients_1[Active], "1"), " ") | AQ18: =IFERROR(AVERAGEIFS(Nutrients_1[V:EC (min)], Nutrients_1[For], Nutrients_2[[#This Row],[For]], Nutrients_1[Active], "1"), " ") | AR18: =IFERROR(AVERAGEIFS(Nutrients_1[V:EC (max)], Nutrients_1[For], Nutrients_2[[#This Row],[For]], Nutrients_1[Active], "1"), " ") | AS18: =IFERROR(AVERAGEIFS(Nutrients_1[V:Nitrogen], Nutrients_1[For], Nutrients_2[[#This Row],[For]], Nutrients_1[Active], "1"), " ") | AT18: =IFERROR(AVERAGEIFS(Nutrients_1[V:Phosphorus], Nutrients_1[For], Nutrients_2[[#This Row],[For]], Nutrients_1[Active], "1"), " ") | AU18: =IFERROR(AVERAGEIFS(Nutrients_1[V:Potassium], Nutrients_1[For], Nutrients_2[[#This Row],[For]], Nutrients_1[Active], "1"), " ") | AV18: =IFERROR(AVERAGEIFS(Nutrients_1[V:Calcium], Nutrients_1[For], Nutrients_2[[#This Row],[For]], Nutrients_1[Active], "1"), " ") | AW18: =IFERROR(AVERAGEIFS(Nutrients_1[V:Magnesium], Nutrients_1[For], Nutrients_2[[#This Row],[For]], Nutrients_1[Active], "1"), " ") | AX18: =IFERROR(AVERAGEIFS(Nutrients_1[V:Sulfur], Nutrients_1[For], Nutrients_2[[#This Row],[For]], Nutrients_1[Active], "1"), " ") | AY18: =IFERROR(AVERAGEIFS(Nutrients_1[V:Iron], Nutrients_1[For], Nutrients_2[[#This Row],[For]], Nutrients_1[Active], "1"), " ") | AZ18: =IFERROR(AVERAGEIFS(Nutrients_1[V:Manganese], Nutrients_1[For], Nutrients_2[[#This Row],[For]], Nutrients_1[Active], "1"), " ") | BA18: =IFERROR(AVERAGEIFS(Nutrients_1[V:Zinc], Nutrients_1[For], Nutrients_2[[#This Row],[For]], Nutrients_1[Active], "1"), " ") | BB18: =IFERROR(AVERAGEIFS(Nutrients_1[V:Boron], Nutrients_1[For], Nutrients_2[[#This Row],[For]], Nutrients_1[Active], "1"), " ") | BC18: =IFERROR(AVERAGEIFS(Nutrients_1[V:Copper], Nutrients_1[For], Nutrients_2[[#This Row],[For]], Nutrients_1[Active], "1"), " ") | BD18: =IFERROR(AVERAGEIFS(Nutrients_1[V:Molybdenum], Nutrients_1[For], Nutrients_2[[#This Row],[For]], Nutrients_1[Active], "1"), " ") | BE18: =IFERROR(AVERAGEIFS(Nutrients_1[V:Cl], Nutrients_1[For], Nutrients_2[[#This Row],[For]], Nutrients_1[Active], "1"), " ")

Sheet 2026-10-01_Recipes
A10: Water Added (mL) | B10: Fertilizer | C10: Expected Plant | D10: Target PPM N | E10: Expected Fertilizer (g, min) | I10: Fertilizer | J10: Plant | K10: Water Added (mL) | L10: Fertilizer Per L
A11: 1700 | B11: 12-4-16 | C11: Ocimum basilicum | D11: 125 | E11: {=IFERROR(_xlfn.LET( _xlpm.targetN, xxx_Recipes[[#This Row],[Target PPM N]], _xlpm.fertilizerN, _xlfn.XLOOKUP(xxx_Recipes[[#This Row],[Fertilizer]], Fertilizers[Fertilizer], Fertilizers[N]) / 100, _xlpm.targetN / _xlpm.fertilizerN * xxx_Recipes[[#This Row],[Water Added (mL)]] / 1000 / 1000 ), "")} -> 1.7708333 | G11: {=_xlfn.LET( _xlpm.fertilizers,_xlfn._xlws.FILTER(_xlfn.UNIQUE(TRIM(Fertilizers[Fertilizer])),_xlfn.UNIQUE(TRIM(Fertilizers[Fertilizer]))<>""), _xlpm.nutrients,_xlfn._xlws.FILTER(_xlfn.UNIQUE(TRIM(Nutrients_2[For])),_xlfn.UNIQUE(TRIM(Nutrients_2[For]))<>""), _xlpm.data,_xlfn.MAKEARRAY( ROWS(_xlpm.fertilizers)*ROWS(_xlpm.nutrients), 2, _xlfn.LAMBDA(_xlpm.r,_xlpm.c, IF( _xlpm.c=1, INDEX(_xlpm.fertilizers,ROUNDUP(_xlpm.r/ROWS(_xlpm.nutrients),0)), INDEX(_xlpm.nutrients,MOD(_xlpm.r-1,ROWS(_xlpm.nutrients))+1) ) ) ), _xlfn.SORTBY(_xlpm.data,_xlfn.CHOOSECOLS(_xlpm.data,2),1,VALUE(_xlfn.CHOOSECOLS(_xlpm.data,1)),1) )} -> 12-4-16 | H11: Lactuca sativa | I11: {=_xlfn.LET(_xlpm.value, OFFSET(INDIRECT(ADDRESS(ROW(),COLUMN())),0,-2), IF(_xlpm.value="","",_xlpm.value))} -> 12-4-16 | J11: {=_xlfn.LET(_xlpm.value, OFFSET(INDIRECT(ADDRESS(ROW(),COLUMN())),0,-2), IF(_xlpm.value="","",_xlpm.value))} -> Lactuca sativa | K11: 1000 | L11: {=IFERROR(_xlfn.LET( _xlpm.targetN, _xlfn.XLOOKUP(xxx_Table23[[#This Row],[Plant]], Nutrients_2[For], Nutrients_2[C:Nitrogen]), _xlpm.fertilizerN, _xlfn.XLOOKUP(xxx_Table23[[#This Row],[Fertilizer]], Fertilizers[Fertilizer], Fertilizers[N]) / 100, _xlpm.targetN / _xlpm.fertilizerN * xxx_Table23[[#This Row],[Water Added (mL)]] / 1000 / 1000 ), "")} -> 1.25
G12: 12-4-16 | H12: Ocimum basilicum | I12: {=_xlfn.LET(_xlpm.value, OFFSET(INDIRECT(ADDRESS(ROW(),COLUMN())),0,-2), IF(_xlpm.value="","",_xlpm.value))} -> 12-4-16 | J12: {=_xlfn.LET(_xlpm.value, OFFSET(INDIRECT(ADDRESS(ROW(),COLUMN())),0,-2), IF(_xlpm.value="","",_xlpm.value))} -> Ocimum basilicum | K12: 1000 | L12: {=IFERROR(_xlfn.LET( _xlpm.targetN, _xlfn.XLOOKUP(xxx_Table23[[#This Row],[Plant]], Nutrients_2[For], Nutrients_2[C:Nitrogen]), _xlpm.fertilizerN, _xlfn.XLOOKUP(xxx_Table23[[#This Row],[Fertilizer]], Fertilizers[Fertilizer], Fertilizers[N]) / 100, _xlpm.targetN / _xlpm.fertilizerN * xxx_Table23[[#This Row],[Water Added (mL)]] / 1000 / 1000 ), "")} -> 1.4166667
I13: {=_xlfn.LET(_xlpm.value, OFFSET(INDIRECT(ADDRESS(ROW(),COLUMN())),0,-2), IF(_xlpm.value="","",_xlpm.value))} | J13: {=_xlfn.LET(_xlpm.value, OFFSET(INDIRECT(ADDRESS(ROW(),COLUMN())),0,-2), IF(_xlpm.value="","",_xlpm.value))} | L13: {=IFERROR(_xlfn.LET( _xlpm.targetN, _xlfn.XLOOKUP(xxx_Table23[[#This Row],[Plant]], Nutrients_2[For], Nutrients_2[C:Nitrogen]), _xlpm.fertilizerN, _xlfn.XLOOKUP(xxx_Table23[[#This Row],[Fertilizer]], Fertilizers[Fertilizer], Fertilizers[N]) / 100, _xlpm.targetN / _xlpm.fertilizerN * xxx_Table23[[#This Row],[Water Added (mL)]] / 1000 / 1000 ), "")}
I14: {=_xlfn.LET(_xlpm.value, OFFSET(INDIRECT(ADDRESS(ROW(),COLUMN())),0,-2), IF(_xlpm.value="","",_xlpm.value))} | J14: {=_xlfn.LET(_xlpm.value, OFFSET(INDIRECT(ADDRESS(ROW(),COLUMN())),0,-2), IF(_xlpm.value="","",_xlpm.value))} | L14: {=IFERROR(_xlfn.LET( _xlpm.targetN, _xlfn.XLOOKUP(xxx_Table23[[#This Row],[Plant]], Nutrients_2[For], Nutrients_2[C:Nitrogen]), _xlpm.fertilizerN, _xlfn.XLOOKUP(xxx_Table23[[#This Row],[Fertilizer]], Fertilizers[Fertilizer], Fertilizers[N]) / 100, _xlpm.targetN / _xlpm.fertilizerN * xxx_Table23[[#This Row],[Water Added (mL)]] / 1000 / 1000 ), "")}

Sheet 2026-10-04_Recipes
A2: Hydroponic Nutrient Solution Calculator
A3: Recreated from the University of Missouri Extension calculator (J. Cabrera-Garcia & R. Milhollin, 1/2026; see MU Extension g6984). Crop requirements are read from the Nutrients sheet and fertilizer analyses from the Fertilizers sheet.
A4: Cell colors: | B4: Input | C4: Result | D4: Info | E4: Educational use only; the user assumes all risks associated with its use.
A6: Crop | B6: Nutrient Volume (L) | C6: Column2 | D6: Column1
A7: Ocimum basilicum | B7: 1.7 | C7: =IF(Recipes_Crop37[[#This Row],[Crop]]="","",IFERROR(IF(ISNUMBER(INDEX(Nutrients_2[C:pH (min)],MATCH(Recipes_Crop37[[#This Row],[Crop]],Nutrients_2[For],0))),INDEX(Nutrients_2[C:pH (min)],MATCH(Recipes_Crop37[[#This Row],[Crop]],Nutrients_2[For],0)),""),"")) -> 5.8 | D7: =IF(Recipes_Crop37[[#This Row],[Crop]]="","",IFERROR(IF(ISNUMBER(INDEX(Nutrients_2[C:pH (max)],MATCH(Recipes_Crop37[[#This Row],[Crop]],Nutrients_2[For],0))),INDEX(Nutrients_2[C:pH (max)],MATCH(Recipes_Crop37[[#This Row],[Crop]],Nutrients_2[For],0)),""),"")) -> 6.2
A9: STEP 3: Select the fertilizers and input the amount dissolved in the nutrient volume above
A10: Type of fertilizer | B10: Target PPM N | C10: Target PPM P | D10: Target PPM K | E10: Amount (grams) | F10: Fertilizer (mg/L) | G10: N supplied (ppm)
A11: 12-4-16 | B11: 125 | E11: {=IF(Recipe_Input36[[#This Row],[Type of fertilizer]]="","", IFERROR( MAX( IF(N(Recipe_Input36[[#This Row],[Target PPM N]])=0,0, Recipe_Input36[[#This Row],[Target PPM N]]/(VALUE(INDEX(Fertilizers[N],MATCH(Recipe_Input36[[#This Row],[Type of fertilizer]],Fertilizers[Fertilizer],0)))/100)), IF(N(Recipe_Input36[[#This Row],[Target PPM P]])=0,0, Recipe_Input36[[#This Row],[Target PPM P]]/(VALUE(INDEX(Fertilizers[P],MATCH(Recipe_Input36[[#This Row],[Type of fertilizer]],Fertilizers[Fertilizer],0)))/100)), IF(N(Recipe_Input36[[#This Row],[Target PPM K]])=0,0, Recipe_Input36[[#This Row],[Target PPM K]]/(VALUE(INDEX(Fertilizers[K],MATCH(Recipe_Input36[[#This Row],[Type of fertilizer]],Fertilizers[Fertilizer],0)))/100)) )/1000*Recipes_Crop37[Nutrient Volume (L)], "") )} -> 1.7708333 | F11: {=IF(OR(Recipe_Input36[[#This Row],[Type of fertilizer]]="",Recipe_Input36[[#This Row],[Amount (grams)]]=""),"",IFERROR(Recipe_Input36[[#This Row],[Amount (grams)]]*1000/Recipes_Crop37[Nutrient Volume (L)],""))} -> 1041.6667 | G11: {=IFERROR(IF(Recipe_Input36[[#This Row],[Type of fertilizer]]="",0,VALUE(INDEX(Fertilizers[N],MATCH(Recipe_Input36[[#This Row],[Type of fertilizer]],Fertilizers[Fertilizer],0)))*N(Recipe_Input36[[#This Row],[Amount (grams)]])*10/Recipes_Crop37[Nutrient Volume (L)]),0)} -> 125
E12: {=IF(Recipe_Input36[[#This Row],[Type of fertilizer]]="","", IFERROR( MAX( IF(N(Recipe_Input36[[#This Row],[Target PPM N]])=0,0, Recipe_Input36[[#This Row],[Target PPM N]]/(VALUE(INDEX(Fertilizers[N],MATCH(Recipe_Input36[[#This Row],[Type of fertilizer]],Fertilizers[Fertilizer],0)))/100)), IF(N(Recipe_Input36[[#This Row],[Target PPM P]])=0,0, Recipe_Input36[[#This Row],[Target PPM P]]/(VALUE(INDEX(Fertilizers[P],MATCH(Recipe_Input36[[#This Row],[Type of fertilizer]],Fertilizers[Fertilizer],0)))/100)), IF(N(Recipe_Input36[[#This Row],[Target PPM K]])=0,0, Recipe_Input36[[#This Row],[Target PPM K]]/(VALUE(INDEX(Fertilizers[K],MATCH(Recipe_Input36[[#This Row],[Type of fertilizer]],Fertilizers[Fertilizer],0)))/100)) )/1000*Recipes_Crop37[Nutrient Volume (L)], "") )} | F12: {=IF(OR(Recipe_Input36[[#This Row],[Type of fertilizer]]="",Recipe_Input36[[#This Row],[Amount (grams)]]=""),"",IFERROR(Recipe_Input36[[#This Row],[Amount (grams)]]*1000/Recipes_Crop37[Nutrient Volume (L)],""))} | G12: {=IFERROR(IF(Recipe_Input36[[#This Row],[Type of fertilizer]]="",0,VALUE(INDEX(Fertilizers[N],MATCH(Recipe_Input36[[#This Row],[Type of fertilizer]],Fertilizers[Fertilizer],0)))*N(Recipe_Input36[[#This Row],[Amount (grams)]])*10/Recipes_Crop37[Nutrient Volume (L)]),0)} -> 0
E13: {=IF(Recipe_Input36[[#This Row],[Type of fertilizer]]="","", IFERROR( MAX( IF(N(Recipe_Input36[[#This Row],[Target PPM N]])=0,0, Recipe_Input36[[#This Row],[Target PPM N]]/(VALUE(INDEX(Fertilizers[N],MATCH(Recipe_Input36[[#This Row],[Type of fertilizer]],Fertilizers[Fertilizer],0)))/100)), IF(N(Recipe_Input36[[#This Row],[Target PPM P]])=0,0, Recipe_Input36[[#This Row],[Target PPM P]]/(VALUE(INDEX(Fertilizers[P],MATCH(Recipe_Input36[[#This Row],[Type of fertilizer]],Fertilizers[Fertilizer],0)))/100)), IF(N(Recipe_Input36[[#This Row],[Target PPM K]])=0,0, Recipe_Input36[[#This Row],[Target PPM K]]/(VALUE(INDEX(Fertilizers[K],MATCH(Recipe_Input36[[#This Row],[Type of fertilizer]],Fertilizers[Fertilizer],0)))/100)) )/1000*Recipes_Crop37[Nutrient Volume (L)], "") )} | F13: {=IF(OR(Recipe_Input36[[#This Row],[Type of fertilizer]]="",Recipe_Input36[[#This Row],[Amount (grams)]]=""),"",IFERROR(Recipe_Input36[[#This Row],[Amount (grams)]]*1000/Recipes_Crop37[Nutrient Volume (L)],""))} | G13: {=IFERROR(IF(Recipe_Input36[[#This Row],[Type of fertilizer]]="",0,VALUE(INDEX(Fertilizers[N],MATCH(Recipe_Input36[[#This Row],[Type of fertilizer]],Fertilizers[Fertilizer],0)))*N(Recipe_Input36[[#This Row],[Amount (grams)]])*10/Recipes_Crop37[Nutrient Volume (L)]),0)} -> 0
E14: {=IF(Recipe_Input36[[#This Row],[Type of fertilizer]]="","", IFERROR( MAX( IF(N(Recipe_Input36[[#This Row],[Target PPM N]])=0,0, Recipe_Input36[[#This Row],[Target PPM N]]/(VALUE(INDEX(Fertilizers[N],MATCH(Recipe_Input36[[#This Row],[Type of fertilizer]],Fertilizers[Fertilizer],0)))/100)), IF(N(Recipe_Input36[[#This Row],[Target PPM P]])=0,0, Recipe_Input36[[#This Row],[Target PPM P]]/(VALUE(INDEX(Fertilizers[P],MATCH(Recipe_Input36[[#This Row],[Type of fertilizer]],Fertilizers[Fertilizer],0)))/100)), IF(N(Recipe_Input36[[#This Row],[Target PPM K]])=0,0, Recipe_Input36[[#This Row],[Target PPM K]]/(VALUE(INDEX(Fertilizers[K],MATCH(Recipe_Input36[[#This Row],[Type of fertilizer]],Fertilizers[Fertilizer],0)))/100)) )/1000*Recipes_Crop37[Nutrient Volume (L)], "") )} | F14: {=IF(OR(Recipe_Input36[[#This Row],[Type of fertilizer]]="",Recipe_Input36[[#This Row],[Amount (grams)]]=""),"",IFERROR(Recipe_Input36[[#This Row],[Amount (grams)]]*1000/Recipes_Crop37[Nutrient Volume (L)],""))} | G14: {=IFERROR(IF(Recipe_Input36[[#This Row],[Type of fertilizer]]="",0,VALUE(INDEX(Fertilizers[N],MATCH(Recipe_Input36[[#This Row],[Type of fertilizer]],Fertilizers[Fertilizer],0)))*N(Recipe_Input36[[#This Row],[Amount (grams)]])*10/Recipes_Crop37[Nutrient Volume (L)]),0)} -> 0
E15: {=IF(Recipe_Input36[[#This Row],[Type of fertilizer]]="","", IFERROR( MAX( IF(N(Recipe_Input36[[#This Row],[Target PPM N]])=0,0, Recipe_Input36[[#This Row],[Target PPM N]]/(VALUE(INDEX(Fertilizers[N],MATCH(Recipe_Input36[[#This Row],[Type of fertilizer]],Fertilizers[Fertilizer],0)))/100)), IF(N(Recipe_Input36[[#This Row],[Target PPM P]])=0,0, Recipe_Input36[[#This Row],[Target PPM P]]/(VALUE(INDEX(Fertilizers[P],MATCH(Recipe_Input36[[#This Row],[Type of fertilizer]],Fertilizers[Fertilizer],0)))/100)), IF(N(Recipe_Input36[[#This Row],[Target PPM K]])=0,0, Recipe_Input36[[#This Row],[Target PPM K]]/(VALUE(INDEX(Fertilizers[K],MATCH(Recipe_Input36[[#This Row],[Type of fertilizer]],Fertilizers[Fertilizer],0)))/100)) )/1000*Recipes_Crop37[Nutrient Volume (L)], "") )} | F15: {=IF(OR(Recipe_Input36[[#This Row],[Type of fertilizer]]="",Recipe_Input36[[#This Row],[Amount (grams)]]=""),"",IFERROR(Recipe_Input36[[#This Row],[Amount (grams)]]*1000/Recipes_Crop37[Nutrient Volume (L)],""))} | G15: {=IFERROR(IF(Recipe_Input36[[#This Row],[Type of fertilizer]]="",0,VALUE(INDEX(Fertilizers[N],MATCH(Recipe_Input36[[#This Row],[Type of fertilizer]],Fertilizers[Fertilizer],0)))*N(Recipe_Input36[[#This Row],[Amount (grams)]])*10/Recipes_Crop37[Nutrient Volume (L)]),0)} -> 0
A17: STEP 4: Verify that the inputs from Step 3 meet the crop nutritional requirement
A18: Nutrient concentration (ppm) | B18: Total N | C18: Urea | D18: Ammonium-N | E18: Nitrate-N | F18: P | G18: K | H18: Ca | I18: Mg | J18: S | K18: B | L18: Cu | M18: Fe | N18: Mn | O18: Mo | P18: Zn | Q18: K/N
A19: =IF(INDEX(Recipe_Input36[Type of fertilizer],ROW()-ROW(Recipe_Calc31[#Headers]))="","(none selected)",INDEX(Recipe_Input36[Type of fertilizer],ROW()-ROW(Recipe_Calc31[#Headers]))) -> 12-4-16 | B19: =IFERROR(INDEX(Recipe_Input36[N supplied (ppm)],ROW()-ROW(Recipe_Calc31[#Headers]))*INDEX(Fertilizers[#Data],MATCH(INDEX(Recipe_Input36[Type of fertilizer],ROW()-ROW(Recipe_Calc31[#Headers])),Fertilizers[Fertilizer],0),MATCH(B$41,Fertilizers[#Headers],0))/100,0) -> 125 | C19: =IFERROR(INDEX(Recipe_Input36[N supplied (ppm)],ROW()-ROW(Recipe_Calc31[#Headers]))*INDEX(Fertilizers[#Data],MATCH(INDEX(Recipe_Input36[Type of fertilizer],ROW()-ROW(Recipe_Calc31[#Headers])),Fertilizers[Fertilizer],0),MATCH(C$41,Fertilizers[#Headers],0))/100,0) -> 0 | D19: =IFERROR(INDEX(Recipe_Input36[N supplied (ppm)],ROW()-ROW(Recipe_Calc31[#Headers]))*INDEX(Fertilizers[#Data],MATCH(INDEX(Recipe_Input36[Type of fertilizer],ROW()-ROW(Recipe_Calc31[#Headers])),Fertilizers[Fertilizer],0),MATCH(D$41,Fertilizers[#Headers],0))/100,0) -> 2.125 | E19: =IFERROR(INDEX(Recipe_Input36[N supplied (ppm)],ROW()-ROW(Recipe_Calc31[#Headers]))*INDEX(Fertilizers[#Data],MATCH(INDEX(Recipe_Input36[Type of fertilizer],ROW()-ROW(Recipe_Calc31[#Headers])),Fertilizers[Fertilizer],0),MATCH(E$41,Fertilizers[#Headers],0))/100,0) -> 122.875 | F19: =IFERROR(INDEX(Recipe_Input36[N supplied (ppm)],ROW()-ROW(Recipe_Calc31[#Headers]))*INDEX(Fertilizers[#Data],MATCH(INDEX(Recipe_Input36[Type of fertilizer],ROW()-ROW(Recipe_Calc31[#Headers])),Fertilizers[Fertilizer],0),MATCH(F$41,Fertilizers[#Headers],0))/100,0) -> 18.125 | G19: =IFERROR(INDEX(Recipe_Input36[N supplied (ppm)],ROW()-ROW(Recipe_Calc31[#Headers]))*INDEX(Fertilizers[#Data],MATCH(INDEX(Recipe_Input36[Type of fertilizer],ROW()-ROW(Recipe_Calc31[#Headers])),Fertilizers[Fertilizer],0),MATCH(G$41,Fertilizers[#Headers],0))/100,0) -> 138.375 | H19: =IFERROR(INDEX(Recipe_Input36[N supplied (ppm)],ROW()-ROW(Recipe_Calc31[#Headers]))*INDEX(Fertilizers[#Data],MATCH(INDEX(Recipe_Input36[Type of fertilizer],ROW()-ROW(Recipe_Calc31[#Headers])),Fertilizers[Fertilizer],0),MATCH(H$41,Fertilizers[#Headers],0))/100,0) -> 72.875 | I19: =IFERROR(INDEX(Recipe_Input36[N supplied (ppm)],ROW()-ROW(Recipe_Calc31[#Headers]))*INDEX(Fertilizers[#Data],MATCH(INDEX(Recipe_Input36[Type of fertilizer],ROW()-ROW(Recipe_Calc31[#Headers])),Fertilizers[Fertilizer],0),MATCH(I$41,Fertilizers[#Headers],0))/100,0) -> 20.875 | ... P19: =IFERROR(INDEX(Recipe_Input36[N supplied (ppm)],ROW()-ROW(Recipe_Calc31[#Headers]))*INDEX(Fertilizers[#Data],MATCH(INDEX(Recipe_Input36[Type of fertilizer],ROW()-ROW(Recipe_Calc31[#Headers])),Fertilizers[Fertilizer],0),MATCH(P$41,Fertilizers[#Headers],0))/100,0) -> 0.3625
A20: =IF(INDEX(Recipe_Input36[Type of fertilizer],ROW()-ROW(Recipe_Calc31[#Headers]))="","(none selected)",INDEX(Recipe_Input36[Type of fertilizer],ROW()-ROW(Recipe_Calc31[#Headers]))) -> (none selected) | B20: =IFERROR(INDEX(Recipe_Input36[N supplied (ppm)],ROW()-ROW(Recipe_Calc31[#Headers]))*INDEX(Fertilizers[#Data],MATCH(INDEX(Recipe_Input36[Type of fertilizer],ROW()-ROW(Recipe_Calc31[#Headers])),Fertilizers[Fertilizer],0),MATCH(B$41,Fertilizers[#Headers],0))/100,0) -> 0 | C20: =IFERROR(INDEX(Recipe_Input36[N supplied (ppm)],ROW()-ROW(Recipe_Calc31[#Headers]))*INDEX(Fertilizers[#Data],MATCH(INDEX(Recipe_Input36[Type of fertilizer],ROW()-ROW(Recipe_Calc31[#Headers])),Fertilizers[Fertilizer],0),MATCH(C$41,Fertilizers[#Headers],0))/100,0) -> 0 | D20: =IFERROR(INDEX(Recipe_Input36[N supplied (ppm)],ROW()-ROW(Recipe_Calc31[#Headers]))*INDEX(Fertilizers[#Data],MATCH(INDEX(Recipe_Input36[Type of fertilizer],ROW()-ROW(Recipe_Calc31[#Headers])),Fertilizers[Fertilizer],0),MATCH(D$41,Fertilizers[#Headers],0))/100,0) -> 0 | E20: =IFERROR(INDEX(Recipe_Input36[N supplied (ppm)],ROW()-ROW(Recipe_Calc31[#Headers]))*INDEX(Fertilizers[#Data],MATCH(INDEX(Recipe_Input36[Type of fertilizer],ROW()-ROW(Recipe_Calc31[#Headers])),Fertilizers[Fertilizer],0),MATCH(E$41,Fertilizers[#Headers],0))/100,0) -> 0 | F20: =IFERROR(INDEX(Recipe_Input36[N supplied (ppm)],ROW()-ROW(Recipe_Calc31[#Headers]))*INDEX(Fertilizers[#Data],MATCH(INDEX(Recipe_Input36[Type of fertilizer],ROW()-ROW(Recipe_Calc31[#Headers])),Fertilizers[Fertilizer],0),MATCH(F$41,Fertilizers[#Headers],0))/100,0) -> 0 | G20: =IFERROR(INDEX(Recipe_Input36[N supplied (ppm)],ROW()-ROW(Recipe_Calc31[#Headers]))*INDEX(Fertilizers[#Data],MATCH(INDEX(Recipe_Input36[Type of fertilizer],ROW()-ROW(Recipe_Calc31[#Headers])),Fertilizers[Fertilizer],0),MATCH(G$41,Fertilizers[#Headers],0))/100,0) -> 0 | H20: =IFERROR(INDEX(Recipe_Input36[N supplied (ppm)],ROW()-ROW(Recipe_Calc31[#Headers]))*INDEX(Fertilizers[#Data],MATCH(INDEX(Recipe_Input36[Type of fertilizer],ROW()-ROW(Recipe_Calc31[#Headers])),Fertilizers[Fertilizer],0),MATCH(H$41,Fertilizers[#Headers],0))/100,0) -> 0 | I20: =IFERROR(INDEX(Recipe_Input36[N supplied (ppm)],ROW()-ROW(Recipe_Calc31[#Headers]))*INDEX(Fertilizers[#Data],MATCH(INDEX(Recipe_Input36[Type of fertilizer],ROW()-ROW(Recipe_Calc31[#Headers])),Fertilizers[Fertilizer],0),MATCH(I$41,Fertilizers[#Headers],0))/100,0) -> 0 | ... P20: =IFERROR(INDEX(Recipe_Input36[N supplied (ppm)],ROW()-ROW(Recipe_Calc31[#Headers]))*INDEX(Fertilizers[#Data],MATCH(INDEX(Recipe_Input36[Type of fertilizer],ROW()-ROW(Recipe_Calc31[#Headers])),Fertilizers[Fertilizer],0),MATCH(P$41,Fertilizers[#Headers],0))/100,0) -> 0
A21: =IF(INDEX(Recipe_Input36[Type of fertilizer],ROW()-ROW(Recipe_Calc31[#Headers]))="","(none selected)",INDEX(Recipe_Input36[Type of fertilizer],ROW()-ROW(Recipe_Calc31[#Headers]))) -> (none selected) | B21: =IFERROR(INDEX(Recipe_Input36[N supplied (ppm)],ROW()-ROW(Recipe_Calc31[#Headers]))*INDEX(Fertilizers[#Data],MATCH(INDEX(Recipe_Input36[Type of fertilizer],ROW()-ROW(Recipe_Calc31[#Headers])),Fertilizers[Fertilizer],0),MATCH(B$41,Fertilizers[#Headers],0))/100,0) -> 0 | C21: =IFERROR(INDEX(Recipe_Input36[N supplied (ppm)],ROW()-ROW(Recipe_Calc31[#Headers]))*INDEX(Fertilizers[#Data],MATCH(INDEX(Recipe_Input36[Type of fertilizer],ROW()-ROW(Recipe_Calc31[#Headers])),Fertilizers[Fertilizer],0),MATCH(C$41,Fertilizers[#Headers],0))/100,0) -> 0 | D21: =IFERROR(INDEX(Recipe_Input36[N supplied (ppm)],ROW()-ROW(Recipe_Calc31[#Headers]))*INDEX(Fertilizers[#Data],MATCH(INDEX(Recipe_Input36[Type of fertilizer],ROW()-ROW(Recipe_Calc31[#Headers])),Fertilizers[Fertilizer],0),MATCH(D$41,Fertilizers[#Headers],0))/100,0) -> 0 | E21: =IFERROR(INDEX(Recipe_Input36[N supplied (ppm)],ROW()-ROW(Recipe_Calc31[#Headers]))*INDEX(Fertilizers[#Data],MATCH(INDEX(Recipe_Input36[Type of fertilizer],ROW()-ROW(Recipe_Calc31[#Headers])),Fertilizers[Fertilizer],0),MATCH(E$41,Fertilizers[#Headers],0))/100,0) -> 0 | F21: =IFERROR(INDEX(Recipe_Input36[N supplied (ppm)],ROW()-ROW(Recipe_Calc31[#Headers]))*INDEX(Fertilizers[#Data],MATCH(INDEX(Recipe_Input36[Type of fertilizer],ROW()-ROW(Recipe_Calc31[#Headers])),Fertilizers[Fertilizer],0),MATCH(F$41,Fertilizers[#Headers],0))/100,0) -> 0 | G21: =IFERROR(INDEX(Recipe_Input36[N supplied (ppm)],ROW()-ROW(Recipe_Calc31[#Headers]))*INDEX(Fertilizers[#Data],MATCH(INDEX(Recipe_Input36[Type of fertilizer],ROW()-ROW(Recipe_Calc31[#Headers])),Fertilizers[Fertilizer],0),MATCH(G$41,Fertilizers[#Headers],0))/100,0) -> 0 | H21: =IFERROR(INDEX(Recipe_Input36[N supplied (ppm)],ROW()-ROW(Recipe_Calc31[#Headers]))*INDEX(Fertilizers[#Data],MATCH(INDEX(Recipe_Input36[Type of fertilizer],ROW()-ROW(Recipe_Calc31[#Headers])),Fertilizers[Fertilizer],0),MATCH(H$41,Fertilizers[#Headers],0))/100,0) -> 0 | I21: =IFERROR(INDEX(Recipe_Input36[N supplied (ppm)],ROW()-ROW(Recipe_Calc31[#Headers]))*INDEX(Fertilizers[#Data],MATCH(INDEX(Recipe_Input36[Type of fertilizer],ROW()-ROW(Recipe_Calc31[#Headers])),Fertilizers[Fertilizer],0),MATCH(I$41,Fertilizers[#Headers],0))/100,0) -> 0 | ... P21: =IFERROR(INDEX(Recipe_Input36[N supplied (ppm)],ROW()-ROW(Recipe_Calc31[#Headers]))*INDEX(Fertilizers[#Data],MATCH(INDEX(Recipe_Input36[Type of fertilizer],ROW()-ROW(Recipe_Calc31[#Headers])),Fertilizers[Fertilizer],0),MATCH(P$41,Fertilizers[#Headers],0))/100,0) -> 0
A22: =IF(INDEX(Recipe_Input36[Type of fertilizer],ROW()-ROW(Recipe_Calc31[#Headers]))="","(none selected)",INDEX(Recipe_Input36[Type of fertilizer],ROW()-ROW(Recipe_Calc31[#Headers]))) -> (none selected) | B22: =IFERROR(INDEX(Recipe_Input36[N supplied (ppm)],ROW()-ROW(Recipe_Calc31[#Headers]))*INDEX(Fertilizers[#Data],MATCH(INDEX(Recipe_Input36[Type of fertilizer],ROW()-ROW(Recipe_Calc31[#Headers])),Fertilizers[Fertilizer],0),MATCH(B$41,Fertilizers[#Headers],0))/100,0) -> 0 | C22: =IFERROR(INDEX(Recipe_Input36[N supplied (ppm)],ROW()-ROW(Recipe_Calc31[#Headers]))*INDEX(Fertilizers[#Data],MATCH(INDEX(Recipe_Input36[Type of fertilizer],ROW()-ROW(Recipe_Calc31[#Headers])),Fertilizers[Fertilizer],0),MATCH(C$41,Fertilizers[#Headers],0))/100,0) -> 0 | D22: =IFERROR(INDEX(Recipe_Input36[N supplied (ppm)],ROW()-ROW(Recipe_Calc31[#Headers]))*INDEX(Fertilizers[#Data],MATCH(INDEX(Recipe_Input36[Type of fertilizer],ROW()-ROW(Recipe_Calc31[#Headers])),Fertilizers[Fertilizer],0),MATCH(D$41,Fertilizers[#Headers],0))/100,0) -> 0 | E22: =IFERROR(INDEX(Recipe_Input36[N supplied (ppm)],ROW()-ROW(Recipe_Calc31[#Headers]))*INDEX(Fertilizers[#Data],MATCH(INDEX(Recipe_Input36[Type of fertilizer],ROW()-ROW(Recipe_Calc31[#Headers])),Fertilizers[Fertilizer],0),MATCH(E$41,Fertilizers[#Headers],0))/100,0) -> 0 | F22: =IFERROR(INDEX(Recipe_Input36[N supplied (ppm)],ROW()-ROW(Recipe_Calc31[#Headers]))*INDEX(Fertilizers[#Data],MATCH(INDEX(Recipe_Input36[Type of fertilizer],ROW()-ROW(Recipe_Calc31[#Headers])),Fertilizers[Fertilizer],0),MATCH(F$41,Fertilizers[#Headers],0))/100,0) -> 0 | G22: =IFERROR(INDEX(Recipe_Input36[N supplied (ppm)],ROW()-ROW(Recipe_Calc31[#Headers]))*INDEX(Fertilizers[#Data],MATCH(INDEX(Recipe_Input36[Type of fertilizer],ROW()-ROW(Recipe_Calc31[#Headers])),Fertilizers[Fertilizer],0),MATCH(G$41,Fertilizers[#Headers],0))/100,0) -> 0 | H22: =IFERROR(INDEX(Recipe_Input36[N supplied (ppm)],ROW()-ROW(Recipe_Calc31[#Headers]))*INDEX(Fertilizers[#Data],MATCH(INDEX(Recipe_Input36[Type of fertilizer],ROW()-ROW(Recipe_Calc31[#Headers])),Fertilizers[Fertilizer],0),MATCH(H$41,Fertilizers[#Headers],0))/100,0) -> 0 | I22: =IFERROR(INDEX(Recipe_Input36[N supplied (ppm)],ROW()-ROW(Recipe_Calc31[#Headers]))*INDEX(Fertilizers[#Data],MATCH(INDEX(Recipe_Input36[Type of fertilizer],ROW()-ROW(Recipe_Calc31[#Headers])),Fertilizers[Fertilizer],0),MATCH(I$41,Fertilizers[#Headers],0))/100,0) -> 0 | ... P22: =IFERROR(INDEX(Recipe_Input36[N supplied (ppm)],ROW()-ROW(Recipe_Calc31[#Headers]))*INDEX(Fertilizers[#Data],MATCH(INDEX(Recipe_Input36[Type of fertilizer],ROW()-ROW(Recipe_Calc31[#Headers])),Fertilizers[Fertilizer],0),MATCH(P$41,Fertilizers[#Headers],0))/100,0) -> 0
A23: =IF(INDEX(Recipe_Input36[Type of fertilizer],ROW()-ROW(Recipe_Calc31[#Headers]))="","(none selected)",INDEX(Recipe_Input36[Type of fertilizer],ROW()-ROW(Recipe_Calc31[#Headers]))) -> (none selected) | B23: =IFERROR(INDEX(Recipe_Input36[N supplied (ppm)],ROW()-ROW(Recipe_Calc31[#Headers]))*INDEX(Fertilizers[#Data],MATCH(INDEX(Recipe_Input36[Type of fertilizer],ROW()-ROW(Recipe_Calc31[#Headers])),Fertilizers[Fertilizer],0),MATCH(B$41,Fertilizers[#Headers],0))/100,0) -> 0 | C23: =IFERROR(INDEX(Recipe_Input36[N supplied (ppm)],ROW()-ROW(Recipe_Calc31[#Headers]))*INDEX(Fertilizers[#Data],MATCH(INDEX(Recipe_Input36[Type of fertilizer],ROW()-ROW(Recipe_Calc31[#Headers])),Fertilizers[Fertilizer],0),MATCH(C$41,Fertilizers[#Headers],0))/100,0) -> 0 | D23: =IFERROR(INDEX(Recipe_Input36[N supplied (ppm)],ROW()-ROW(Recipe_Calc31[#Headers]))*INDEX(Fertilizers[#Data],MATCH(INDEX(Recipe_Input36[Type of fertilizer],ROW()-ROW(Recipe_Calc31[#Headers])),Fertilizers[Fertilizer],0),MATCH(D$41,Fertilizers[#Headers],0))/100,0) -> 0 | E23: =IFERROR(INDEX(Recipe_Input36[N supplied (ppm)],ROW()-ROW(Recipe_Calc31[#Headers]))*INDEX(Fertilizers[#Data],MATCH(INDEX(Recipe_Input36[Type of fertilizer],ROW()-ROW(Recipe_Calc31[#Headers])),Fertilizers[Fertilizer],0),MATCH(E$41,Fertilizers[#Headers],0))/100,0) -> 0 | F23: =IFERROR(INDEX(Recipe_Input36[N supplied (ppm)],ROW()-ROW(Recipe_Calc31[#Headers]))*INDEX(Fertilizers[#Data],MATCH(INDEX(Recipe_Input36[Type of fertilizer],ROW()-ROW(Recipe_Calc31[#Headers])),Fertilizers[Fertilizer],0),MATCH(F$41,Fertilizers[#Headers],0))/100,0) -> 0 | G23: =IFERROR(INDEX(Recipe_Input36[N supplied (ppm)],ROW()-ROW(Recipe_Calc31[#Headers]))*INDEX(Fertilizers[#Data],MATCH(INDEX(Recipe_Input36[Type of fertilizer],ROW()-ROW(Recipe_Calc31[#Headers])),Fertilizers[Fertilizer],0),MATCH(G$41,Fertilizers[#Headers],0))/100,0) -> 0 | H23: =IFERROR(INDEX(Recipe_Input36[N supplied (ppm)],ROW()-ROW(Recipe_Calc31[#Headers]))*INDEX(Fertilizers[#Data],MATCH(INDEX(Recipe_Input36[Type of fertilizer],ROW()-ROW(Recipe_Calc31[#Headers])),Fertilizers[Fertilizer],0),MATCH(H$41,Fertilizers[#Headers],0))/100,0) -> 0 | I23: =IFERROR(INDEX(Recipe_Input36[N supplied (ppm)],ROW()-ROW(Recipe_Calc31[#Headers]))*INDEX(Fertilizers[#Data],MATCH(INDEX(Recipe_Input36[Type of fertilizer],ROW()-ROW(Recipe_Calc31[#Headers])),Fertilizers[Fertilizer],0),MATCH(I$41,Fertilizers[#Headers],0))/100,0) -> 0 | ... P23: =IFERROR(INDEX(Recipe_Input36[N supplied (ppm)],ROW()-ROW(Recipe_Calc31[#Headers]))*INDEX(Fertilizers[#Data],MATCH(INDEX(Recipe_Input36[Type of fertilizer],ROW()-ROW(Recipe_Calc31[#Headers])),Fertilizers[Fertilizer],0),MATCH(P$41,Fertilizers[#Headers],0))/100,0) -> 0
A24: Water test (from Step 1) | B24: {=Water_Test[Nitrate-N]} -> 0 | C24: {=Water_Test[Urea]} -> 0 | D24: {=Water_Test[Ammonium-N]} -> 0 | E24: {=Water_Test[Nitrate-N]} -> 0 | F24: {=Water_Test[P]} -> 0 | G24: {=Water_Test[K]} -> 0 | H24: {=Water_Test[Ca]} -> 0 | I24: {=Water_Test[Mg]} -> 0 | J24: {=Water_Test[SO₄²⁻]*INDEX(Conversions[Value],MATCH("S per SO₄²⁻ (32.06 / 96.06)",Conversions[From],0))} -> #N/A | K24: {=Water_Test[B]} -> 0 | L24: {=Water_Test[Cu]} -> 0 | M24: {=Water_Test[Fe]} -> 0 | N24: {=Water_Test[Mn]} -> 0 | O24: {=Water_Test[Mo]} -> 0 | P24: {=Water_Test[Zn]} -> 0
A25: Provided by Steps 1 + 3 | B25: =SUM(INDEX(Recipe_Calc31[Total N],1):INDEX(Recipe_Calc31[Total N],6)) -> 125 | C25: =SUM(INDEX(Recipe_Calc31[Urea],1):INDEX(Recipe_Calc31[Urea],6)) -> 0 | D25: =SUM(INDEX(Recipe_Calc31[Ammonium-N],1):INDEX(Recipe_Calc31[Ammonium-N],6)) -> 2.125 | E25: =SUM(INDEX(Recipe_Calc31[Nitrate-N],1):INDEX(Recipe_Calc31[Nitrate-N],6)) -> 122.875 | F25: =SUM(INDEX(Recipe_Calc31[P],1):INDEX(Recipe_Calc31[P],6)) -> 18.125 | G25: =SUM(INDEX(Recipe_Calc31[K],1):INDEX(Recipe_Calc31[K],6)) -> 138.375 | H25: =SUM(INDEX(Recipe_Calc31[Ca],1):INDEX(Recipe_Calc31[Ca],6)) -> 72.875 | I25: =SUM(INDEX(Recipe_Calc31[Mg],1):INDEX(Recipe_Calc31[Mg],6)) -> 20.875 | J25: =SUM(INDEX(Recipe_Calc31[S],1):INDEX(Recipe_Calc31[S],6)) -> #N/A | K25: =SUM(INDEX(Recipe_Calc31[B],1):INDEX(Recipe_Calc31[B],6)) -> 0.2125 | L25: =SUM(INDEX(Recipe_Calc31[Cu],1):INDEX(Recipe_Calc31[Cu],6)) -> 0.2125 | M25: =SUM(INDEX(Recipe_Calc31[Fe],1):INDEX(Recipe_Calc31[Fe],6)) -> 1.5625 | N25: =SUM(INDEX(Recipe_Calc31[Mn],1):INDEX(Recipe_Calc31[Mn],6)) -> 0.525 | O25: =SUM(INDEX(Recipe_Calc31[Mo],1):INDEX(Recipe_Calc31[Mo],6)) -> 0.0125 | P25: =SUM(INDEX(Recipe_Calc31[Zn],1):INDEX(Recipe_Calc31[Zn],6)) -> 0.3625 | Q25: =IF(N(Recipe_Calc31[[#This Row],[Total N]])>0,Recipe_Calc31[[#This Row],[K]]/Recipe_Calc31[[#This Row],[Total N]],"") -> 1.107 | R25: ← pink = below crop requirement
A26: Crop requirement | B26: {=IF(Recipes_Crop37[Crop]="","",IFERROR(IF(SUMPRODUCT((Nutrients_1[For]=Recipes_Crop37[Crop])*(INDEX(Nutrients_1[#Data],0,MATCH(B$42,Nutrients_1[#Headers],0))<>""))=0,"",SUMPRODUCT((Nutrients_1[For]=Recipes_Crop37[Crop])*("0"&INDEX(Nutrients_1[#Data],0,MATCH(B$42,Nutrients_1[#Headers],0))))/SUMPRODUCT((Nutrients_1[For]=Recipes_Crop37[Crop])*(INDEX(Nutrients_1[#Data],0,MATCH(B$42,Nutrients_1[#Headers],0))<>""))),""))} -> 170 | F26: {=IF(Recipes_Crop37[Crop]="","",IFERROR(IF(SUMPRODUCT((Nutrients_1[For]=Recipes_Crop37[Crop])*(INDEX(Nutrients_1[#Data],0,MATCH(F$42,Nutrients_1[#Headers],0))<>""))=0,"",SUMPRODUCT((Nutrients_1[For]=Recipes_Crop37[Crop])*("0"&INDEX(Nutrients_1[#Data],0,MATCH(F$42,Nutrients_1[#Headers],0))))/SUMPRODUCT((Nutrients_1[For]=Recipes_Crop37[Crop])*(INDEX(Nutrients_1[#Data],0,MATCH(F$42,Nutrients_1[#Headers],0))<>""))),""))} -> 41.566667 | G26: {=IF(Recipes_Crop37[Crop]="","",IFERROR(IF(SUMPRODUCT((Nutrients_1[For]=Recipes_Crop37[Crop])*(INDEX(Nutrients_1[#Data],0,MATCH(G$42,Nutrients_1[#Headers],0))<>""))=0,"",SUMPRODUCT((Nutrients_1[For]=Recipes_Crop37[Crop])*("0"&INDEX(Nutrients_1[#Data],0,MATCH(G$42,Nutrients_1[#Headers],0))))/SUMPRODUCT((Nutrients_1[For]=Recipes_Crop37[Crop])*(INDEX(Nutrients_1[#Data],0,MATCH(G$42,Nutrients_1[#Headers],0))<>""))),""))} -> 248.93333 | H26: {=IF(Recipes_Crop37[Crop]="","",IFERROR(IF(SUMPRODUCT((Nutrients_1[For]=Recipes_Crop37[Crop])*(INDEX(Nutrients_1[#Data],0,MATCH(H$42,Nutrients_1[#Headers],0))<>""))=0,"",SUMPRODUCT((Nutrients_1[For]=Recipes_Crop37[Crop])*("0"&INDEX(Nutrients_1[#Data],0,MATCH(H$42,Nutrients_1[#Headers],0))))/SUMPRODUCT((Nutrients_1[For]=Recipes_Crop37[Crop])*(INDEX(Nutrients_1[#Data],0,MATCH(H$42,Nutrients_1[#Headers],0))<>""))),""))} -> 127.4 | I26: {=IF(Recipes_Crop37[Crop]="","",IFERROR(IF(SUMPRODUCT((Nutrients_1[For]=Recipes_Crop37[Crop])*(INDEX(Nutrients_1[#Data],0,MATCH(I$42,Nutrients_1[#Headers],0))<>""))=0,"",SUMPRODUCT((Nutrients_1[For]=Recipes_Crop37[Crop])*("0"&INDEX(Nutrients_1[#Data],0,MATCH(I$42,Nutrients_1[#Headers],0))))/SUMPRODUCT((Nutrients_1[For]=Recipes_Crop37[Crop])*(INDEX(Nutrients_1[#Data],0,MATCH(I$42,Nutrients_1[#Headers],0))<>""))),""))} -> 40.733333 | J26: {=IF(Recipes_Crop37[Crop]="","",IFERROR(IF(SUMPRODUCT((Nutrients_1[For]=Recipes_Crop37[Crop])*(INDEX(Nutrients_1[#Data],0,MATCH(J$42,Nutrients_1[#Headers],0))<>""))=0,"",SUMPRODUCT((Nutrients_1[For]=Recipes_Crop37[Crop])*("0"&INDEX(Nutrients_1[#Data],0,MATCH(J$42,Nutrients_1[#Headers],0))))/SUMPRODUCT((Nutrients_1[For]=Recipes_Crop37[Crop])*(INDEX(Nutrients_1[#Data],0,MATCH(J$42,Nutrients_1[#Headers],0))<>""))),""))} -> 58.6 | K26: {=IF(Recipes_Crop37[Crop]="","",IFERROR(IF(SUMPRODUCT((Nutrients_1[For]=Recipes_Crop37[Crop])*(INDEX(Nutrients_1[#Data],0,MATCH(K$42,Nutrients_1[#Headers],0))<>""))=0,"",SUMPRODUCT((Nutrients_1[For]=Recipes_Crop37[Crop])*("0"&INDEX(Nutrients_1[#Data],0,MATCH(K$42,Nutrients_1[#Headers],0))))/SUMPRODUCT((Nutrients_1[For]=Recipes_Crop37[Crop])*(INDEX(Nutrients_1[#Data],0,MATCH(K$42,Nutrients_1[#Headers],0))<>""))),""))} -> 0.35333333 | L26: {=IF(Recipes_Crop37[Crop]="","",IFERROR(IF(SUMPRODUCT((Nutrients_1[For]=Recipes_Crop37[Crop])*(INDEX(Nutrients_1[#Data],0,MATCH(L$42,Nutrients_1[#Headers],0))<>""))=0,"",SUMPRODUCT((Nutrients_1[For]=Recipes_Crop37[Crop])*("0"&INDEX(Nutrients_1[#Data],0,MATCH(L$42,Nutrients_1[#Headers],0))))/SUMPRODUCT((Nutrients_1[For]=Recipes_Crop37[Crop])*(INDEX(Nutrients_1[#Data],0,MATCH(L$42,Nutrients_1[#Headers],0))<>""))),""))} -> 0.10766667 | M26: {=IF(Recipes_Crop37[Crop]="","",IFERROR(IF(SUMPRODUCT((Nutrients_1[For]=Recipes_Crop37[Crop])*(INDEX(Nutrients_1[#Data],0,MATCH(M$42,Nutrients_1[#Headers],0))<>""))=0,"",SUMPRODUCT((Nutrients_1[For]=Recipes_Crop37[Crop])*("0"&INDEX(Nutrients_1[#Data],0,MATCH(M$42,Nutrients_1[#Headers],0))))/SUMPRODUCT((Nutrients_1[For]=Recipes_Crop37[Crop])*(INDEX(Nutrients_1[#Data],0,MATCH(M$42,Nutrients_1[#Headers],0))<>""))),""))} -> 2.5 | ... P26: {=IF(Recipes_Crop37[Crop]="","",IFERROR(IF(SUMPRODUCT((Nutrients_1[For]=Recipes_Crop37[Crop])*(INDEX(Nutrients_1[#Data],0,MATCH(P$42,Nutrients_1[#Headers],0))<>""))=0,"",SUMPRODUCT((Nutrients_1[For]=Recipes_Crop37[Crop])*("0"&INDEX(Nutrients_1[#Data],0,MATCH(P$42,Nutrients_1[#Headers],0))))/SUMPRODUCT((Nutrients_1[For]=Recipes_Crop37[Crop])*(INDEX(Nutrients_1[#Data],0,MATCH(P$42,Nutrients_1[#Headers],0))<>""))),""))} -> 0.17666667 | Q26: =IF(AND(ISNUMBER(Recipe_Calc31[[#This Row],[K]]),ISNUMBER(Recipe_Calc31[[#This Row],[Total N]])),IF(Recipe_Calc31[[#This Row],[Total N]]>0,Recipe_Calc31[[#This Row],[K]]/Recipe_Calc31[[#This Row],[Total N]],""),"") -> 1.4643137
A27: % of requirement (100% = met) | B27: =IF(AND(ISNUMBER(INDEX(Recipe_Calc31[Total N],8)),N(INDEX(Recipe_Calc31[Total N],8))>0),INDEX(Recipe_Calc31[Total N],7)/INDEX(Recipe_Calc31[Total N],8)*100,"") -> 73.529412 | F27: =IF(AND(ISNUMBER(INDEX(Recipe_Calc31[P],8)),N(INDEX(Recipe_Calc31[P],8))>0),INDEX(Recipe_Calc31[P],7)/INDEX(Recipe_Calc31[P],8)*100,"") -> 43.604651 | G27: =IF(AND(ISNUMBER(INDEX(Recipe_Calc31[K],8)),N(INDEX(Recipe_Calc31[K],8))>0),INDEX(Recipe_Calc31[K],7)/INDEX(Recipe_Calc31[K],8)*100,"") -> 55.587172 | H27: =IF(AND(ISNUMBER(INDEX(Recipe_Calc31[Ca],8)),N(INDEX(Recipe_Calc31[Ca],8))>0),INDEX(Recipe_Calc31[Ca],7)/INDEX(Recipe_Calc31[Ca],8)*100,"") -> 57.201727 | I27: =IF(AND(ISNUMBER(INDEX(Recipe_Calc31[Mg],8)),N(INDEX(Recipe_Calc31[Mg],8))>0),INDEX(Recipe_Calc31[Mg],7)/INDEX(Recipe_Calc31[Mg],8)*100,"") -> 51.247954 | J27: =IF(AND(ISNUMBER(INDEX(Recipe_Calc31[S],8)),N(INDEX(Recipe_Calc31[S],8))>0),INDEX(Recipe_Calc31[S],7)/INDEX(Recipe_Calc31[S],8)*100,"") -> #N/A | K27: =IF(AND(ISNUMBER(INDEX(Recipe_Calc31[B],8)),N(INDEX(Recipe_Calc31[B],8))>0),INDEX(Recipe_Calc31[B],7)/INDEX(Recipe_Calc31[B],8)*100,"") -> 60.141509 | L27: =IF(AND(ISNUMBER(INDEX(Recipe_Calc31[Cu],8)),N(INDEX(Recipe_Calc31[Cu],8))>0),INDEX(Recipe_Calc31[Cu],7)/INDEX(Recipe_Calc31[Cu],8)*100,"") -> 197.36842 | M27: =IF(AND(ISNUMBER(INDEX(Recipe_Calc31[Fe],8)),N(INDEX(Recipe_Calc31[Fe],8))>0),INDEX(Recipe_Calc31[Fe],7)/INDEX(Recipe_Calc31[Fe],8)*100,"") -> 62.5 | N27: =IF(AND(ISNUMBER(INDEX(Recipe_Calc31[Mn],8)),N(INDEX(Recipe_Calc31[Mn],8))>0),INDEX(Recipe_Calc31[Mn],7)/INDEX(Recipe_Calc31[Mn],8)*100,"") -> 126 | O27: =IF(AND(ISNUMBER(INDEX(Recipe_Calc31[Mo],8)),N(INDEX(Recipe_Calc31[Mo],8))>0),INDEX(Recipe_Calc31[Mo],7)/INDEX(Recipe_Calc31[Mo],8)*100,"") -> 39.893617 | P27: =IF(AND(ISNUMBER(INDEX(Recipe_Calc31[Zn],8)),N(INDEX(Recipe_Calc31[Zn],8))>0),INDEX(Recipe_Calc31[Zn],7)/INDEX(Recipe_Calc31[Zn],8)*100,"") -> 205.18868
A29: Result 1: Hand mixed fertilizer recipe
A30: Fertilizer | B30: Grams in 10 liters | C30: Ounces in 10 gallons
A31: =IF(INDEX(Recipe_Input36[Type of fertilizer],ROW()-ROW(Recipe_Results32[#Headers]))="","",INDEX(Recipe_Input36[Type of fertilizer],ROW()-ROW(Recipe_Results32[#Headers]))) -> 12-4-16 | B31: {=IF(OR(INDEX(Recipe_Input36[Type of fertilizer],ROW()-ROW(Recipe_Results32[#Headers]))="",INDEX(Recipe_Input36[Amount (grams)],ROW()-ROW(Recipe_Results32[#Headers]))=""),"",IFERROR(INDEX(Recipe_Input36[Amount (grams)],ROW()-ROW(Recipe_Results32[#Headers]))*10/Recipes_Crop37[Nutrient Volume (L)],""))} -> 10.416667 | C31: =IF(Recipe_Results32[[#This Row],[Grams in 10 liters]]="","",Recipe_Results32[[#This Row],[Grams in 10 liters]]*INDEX(Conversions[Value],MATCH("Liters per US gallon",Conversions[From],0))/INDEX(Conversions[Value],MATCH("Grams per ounce",Conversions[From],0))) -> #N/A
A32: =IF(INDEX(Recipe_Input36[Type of fertilizer],ROW()-ROW(Recipe_Results32[#Headers]))="","",INDEX(Recipe_Input36[Type of fertilizer],ROW()-ROW(Recipe_Results32[#Headers]))) | B32: {=IF(OR(INDEX(Recipe_Input36[Type of fertilizer],ROW()-ROW(Recipe_Results32[#Headers]))="",INDEX(Recipe_Input36[Amount (grams)],ROW()-ROW(Recipe_Results32[#Headers]))=""),"",IFERROR(INDEX(Recipe_Input36[Amount (grams)],ROW()-ROW(Recipe_Results32[#Headers]))*10/Recipes_Crop37[Nutrient Volume (L)],""))} | C32: =IF(Recipe_Results32[[#This Row],[Grams in 10 liters]]="","",Recipe_Results32[[#This Row],[Grams in 10 liters]]*INDEX(Conversions[Value],MATCH("Liters per US gallon",Conversions[From],0))/INDEX(Conversions[Value],MATCH("Grams per ounce",Conversions[From],0)))
A33: =IF(INDEX(Recipe_Input36[Type of fertilizer],ROW()-ROW(Recipe_Results32[#Headers]))="","",INDEX(Recipe_Input36[Type of fertilizer],ROW()-ROW(Recipe_Results32[#Headers]))) | B33: {=IF(OR(INDEX(Recipe_Input36[Type of fertilizer],ROW()-ROW(Recipe_Results32[#Headers]))="",INDEX(Recipe_Input36[Amount (grams)],ROW()-ROW(Recipe_Results32[#Headers]))=""),"",IFERROR(INDEX(Recipe_Input36[Amount (grams)],ROW()-ROW(Recipe_Results32[#Headers]))*10/Recipes_Crop37[Nutrient Volume (L)],""))} | C33: =IF(Recipe_Results32[[#This Row],[Grams in 10 liters]]="","",Recipe_Results32[[#This Row],[Grams in 10 liters]]*INDEX(Conversions[Value],MATCH("Liters per US gallon",Conversions[From],0))/INDEX(Conversions[Value],MATCH("Grams per ounce",Conversions[From],0)))
A34: =IF(INDEX(Recipe_Input36[Type of fertilizer],ROW()-ROW(Recipe_Results32[#Headers]))="","",INDEX(Recipe_Input36[Type of fertilizer],ROW()-ROW(Recipe_Results32[#Headers]))) | B34: {=IF(OR(INDEX(Recipe_Input36[Type of fertilizer],ROW()-ROW(Recipe_Results32[#Headers]))="",INDEX(Recipe_Input36[Amount (grams)],ROW()-ROW(Recipe_Results32[#Headers]))=""),"",IFERROR(INDEX(Recipe_Input36[Amount (grams)],ROW()-ROW(Recipe_Results32[#Headers]))*10/Recipes_Crop37[Nutrient Volume (L)],""))} | C34: =IF(Recipe_Results32[[#This Row],[Grams in 10 liters]]="","",Recipe_Results32[[#This Row],[Grams in 10 liters]]*INDEX(Conversions[Value],MATCH("Liters per US gallon",Conversions[From],0))/INDEX(Conversions[Value],MATCH("Grams per ounce",Conversions[From],0)))
A35: =IF(INDEX(Recipe_Input36[Type of fertilizer],ROW()-ROW(Recipe_Results32[#Headers]))="","",INDEX(Recipe_Input36[Type of fertilizer],ROW()-ROW(Recipe_Results32[#Headers]))) | B35: {=IF(OR(INDEX(Recipe_Input36[Type of fertilizer],ROW()-ROW(Recipe_Results32[#Headers]))="",INDEX(Recipe_Input36[Amount (grams)],ROW()-ROW(Recipe_Results32[#Headers]))=""),"",IFERROR(INDEX(Recipe_Input36[Amount (grams)],ROW()-ROW(Recipe_Results32[#Headers]))*10/Recipes_Crop37[Nutrient Volume (L)],""))} | C35: =IF(Recipe_Results32[[#This Row],[Grams in 10 liters]]="","",Recipe_Results32[[#This Row],[Grams in 10 liters]]*INDEX(Conversions[Value],MATCH("Liters per US gallon",Conversions[From],0))/INDEX(Conversions[Value],MATCH("Grams per ounce",Conversions[From],0)))
A40: DATA MAPPING (column names looked up in the Fertilizers and Nutrients sheets)
A41: Fertilizers sheet column | B41: Total Nitrogen (N) | C41: Urea - N | D41: Ammonium - N (NH₄) | E41: Nitrate - N (NO₃) | F41: Phosphorus (P) | G41: Potassium (K) | H41: Calcium (Ca) | I41: Magnesium (Mg) | J41: Sulfur (S) | K41: Boron (B) | L41: Copper (Cu) | M41: Iron (Fe) | N41: Manganese (Mn) | O41: Molybdenum (Mo) | P41: Zinc (Zn)
A42: Nutrients sheet column | B42: Nitrogen | F42: Phosphorus | G42: Potassium | H42: Calcium | I42: Magnesium | J42: Sulfur | K42: Boron | L42: Copper | M42: Iron | N42: Manganese | O42: Molybdenum | P42: Zinc
A44: Fertilizer ppm: ppm of N supplied = grams x %N x 10 / liters. The Fertilizers sheet analysis columns are ppm of each element delivered when the fertilizer supplies 100 ppm N, so ppm of an element = ppm N supplied x (value / 100).
A45: Crop requirement: average of every row for the crop in the Nutrients sheet (blank cells ignored), the same averaging the Nutrients sheet uses for N, P and K. Urea, ammonium-N and nitrate-N have no crop requirement.
A46: Water test sulfate (SO4) is converted to S with the ratio above before it is added to the S column. Row heights and the dropdown lists follow the Nutrients and Fertilizers tables as they grow.

Sheet Recipes
A1: Hydroponic Nutrient Solution Calculator
A2: Recreated from the University of Missouri Extension calculator (J. Cabrera-Garcia & R. Milhollin, 1/2026; see MU Extension g6984).
A4: Fertilizer ppm: ppm of N supplied = grams x %N x 10 / liters. The Fertilizers sheet analysis columns are ppm of each element delivered when the fertilizer supplies 100 ppm N, so ppm of an element = ppm N supplied x (value / 100).
A5: Crop requirement: average of every row for the crop in the Nutrients sheet (blank cells ignored), the same averaging the Nutrients sheet uses for N, P and K. Urea, ammonium-N and nitrate-N have no crop requirement.
A6: Water test sulfate (SO4) is converted to S with the ratio above before it is added to the S column. Row heights and the dropdown lists follow the Nutrients and Fertilizers tables as they grow.
A10: Crop | B10: Nutrient Volume (L) | C10: pH (min) | D10: pH (max)
A11: Ocimum basilicum | B11: 1.7 | C11: =IF(Recipes_Crop[[#This Row],[Crop]]="","",IFERROR(IF(ISNUMBER(INDEX(Nutrients_2[C:pH (min)],MATCH(Recipes_Crop[[#This Row],[Crop]],Nutrients_2[For],0))),INDEX(Nutrients_2[C:pH (min)],MATCH(Recipes_Crop[[#This Row],[Crop]],Nutrients_2[For],0)),""),"")) -> 5.8 | D11: =IF(Recipes_Crop[[#This Row],[Crop]]="","",IFERROR(IF(ISNUMBER(INDEX(Nutrients_2[C:pH (max)],MATCH(Recipes_Crop[[#This Row],[Crop]],Nutrients_2[For],0))),INDEX(Nutrients_2[C:pH (max)],MATCH(Recipes_Crop[[#This Row],[Crop]],Nutrients_2[For],0)),""),"")) -> 6.2
A13: STEP 3: Select the fertilizers and input the amount dissolved in the nutrient volume above
A14: Fertilizer | B14: Target PPM N | C14: Target PPM P | D14: Target PPM K | E14: Amount (g) | F14: Fertilizer (mg/L) | G14: N supplied (ppm)
A15: 12-4-16 | B15: 125 | E15: {=IF(Recipe_Input[[#This Row],[Fertilizer]]="","", IFERROR( MAX( IF(N(Recipe_Input[[#This Row],[Target PPM N]])=0,0, Recipe_Input[[#This Row],[Target PPM N]]/(VALUE(INDEX(Fertilizers[N],MATCH(Recipe_Input[[#This Row],[Fertilizer]],Fertilizers[Fertilizer],0)))/100)), IF(N(Recipe_Input[[#This Row],[Target PPM P]])=0,0, Recipe_Input[[#This Row],[Target PPM P]]/(VALUE(INDEX(Fertilizers[P],MATCH(Recipe_Input[[#This Row],[Fertilizer]],Fertilizers[Fertilizer],0)))/100)), IF(N(Recipe_Input[[#This Row],[Target PPM K]])=0,0, Recipe_Input[[#This Row],[Target PPM K]]/(VALUE(INDEX(Fertilizers[K],MATCH(Recipe_Input[[#This Row],[Fertilizer]],Fertilizers[Fertilizer],0)))/100)) )/1000*Recipes_Crop[Nutrient Volume (L)], "") )} -> 1.7708333 | F15: {=IF(OR(Recipe_Input[[#This Row],[Fertilizer]]="",Recipe_Input[[#This Row],[Amount (g)]]=""),"",IFERROR(Recipe_Input[[#This Row],[Amount (g)]]*1000/Recipes_Crop[Nutrient Volume (L)],""))} -> 1041.6667 | G15: {=IFERROR(IF(Recipe_Input[[#This Row],[Fertilizer]]="",0,VALUE(INDEX(Fertilizers[N],MATCH(Recipe_Input[[#This Row],[Fertilizer]],Fertilizers[Fertilizer],0)))*N(Recipe_Input[[#This Row],[Amount (g)]])*10/Recipes_Crop[Nutrient Volume (L)]),0)} -> 125
E16: {=IF(Recipe_Input[[#This Row],[Fertilizer]]="","", IFERROR( MAX( IF(N(Recipe_Input[[#This Row],[Target PPM N]])=0,0, Recipe_Input[[#This Row],[Target PPM N]]/(VALUE(INDEX(Fertilizers[N],MATCH(Recipe_Input[[#This Row],[Fertilizer]],Fertilizers[Fertilizer],0)))/100)), IF(N(Recipe_Input[[#This Row],[Target PPM P]])=0,0, Recipe_Input[[#This Row],[Target PPM P]]/(VALUE(INDEX(Fertilizers[P],MATCH(Recipe_Input[[#This Row],[Fertilizer]],Fertilizers[Fertilizer],0)))/100)), IF(N(Recipe_Input[[#This Row],[Target PPM K]])=0,0, Recipe_Input[[#This Row],[Target PPM K]]/(VALUE(INDEX(Fertilizers[K],MATCH(Recipe_Input[[#This Row],[Fertilizer]],Fertilizers[Fertilizer],0)))/100)) )/1000*Recipes_Crop[Nutrient Volume (L)], "") )} | F16: {=IF(OR(Recipe_Input[[#This Row],[Fertilizer]]="",Recipe_Input[[#This Row],[Amount (g)]]=""),"",IFERROR(Recipe_Input[[#This Row],[Amount (g)]]*1000/Recipes_Crop[Nutrient Volume (L)],""))} | G16: {=IFERROR(IF(Recipe_Input[[#This Row],[Fertilizer]]="",0,VALUE(INDEX(Fertilizers[N],MATCH(Recipe_Input[[#This Row],[Fertilizer]],Fertilizers[Fertilizer],0)))*N(Recipe_Input[[#This Row],[Amount (g)]])*10/Recipes_Crop[Nutrient Volume (L)]),0)} -> 0
E17: {=IF(Recipe_Input[[#This Row],[Fertilizer]]="","", IFERROR( MAX( IF(N(Recipe_Input[[#This Row],[Target PPM N]])=0,0, Recipe_Input[[#This Row],[Target PPM N]]/(VALUE(INDEX(Fertilizers[N],MATCH(Recipe_Input[[#This Row],[Fertilizer]],Fertilizers[Fertilizer],0)))/100)), IF(N(Recipe_Input[[#This Row],[Target PPM P]])=0,0, Recipe_Input[[#This Row],[Target PPM P]]/(VALUE(INDEX(Fertilizers[P],MATCH(Recipe_Input[[#This Row],[Fertilizer]],Fertilizers[Fertilizer],0)))/100)), IF(N(Recipe_Input[[#This Row],[Target PPM K]])=0,0, Recipe_Input[[#This Row],[Target PPM K]]/(VALUE(INDEX(Fertilizers[K],MATCH(Recipe_Input[[#This Row],[Fertilizer]],Fertilizers[Fertilizer],0)))/100)) )/1000*Recipes_Crop[Nutrient Volume (L)], "") )} | F17: {=IF(OR(Recipe_Input[[#This Row],[Fertilizer]]="",Recipe_Input[[#This Row],[Amount (g)]]=""),"",IFERROR(Recipe_Input[[#This Row],[Amount (g)]]*1000/Recipes_Crop[Nutrient Volume (L)],""))} | G17: {=IFERROR(IF(Recipe_Input[[#This Row],[Fertilizer]]="",0,VALUE(INDEX(Fertilizers[N],MATCH(Recipe_Input[[#This Row],[Fertilizer]],Fertilizers[Fertilizer],0)))*N(Recipe_Input[[#This Row],[Amount (g)]])*10/Recipes_Crop[Nutrient Volume (L)]),0)} -> 0
E18: {=IF(Recipe_Input[[#This Row],[Fertilizer]]="","", IFERROR( MAX( IF(N(Recipe_Input[[#This Row],[Target PPM N]])=0,0, Recipe_Input[[#This Row],[Target PPM N]]/(VALUE(INDEX(Fertilizers[N],MATCH(Recipe_Input[[#This Row],[Fertilizer]],Fertilizers[Fertilizer],0)))/100)), IF(N(Recipe_Input[[#This Row],[Target PPM P]])=0,0, Recipe_Input[[#This Row],[Target PPM P]]/(VALUE(INDEX(Fertilizers[P],MATCH(Recipe_Input[[#This Row],[Fertilizer]],Fertilizers[Fertilizer],0)))/100)), IF(N(Recipe_Input[[#This Row],[Target PPM K]])=0,0, Recipe_Input[[#This Row],[Target PPM K]]/(VALUE(INDEX(Fertilizers[K],MATCH(Recipe_Input[[#This Row],[Fertilizer]],Fertilizers[Fertilizer],0)))/100)) )/1000*Recipes_Crop[Nutrient Volume (L)], "") )} | F18: {=IF(OR(Recipe_Input[[#This Row],[Fertilizer]]="",Recipe_Input[[#This Row],[Amount (g)]]=""),"",IFERROR(Recipe_Input[[#This Row],[Amount (g)]]*1000/Recipes_Crop[Nutrient Volume (L)],""))} | G18: {=IFERROR(IF(Recipe_Input[[#This Row],[Fertilizer]]="",0,VALUE(INDEX(Fertilizers[N],MATCH(Recipe_Input[[#This Row],[Fertilizer]],Fertilizers[Fertilizer],0)))*N(Recipe_Input[[#This Row],[Amount (g)]])*10/Recipes_Crop[Nutrient Volume (L)]),0)} -> 0
E19: {=IF(Recipe_Input[[#This Row],[Fertilizer]]="","", IFERROR( MAX( IF(N(Recipe_Input[[#This Row],[Target PPM N]])=0,0, Recipe_Input[[#This Row],[Target PPM N]]/(VALUE(INDEX(Fertilizers[N],MATCH(Recipe_Input[[#This Row],[Fertilizer]],Fertilizers[Fertilizer],0)))/100)), IF(N(Recipe_Input[[#This Row],[Target PPM P]])=0,0, Recipe_Input[[#This Row],[Target PPM P]]/(VALUE(INDEX(Fertilizers[P],MATCH(Recipe_Input[[#This Row],[Fertilizer]],Fertilizers[Fertilizer],0)))/100)), IF(N(Recipe_Input[[#This Row],[Target PPM K]])=0,0, Recipe_Input[[#This Row],[Target PPM K]]/(VALUE(INDEX(Fertilizers[K],MATCH(Recipe_Input[[#This Row],[Fertilizer]],Fertilizers[Fertilizer],0)))/100)) )/1000*Recipes_Crop[Nutrient Volume (L)], "") )} | F19: {=IF(OR(Recipe_Input[[#This Row],[Fertilizer]]="",Recipe_Input[[#This Row],[Amount (g)]]=""),"",IFERROR(Recipe_Input[[#This Row],[Amount (g)]]*1000/Recipes_Crop[Nutrient Volume (L)],""))} | G19: {=IFERROR(IF(Recipe_Input[[#This Row],[Fertilizer]]="",0,VALUE(INDEX(Fertilizers[N],MATCH(Recipe_Input[[#This Row],[Fertilizer]],Fertilizers[Fertilizer],0)))*N(Recipe_Input[[#This Row],[Amount (g)]])*10/Recipes_Crop[Nutrient Volume (L)]),0)} -> 0
A21: STEP 4: Verify that the inputs from Step 3 meet the crop nutritional requirement
A22: Nutrient Concentration (ppm) | B22: Total N | C22: Urea | D22: Ammonium-N | E22: Nitrate-N | F22: P | G22: K | H22: Ca | I22: Mg | J22: S | K22: B | L22: Cu | M22: Fe | N22: Mn | O22: Mo | P22: Zn | Q22: K/N
A23: =IF(INDEX(Recipe_Input[Fertilizer],ROW()-ROW(Recipe_Calc[#Headers]))="","(none selected)",INDEX(Recipe_Input[Fertilizer],ROW()-ROW(Recipe_Calc[#Headers]))) -> 12-4-16 | B23: =SUMIFS(Recipe_Input[N supplied (ppm)],Recipe_Input[Fertilizer],Recipe_Calc[[#This Row],[Nutrient Concentration (ppm)]])*SUMIFS(Fertilizers[Total Nitrogen (N)],Fertilizers[Fertilizer],Recipe_Calc[[#This Row],[Nutrient Concentration (ppm)]])/100 -> 125 | C23: =SUMIFS(Recipe_Input[N supplied (ppm)],Recipe_Input[Fertilizer],Recipe_Calc[[#This Row],[Nutrient Concentration (ppm)]])*SUMIFS(Fertilizers[Urea - N],Fertilizers[Fertilizer],Recipe_Calc[[#This Row],[Nutrient Concentration (ppm)]])/100 -> 0 | D23: =SUMIFS(Recipe_Input[N supplied (ppm)],Recipe_Input[Fertilizer],Recipe_Calc[[#This Row],[Nutrient Concentration (ppm)]])*SUMIFS(Fertilizers[Ammonium - N (NH₄)],Fertilizers[Fertilizer],Recipe_Calc[[#This Row],[Nutrient Concentration (ppm)]])/100 -> 2.125 | E23: =SUMIFS(Recipe_Input[N supplied (ppm)],Recipe_Input[Fertilizer],Recipe_Calc[[#This Row],[Nutrient Concentration (ppm)]])*SUMIFS(Fertilizers[Nitrate - N (NO₃)],Fertilizers[Fertilizer],Recipe_Calc[[#This Row],[Nutrient Concentration (ppm)]])/100 -> 122.875 | F23: =SUMIFS(Recipe_Input[N supplied (ppm)],Recipe_Input[Fertilizer],Recipe_Calc[[#This Row],[Nutrient Concentration (ppm)]])*SUMIFS(Fertilizers[Phosphorus (P)],Fertilizers[Fertilizer],Recipe_Calc[[#This Row],[Nutrient Concentration (ppm)]])/100 -> 18.125 | G23: =SUMIFS(Recipe_Input[N supplied (ppm)],Recipe_Input[Fertilizer],Recipe_Calc[[#This Row],[Nutrient Concentration (ppm)]])*SUMIFS(Fertilizers[Potassium (K)],Fertilizers[Fertilizer],Recipe_Calc[[#This Row],[Nutrient Concentration (ppm)]])/100 -> 138.375 | H23: =SUMIFS(Recipe_Input[N supplied (ppm)],Recipe_Input[Fertilizer],Recipe_Calc[[#This Row],[Nutrient Concentration (ppm)]])*SUMIFS(Fertilizers[Calcium (Ca)],Fertilizers[Fertilizer],Recipe_Calc[[#This Row],[Nutrient Concentration (ppm)]])/100 -> 72.875 | I23: =SUMIFS(Recipe_Input[N supplied (ppm)],Recipe_Input[Fertilizer],Recipe_Calc[[#This Row],[Nutrient Concentration (ppm)]])*SUMIFS(Fertilizers[Magnesium (Mg)],Fertilizers[Fertilizer],Recipe_Calc[[#This Row],[Nutrient Concentration (ppm)]])/100 -> 20.875 | J23: =SUMIFS(Recipe_Input[N supplied (ppm)],Recipe_Input[Fertilizer],Recipe_Calc[[#This Row],[Nutrient Concentration (ppm)]])*SUMIFS(Fertilizers[Sulfur (S)],Fertilizers[Fertilizer],Recipe_Calc[[#This Row],[Nutrient Concentration (ppm)]])/100 -> 0 | K23: =SUMIFS(Recipe_Input[N supplied (ppm)],Recipe_Input[Fertilizer],Recipe_Calc[[#This Row],[Nutrient Concentration (ppm)]])*SUMIFS(Fertilizers[Boron (B)],Fertilizers[Fertilizer],Recipe_Calc[[#This Row],[Nutrient Concentration (ppm)]])/100 -> 0.2125 | L23: =SUMIFS(Recipe_Input[N supplied (ppm)],Recipe_Input[Fertilizer],Recipe_Calc[[#This Row],[Nutrient Concentration (ppm)]])*SUMIFS(Fertilizers[Copper (Cu)],Fertilizers[Fertilizer],Recipe_Calc[[#This Row],[Nutrient Concentration (ppm)]])/100 -> 0.2125 | M23: =SUMIFS(Recipe_Input[N supplied (ppm)],Recipe_Input[Fertilizer],Recipe_Calc[[#This Row],[Nutrient Concentration (ppm)]])*SUMIFS(Fertilizers[Iron (Fe)],Fertilizers[Fertilizer],Recipe_Calc[[#This Row],[Nutrient Concentration (ppm)]])/100 -> 1.5625 | N23: =SUMIFS(Recipe_Input[N supplied (ppm)],Recipe_Input[Fertilizer],Recipe_Calc[[#This Row],[Nutrient Concentration (ppm)]])*SUMIFS(Fertilizers[Manganese (Mn)],Fertilizers[Fertilizer],Recipe_Calc[[#This Row],[Nutrient Concentration (ppm)]])/100 -> 0.525 | O23: =SUMIFS(Recipe_Input[N supplied (ppm)],Recipe_Input[Fertilizer],Recipe_Calc[[#This Row],[Nutrient Concentration (ppm)]])*SUMIFS(Fertilizers[Molybdenum (Mo)],Fertilizers[Fertilizer],Recipe_Calc[[#This Row],[Nutrient Concentration (ppm)]])/100 -> 0.0125 | P23: =SUMIFS(Recipe_Input[N supplied (ppm)],Recipe_Input[Fertilizer],Recipe_Calc[[#This Row],[Nutrient Concentration (ppm)]])*SUMIFS(Fertilizers[Zinc (Zn)],Fertilizers[Fertilizer],Recipe_Calc[[#This Row],[Nutrient Concentration (ppm)]])/100 -> 0.3625
A24: =IF(INDEX(Recipe_Input[Fertilizer],ROW()-ROW(Recipe_Calc[#Headers]))="","(none selected)",INDEX(Recipe_Input[Fertilizer],ROW()-ROW(Recipe_Calc[#Headers]))) -> (none selected) | B24: =SUMIFS(Recipe_Input[N supplied (ppm)],Recipe_Input[Fertilizer],Recipe_Calc[[#This Row],[Nutrient Concentration (ppm)]])*SUMIFS(Fertilizers[Total Nitrogen (N)],Fertilizers[Fertilizer],Recipe_Calc[[#This Row],[Nutrient Concentration (ppm)]])/100 -> 0 | C24: =SUMIFS(Recipe_Input[N supplied (ppm)],Recipe_Input[Fertilizer],Recipe_Calc[[#This Row],[Nutrient Concentration (ppm)]])*SUMIFS(Fertilizers[Urea - N],Fertilizers[Fertilizer],Recipe_Calc[[#This Row],[Nutrient Concentration (ppm)]])/100 -> 0 | D24: =SUMIFS(Recipe_Input[N supplied (ppm)],Recipe_Input[Fertilizer],Recipe_Calc[[#This Row],[Nutrient Concentration (ppm)]])*SUMIFS(Fertilizers[Ammonium - N (NH₄)],Fertilizers[Fertilizer],Recipe_Calc[[#This Row],[Nutrient Concentration (ppm)]])/100 -> 0 | E24: =SUMIFS(Recipe_Input[N supplied (ppm)],Recipe_Input[Fertilizer],Recipe_Calc[[#This Row],[Nutrient Concentration (ppm)]])*SUMIFS(Fertilizers[Nitrate - N (NO₃)],Fertilizers[Fertilizer],Recipe_Calc[[#This Row],[Nutrient Concentration (ppm)]])/100 -> 0 | F24: =SUMIFS(Recipe_Input[N supplied (ppm)],Recipe_Input[Fertilizer],Recipe_Calc[[#This Row],[Nutrient Concentration (ppm)]])*SUMIFS(Fertilizers[Phosphorus (P)],Fertilizers[Fertilizer],Recipe_Calc[[#This Row],[Nutrient Concentration (ppm)]])/100 -> 0 | G24: =SUMIFS(Recipe_Input[N supplied (ppm)],Recipe_Input[Fertilizer],Recipe_Calc[[#This Row],[Nutrient Concentration (ppm)]])*SUMIFS(Fertilizers[Potassium (K)],Fertilizers[Fertilizer],Recipe_Calc[[#This Row],[Nutrient Concentration (ppm)]])/100 -> 0 | H24: =SUMIFS(Recipe_Input[N supplied (ppm)],Recipe_Input[Fertilizer],Recipe_Calc[[#This Row],[Nutrient Concentration (ppm)]])*SUMIFS(Fertilizers[Calcium (Ca)],Fertilizers[Fertilizer],Recipe_Calc[[#This Row],[Nutrient Concentration (ppm)]])/100 -> 0 | I24: =SUMIFS(Recipe_Input[N supplied (ppm)],Recipe_Input[Fertilizer],Recipe_Calc[[#This Row],[Nutrient Concentration (ppm)]])*SUMIFS(Fertilizers[Magnesium (Mg)],Fertilizers[Fertilizer],Recipe_Calc[[#This Row],[Nutrient Concentration (ppm)]])/100 -> 0 | J24: =SUMIFS(Recipe_Input[N supplied (ppm)],Recipe_Input[Fertilizer],Recipe_Calc[[#This Row],[Nutrient Concentration (ppm)]])*SUMIFS(Fertilizers[Sulfur (S)],Fertilizers[Fertilizer],Recipe_Calc[[#This Row],[Nutrient Concentration (ppm)]])/100 -> 0 | K24: =SUMIFS(Recipe_Input[N supplied (ppm)],Recipe_Input[Fertilizer],Recipe_Calc[[#This Row],[Nutrient Concentration (ppm)]])*SUMIFS(Fertilizers[Boron (B)],Fertilizers[Fertilizer],Recipe_Calc[[#This Row],[Nutrient Concentration (ppm)]])/100 -> 0 | L24: =SUMIFS(Recipe_Input[N supplied (ppm)],Recipe_Input[Fertilizer],Recipe_Calc[[#This Row],[Nutrient Concentration (ppm)]])*SUMIFS(Fertilizers[Copper (Cu)],Fertilizers[Fertilizer],Recipe_Calc[[#This Row],[Nutrient Concentration (ppm)]])/100 -> 0 | M24: =SUMIFS(Recipe_Input[N supplied (ppm)],Recipe_Input[Fertilizer],Recipe_Calc[[#This Row],[Nutrient Concentration (ppm)]])*SUMIFS(Fertilizers[Iron (Fe)],Fertilizers[Fertilizer],Recipe_Calc[[#This Row],[Nutrient Concentration (ppm)]])/100 -> 0 | N24: =SUMIFS(Recipe_Input[N supplied (ppm)],Recipe_Input[Fertilizer],Recipe_Calc[[#This Row],[Nutrient Concentration (ppm)]])*SUMIFS(Fertilizers[Manganese (Mn)],Fertilizers[Fertilizer],Recipe_Calc[[#This Row],[Nutrient Concentration (ppm)]])/100 -> 0 | O24: =SUMIFS(Recipe_Input[N supplied (ppm)],Recipe_Input[Fertilizer],Recipe_Calc[[#This Row],[Nutrient Concentration (ppm)]])*SUMIFS(Fertilizers[Molybdenum (Mo)],Fertilizers[Fertilizer],Recipe_Calc[[#This Row],[Nutrient Concentration (ppm)]])/100 -> 0 | P24: =SUMIFS(Recipe_Input[N supplied (ppm)],Recipe_Input[Fertilizer],Recipe_Calc[[#This Row],[Nutrient Concentration (ppm)]])*SUMIFS(Fertilizers[Zinc (Zn)],Fertilizers[Fertilizer],Recipe_Calc[[#This Row],[Nutrient Concentration (ppm)]])/100 -> 0
A25: =IF(INDEX(Recipe_Input[Fertilizer],ROW()-ROW(Recipe_Calc[#Headers]))="","(none selected)",INDEX(Recipe_Input[Fertilizer],ROW()-ROW(Recipe_Calc[#Headers]))) -> (none selected) | B25: =SUMIFS(Recipe_Input[N supplied (ppm)],Recipe_Input[Fertilizer],Recipe_Calc[[#This Row],[Nutrient Concentration (ppm)]])*SUMIFS(Fertilizers[Total Nitrogen (N)],Fertilizers[Fertilizer],Recipe_Calc[[#This Row],[Nutrient Concentration (ppm)]])/100 -> 0 | C25: =SUMIFS(Recipe_Input[N supplied (ppm)],Recipe_Input[Fertilizer],Recipe_Calc[[#This Row],[Nutrient Concentration (ppm)]])*SUMIFS(Fertilizers[Urea - N],Fertilizers[Fertilizer],Recipe_Calc[[#This Row],[Nutrient Concentration (ppm)]])/100 -> 0 | D25: =SUMIFS(Recipe_Input[N supplied (ppm)],Recipe_Input[Fertilizer],Recipe_Calc[[#This Row],[Nutrient Concentration (ppm)]])*SUMIFS(Fertilizers[Ammonium - N (NH₄)],Fertilizers[Fertilizer],Recipe_Calc[[#This Row],[Nutrient Concentration (ppm)]])/100 -> 0 | E25: =SUMIFS(Recipe_Input[N supplied (ppm)],Recipe_Input[Fertilizer],Recipe_Calc[[#This Row],[Nutrient Concentration (ppm)]])*SUMIFS(Fertilizers[Nitrate - N (NO₃)],Fertilizers[Fertilizer],Recipe_Calc[[#This Row],[Nutrient Concentration (ppm)]])/100 -> 0 | F25: =SUMIFS(Recipe_Input[N supplied (ppm)],Recipe_Input[Fertilizer],Recipe_Calc[[#This Row],[Nutrient Concentration (ppm)]])*SUMIFS(Fertilizers[Phosphorus (P)],Fertilizers[Fertilizer],Recipe_Calc[[#This Row],[Nutrient Concentration (ppm)]])/100 -> 0 | G25: =SUMIFS(Recipe_Input[N supplied (ppm)],Recipe_Input[Fertilizer],Recipe_Calc[[#This Row],[Nutrient Concentration (ppm)]])*SUMIFS(Fertilizers[Potassium (K)],Fertilizers[Fertilizer],Recipe_Calc[[#This Row],[Nutrient Concentration (ppm)]])/100 -> 0 | H25: =SUMIFS(Recipe_Input[N supplied (ppm)],Recipe_Input[Fertilizer],Recipe_Calc[[#This Row],[Nutrient Concentration (ppm)]])*SUMIFS(Fertilizers[Calcium (Ca)],Fertilizers[Fertilizer],Recipe_Calc[[#This Row],[Nutrient Concentration (ppm)]])/100 -> 0 | I25: =SUMIFS(Recipe_Input[N supplied (ppm)],Recipe_Input[Fertilizer],Recipe_Calc[[#This Row],[Nutrient Concentration (ppm)]])*SUMIFS(Fertilizers[Magnesium (Mg)],Fertilizers[Fertilizer],Recipe_Calc[[#This Row],[Nutrient Concentration (ppm)]])/100 -> 0 | J25: =SUMIFS(Recipe_Input[N supplied (ppm)],Recipe_Input[Fertilizer],Recipe_Calc[[#This Row],[Nutrient Concentration (ppm)]])*SUMIFS(Fertilizers[Sulfur (S)],Fertilizers[Fertilizer],Recipe_Calc[[#This Row],[Nutrient Concentration (ppm)]])/100 -> 0 | K25: =SUMIFS(Recipe_Input[N supplied (ppm)],Recipe_Input[Fertilizer],Recipe_Calc[[#This Row],[Nutrient Concentration (ppm)]])*SUMIFS(Fertilizers[Boron (B)],Fertilizers[Fertilizer],Recipe_Calc[[#This Row],[Nutrient Concentration (ppm)]])/100 -> 0 | L25: =SUMIFS(Recipe_Input[N supplied (ppm)],Recipe_Input[Fertilizer],Recipe_Calc[[#This Row],[Nutrient Concentration (ppm)]])*SUMIFS(Fertilizers[Copper (Cu)],Fertilizers[Fertilizer],Recipe_Calc[[#This Row],[Nutrient Concentration (ppm)]])/100 -> 0 | M25: =SUMIFS(Recipe_Input[N supplied (ppm)],Recipe_Input[Fertilizer],Recipe_Calc[[#This Row],[Nutrient Concentration (ppm)]])*SUMIFS(Fertilizers[Iron (Fe)],Fertilizers[Fertilizer],Recipe_Calc[[#This Row],[Nutrient Concentration (ppm)]])/100 -> 0 | N25: =SUMIFS(Recipe_Input[N supplied (ppm)],Recipe_Input[Fertilizer],Recipe_Calc[[#This Row],[Nutrient Concentration (ppm)]])*SUMIFS(Fertilizers[Manganese (Mn)],Fertilizers[Fertilizer],Recipe_Calc[[#This Row],[Nutrient Concentration (ppm)]])/100 -> 0 | O25: =SUMIFS(Recipe_Input[N supplied (ppm)],Recipe_Input[Fertilizer],Recipe_Calc[[#This Row],[Nutrient Concentration (ppm)]])*SUMIFS(Fertilizers[Molybdenum (Mo)],Fertilizers[Fertilizer],Recipe_Calc[[#This Row],[Nutrient Concentration (ppm)]])/100 -> 0 | P25: =SUMIFS(Recipe_Input[N supplied (ppm)],Recipe_Input[Fertilizer],Recipe_Calc[[#This Row],[Nutrient Concentration (ppm)]])*SUMIFS(Fertilizers[Zinc (Zn)],Fertilizers[Fertilizer],Recipe_Calc[[#This Row],[Nutrient Concentration (ppm)]])/100 -> 0
A26: =IF(INDEX(Recipe_Input[Fertilizer],ROW()-ROW(Recipe_Calc[#Headers]))="","(none selected)",INDEX(Recipe_Input[Fertilizer],ROW()-ROW(Recipe_Calc[#Headers]))) -> (none selected) | B26: =SUMIFS(Recipe_Input[N supplied (ppm)],Recipe_Input[Fertilizer],Recipe_Calc[[#This Row],[Nutrient Concentration (ppm)]])*SUMIFS(Fertilizers[Total Nitrogen (N)],Fertilizers[Fertilizer],Recipe_Calc[[#This Row],[Nutrient Concentration (ppm)]])/100 -> 0 | C26: =SUMIFS(Recipe_Input[N supplied (ppm)],Recipe_Input[Fertilizer],Recipe_Calc[[#This Row],[Nutrient Concentration (ppm)]])*SUMIFS(Fertilizers[Urea - N],Fertilizers[Fertilizer],Recipe_Calc[[#This Row],[Nutrient Concentration (ppm)]])/100 -> 0 | D26: =SUMIFS(Recipe_Input[N supplied (ppm)],Recipe_Input[Fertilizer],Recipe_Calc[[#This Row],[Nutrient Concentration (ppm)]])*SUMIFS(Fertilizers[Ammonium - N (NH₄)],Fertilizers[Fertilizer],Recipe_Calc[[#This Row],[Nutrient Concentration (ppm)]])/100 -> 0 | E26: =SUMIFS(Recipe_Input[N supplied (ppm)],Recipe_Input[Fertilizer],Recipe_Calc[[#This Row],[Nutrient Concentration (ppm)]])*SUMIFS(Fertilizers[Nitrate - N (NO₃)],Fertilizers[Fertilizer],Recipe_Calc[[#This Row],[Nutrient Concentration (ppm)]])/100 -> 0 | F26: =SUMIFS(Recipe_Input[N supplied (ppm)],Recipe_Input[Fertilizer],Recipe_Calc[[#This Row],[Nutrient Concentration (ppm)]])*SUMIFS(Fertilizers[Phosphorus (P)],Fertilizers[Fertilizer],Recipe_Calc[[#This Row],[Nutrient Concentration (ppm)]])/100 -> 0 | G26: =SUMIFS(Recipe_Input[N supplied (ppm)],Recipe_Input[Fertilizer],Recipe_Calc[[#This Row],[Nutrient Concentration (ppm)]])*SUMIFS(Fertilizers[Potassium (K)],Fertilizers[Fertilizer],Recipe_Calc[[#This Row],[Nutrient Concentration (ppm)]])/100 -> 0 | H26: =SUMIFS(Recipe_Input[N supplied (ppm)],Recipe_Input[Fertilizer],Recipe_Calc[[#This Row],[Nutrient Concentration (ppm)]])*SUMIFS(Fertilizers[Calcium (Ca)],Fertilizers[Fertilizer],Recipe_Calc[[#This Row],[Nutrient Concentration (ppm)]])/100 -> 0 | I26: =SUMIFS(Recipe_Input[N supplied (ppm)],Recipe_Input[Fertilizer],Recipe_Calc[[#This Row],[Nutrient Concentration (ppm)]])*SUMIFS(Fertilizers[Magnesium (Mg)],Fertilizers[Fertilizer],Recipe_Calc[[#This Row],[Nutrient Concentration (ppm)]])/100 -> 0 | J26: =SUMIFS(Recipe_Input[N supplied (ppm)],Recipe_Input[Fertilizer],Recipe_Calc[[#This Row],[Nutrient Concentration (ppm)]])*SUMIFS(Fertilizers[Sulfur (S)],Fertilizers[Fertilizer],Recipe_Calc[[#This Row],[Nutrient Concentration (ppm)]])/100 -> 0 | K26: =SUMIFS(Recipe_Input[N supplied (ppm)],Recipe_Input[Fertilizer],Recipe_Calc[[#This Row],[Nutrient Concentration (ppm)]])*SUMIFS(Fertilizers[Boron (B)],Fertilizers[Fertilizer],Recipe_Calc[[#This Row],[Nutrient Concentration (ppm)]])/100 -> 0 | L26: =SUMIFS(Recipe_Input[N supplied (ppm)],Recipe_Input[Fertilizer],Recipe_Calc[[#This Row],[Nutrient Concentration (ppm)]])*SUMIFS(Fertilizers[Copper (Cu)],Fertilizers[Fertilizer],Recipe_Calc[[#This Row],[Nutrient Concentration (ppm)]])/100 -> 0 | M26: =SUMIFS(Recipe_Input[N supplied (ppm)],Recipe_Input[Fertilizer],Recipe_Calc[[#This Row],[Nutrient Concentration (ppm)]])*SUMIFS(Fertilizers[Iron (Fe)],Fertilizers[Fertilizer],Recipe_Calc[[#This Row],[Nutrient Concentration (ppm)]])/100 -> 0 | N26: =SUMIFS(Recipe_Input[N supplied (ppm)],Recipe_Input[Fertilizer],Recipe_Calc[[#This Row],[Nutrient Concentration (ppm)]])*SUMIFS(Fertilizers[Manganese (Mn)],Fertilizers[Fertilizer],Recipe_Calc[[#This Row],[Nutrient Concentration (ppm)]])/100 -> 0 | O26: =SUMIFS(Recipe_Input[N supplied (ppm)],Recipe_Input[Fertilizer],Recipe_Calc[[#This Row],[Nutrient Concentration (ppm)]])*SUMIFS(Fertilizers[Molybdenum (Mo)],Fertilizers[Fertilizer],Recipe_Calc[[#This Row],[Nutrient Concentration (ppm)]])/100 -> 0 | P26: =SUMIFS(Recipe_Input[N supplied (ppm)],Recipe_Input[Fertilizer],Recipe_Calc[[#This Row],[Nutrient Concentration (ppm)]])*SUMIFS(Fertilizers[Zinc (Zn)],Fertilizers[Fertilizer],Recipe_Calc[[#This Row],[Nutrient Concentration (ppm)]])/100 -> 0
A27: =IF(INDEX(Recipe_Input[Fertilizer],ROW()-ROW(Recipe_Calc[#Headers]))="","(none selected)",INDEX(Recipe_Input[Fertilizer],ROW()-ROW(Recipe_Calc[#Headers]))) -> (none selected) | B27: =SUMIFS(Recipe_Input[N supplied (ppm)],Recipe_Input[Fertilizer],Recipe_Calc[[#This Row],[Nutrient Concentration (ppm)]])*SUMIFS(Fertilizers[Total Nitrogen (N)],Fertilizers[Fertilizer],Recipe_Calc[[#This Row],[Nutrient Concentration (ppm)]])/100 -> 0 | C27: =SUMIFS(Recipe_Input[N supplied (ppm)],Recipe_Input[Fertilizer],Recipe_Calc[[#This Row],[Nutrient Concentration (ppm)]])*SUMIFS(Fertilizers[Urea - N],Fertilizers[Fertilizer],Recipe_Calc[[#This Row],[Nutrient Concentration (ppm)]])/100 -> 0 | D27: =SUMIFS(Recipe_Input[N supplied (ppm)],Recipe_Input[Fertilizer],Recipe_Calc[[#This Row],[Nutrient Concentration (ppm)]])*SUMIFS(Fertilizers[Ammonium - N (NH₄)],Fertilizers[Fertilizer],Recipe_Calc[[#This Row],[Nutrient Concentration (ppm)]])/100 -> 0 | E27: =SUMIFS(Recipe_Input[N supplied (ppm)],Recipe_Input[Fertilizer],Recipe_Calc[[#This Row],[Nutrient Concentration (ppm)]])*SUMIFS(Fertilizers[Nitrate - N (NO₃)],Fertilizers[Fertilizer],Recipe_Calc[[#This Row],[Nutrient Concentration (ppm)]])/100 -> 0 | F27: =SUMIFS(Recipe_Input[N supplied (ppm)],Recipe_Input[Fertilizer],Recipe_Calc[[#This Row],[Nutrient Concentration (ppm)]])*SUMIFS(Fertilizers[Phosphorus (P)],Fertilizers[Fertilizer],Recipe_Calc[[#This Row],[Nutrient Concentration (ppm)]])/100 -> 0 | G27: =SUMIFS(Recipe_Input[N supplied (ppm)],Recipe_Input[Fertilizer],Recipe_Calc[[#This Row],[Nutrient Concentration (ppm)]])*SUMIFS(Fertilizers[Potassium (K)],Fertilizers[Fertilizer],Recipe_Calc[[#This Row],[Nutrient Concentration (ppm)]])/100 -> 0 | H27: =SUMIFS(Recipe_Input[N supplied (ppm)],Recipe_Input[Fertilizer],Recipe_Calc[[#This Row],[Nutrient Concentration (ppm)]])*SUMIFS(Fertilizers[Calcium (Ca)],Fertilizers[Fertilizer],Recipe_Calc[[#This Row],[Nutrient Concentration (ppm)]])/100 -> 0 | I27: =SUMIFS(Recipe_Input[N supplied (ppm)],Recipe_Input[Fertilizer],Recipe_Calc[[#This Row],[Nutrient Concentration (ppm)]])*SUMIFS(Fertilizers[Magnesium (Mg)],Fertilizers[Fertilizer],Recipe_Calc[[#This Row],[Nutrient Concentration (ppm)]])/100 -> 0 | J27: =SUMIFS(Recipe_Input[N supplied (ppm)],Recipe_Input[Fertilizer],Recipe_Calc[[#This Row],[Nutrient Concentration (ppm)]])*SUMIFS(Fertilizers[Sulfur (S)],Fertilizers[Fertilizer],Recipe_Calc[[#This Row],[Nutrient Concentration (ppm)]])/100 -> 0 | K27: =SUMIFS(Recipe_Input[N supplied (ppm)],Recipe_Input[Fertilizer],Recipe_Calc[[#This Row],[Nutrient Concentration (ppm)]])*SUMIFS(Fertilizers[Boron (B)],Fertilizers[Fertilizer],Recipe_Calc[[#This Row],[Nutrient Concentration (ppm)]])/100 -> 0 | L27: =SUMIFS(Recipe_Input[N supplied (ppm)],Recipe_Input[Fertilizer],Recipe_Calc[[#This Row],[Nutrient Concentration (ppm)]])*SUMIFS(Fertilizers[Copper (Cu)],Fertilizers[Fertilizer],Recipe_Calc[[#This Row],[Nutrient Concentration (ppm)]])/100 -> 0 | M27: =SUMIFS(Recipe_Input[N supplied (ppm)],Recipe_Input[Fertilizer],Recipe_Calc[[#This Row],[Nutrient Concentration (ppm)]])*SUMIFS(Fertilizers[Iron (Fe)],Fertilizers[Fertilizer],Recipe_Calc[[#This Row],[Nutrient Concentration (ppm)]])/100 -> 0 | N27: =SUMIFS(Recipe_Input[N supplied (ppm)],Recipe_Input[Fertilizer],Recipe_Calc[[#This Row],[Nutrient Concentration (ppm)]])*SUMIFS(Fertilizers[Manganese (Mn)],Fertilizers[Fertilizer],Recipe_Calc[[#This Row],[Nutrient Concentration (ppm)]])/100 -> 0 | O27: =SUMIFS(Recipe_Input[N supplied (ppm)],Recipe_Input[Fertilizer],Recipe_Calc[[#This Row],[Nutrient Concentration (ppm)]])*SUMIFS(Fertilizers[Molybdenum (Mo)],Fertilizers[Fertilizer],Recipe_Calc[[#This Row],[Nutrient Concentration (ppm)]])/100 -> 0 | P27: =SUMIFS(Recipe_Input[N supplied (ppm)],Recipe_Input[Fertilizer],Recipe_Calc[[#This Row],[Nutrient Concentration (ppm)]])*SUMIFS(Fertilizers[Zinc (Zn)],Fertilizers[Fertilizer],Recipe_Calc[[#This Row],[Nutrient Concentration (ppm)]])/100 -> 0
A28: Nutrients already in Water | B28: {=Water_Test[Nitrate-N]} -> 0 | C28: {=Water_Test[Urea]} -> 0 | D28: {=Water_Test[Ammonium-N]} -> 0 | E28: {=Water_Test[Nitrate-N]} -> 0 | F28: {=Water_Test[P]} -> 0 | G28: {=Water_Test[K]} -> 0 | H28: {=Water_Test[Ca]} -> 0 | I28: {=Water_Test[Mg]} -> 0 | J28: {=Water_Test[SO₄²⁻]*INDEX(Conversions[Value],MATCH("Sulfur",Conversions[From],0))} -> 0 | K28: {=Water_Test[B]} -> 0 | L28: {=Water_Test[Cu]} -> 0 | M28: {=Water_Test[Fe]} -> 0 | N28: {=Water_Test[Mn]} -> 0 | O28: {=Water_Test[Mo]} -> 0 | P28: {=Water_Test[Zn]} -> 0
A29: Nutrients provided by Fertilizers | B29: =SUM(INDEX(Recipe_Calc[Total N],1):INDEX(Recipe_Calc[Total N],6)) -> 125 | C29: =SUM(INDEX(Recipe_Calc[Urea],1):INDEX(Recipe_Calc[Urea],6)) -> 0 | D29: =SUM(INDEX(Recipe_Calc[Ammonium-N],1):INDEX(Recipe_Calc[Ammonium-N],6)) -> 2.125 | E29: =SUM(INDEX(Recipe_Calc[Nitrate-N],1):INDEX(Recipe_Calc[Nitrate-N],6)) -> 122.875 | F29: =SUM(INDEX(Recipe_Calc[P],1):INDEX(Recipe_Calc[P],6)) -> 18.125 | G29: =SUM(INDEX(Recipe_Calc[K],1):INDEX(Recipe_Calc[K],6)) -> 138.375 | H29: =SUM(INDEX(Recipe_Calc[Ca],1):INDEX(Recipe_Calc[Ca],6)) -> 72.875 | I29: =SUM(INDEX(Recipe_Calc[Mg],1):INDEX(Recipe_Calc[Mg],6)) -> 20.875 | J29: =SUM(INDEX(Recipe_Calc[S],1):INDEX(Recipe_Calc[S],6)) -> 0 | K29: =SUM(INDEX(Recipe_Calc[B],1):INDEX(Recipe_Calc[B],6)) -> 0.2125 | L29: =SUM(INDEX(Recipe_Calc[Cu],1):INDEX(Recipe_Calc[Cu],6)) -> 0.2125 | M29: =SUM(INDEX(Recipe_Calc[Fe],1):INDEX(Recipe_Calc[Fe],6)) -> 1.5625 | N29: =SUM(INDEX(Recipe_Calc[Mn],1):INDEX(Recipe_Calc[Mn],6)) -> 0.525 | O29: =SUM(INDEX(Recipe_Calc[Mo],1):INDEX(Recipe_Calc[Mo],6)) -> 0.0125 | P29: =SUM(INDEX(Recipe_Calc[Zn],1):INDEX(Recipe_Calc[Zn],6)) -> 0.3625 | Q29: =IF(N(Recipe_Calc[[#This Row],[Total N]])>0,Recipe_Calc[[#This Row],[K]]/Recipe_Calc[[#This Row],[Total N]],"") -> 1.107
A30: Nutrients required by Crop | B30: =IF(Recipes_Crop[Crop]="","",IFERROR(AVERAGEIFS(Nutrients_2[C:Nitrogen],Nutrients_2[For],Recipes_Crop[Crop]),"")) -> 170 | F30: =IF(Recipes_Crop[Crop]="","",IFERROR(AVERAGEIFS(Nutrients_2[C:Phosphorus],Nutrients_2[For],Recipes_Crop[Crop]),"")) -> 41.566667 | G30: =IF(Recipes_Crop[Crop]="","",IFERROR(AVERAGEIFS(Nutrients_2[C:Potassium],Nutrients_2[For],Recipes_Crop[Crop]),"")) -> 248.93333 | H30: =IF(Recipes_Crop[Crop]="","",IFERROR(AVERAGEIFS(Nutrients_2[C:Calcium],Nutrients_2[For],Recipes_Crop[Crop]),"")) -> 127.4 | I30: =IF(Recipes_Crop[Crop]="","",IFERROR(AVERAGEIFS(Nutrients_2[C:Magnesium],Nutrients_2[For],Recipes_Crop[Crop]),"")) -> 40.733333 | J30: =IF(Recipes_Crop[Crop]="","",IFERROR(AVERAGEIFS(Nutrients_2[C:Sulfur],Nutrients_2[For],Recipes_Crop[Crop]),"")) -> 58.6 | K30: =IF(Recipes_Crop[Crop]="","",IFERROR(AVERAGEIFS(Nutrients_2[C:Boron],Nutrients_2[For],Recipes_Crop[Crop]),"")) -> 0.35333333 | L30: =IF(Recipes_Crop[Crop]="","",IFERROR(AVERAGEIFS(Nutrients_2[C:Copper],Nutrients_2[For],Recipes_Crop[Crop]),"")) -> 0.10766667 | M30: =IF(Recipes_Crop[Crop]="","",IFERROR(AVERAGEIFS(Nutrients_2[C:Iron],Nutrients_2[For],Recipes_Crop[Crop]),"")) -> 2.5 | N30: =IF(Recipes_Crop[Crop]="","",IFERROR(AVERAGEIFS(Nutrients_2[C:Manganese],Nutrients_2[For],Recipes_Crop[Crop]),"")) -> 0.41666667 | O30: =IF(Recipes_Crop[Crop]="","",IFERROR(AVERAGEIFS(Nutrients_2[C:Molybdenum],Nutrients_2[For],Recipes_Crop[Crop]),"")) -> 0.031333333 | P30: =IF(Recipes_Crop[Crop]="","",IFERROR(AVERAGEIFS(Nutrients_2[C:Zinc],Nutrients_2[For],Recipes_Crop[Crop]),"")) -> 0.17666667 | Q30: =IF(AND(ISNUMBER(Recipe_Calc[[#This Row],[K]]),ISNUMBER(Recipe_Calc[[#This Row],[Total N]])),IF(Recipe_Calc[[#This Row],[Total N]]>0,Recipe_Calc[[#This Row],[K]]/Recipe_Calc[[#This Row],[Total N]],""),"") -> 1.4643137
A31: % of requirement (100% = met) | B31: =IF(AND(ISNUMBER(INDEX(Recipe_Calc[Total N],8)),N(INDEX(Recipe_Calc[Total N],8))>0),INDEX(Recipe_Calc[Total N],7)/INDEX(Recipe_Calc[Total N],8)*100,"") -> 73.529412 | F31: =IF(AND(ISNUMBER(INDEX(Recipe_Calc[P],8)),N(INDEX(Recipe_Calc[P],8))>0),INDEX(Recipe_Calc[P],7)/INDEX(Recipe_Calc[P],8)*100,"") -> 43.604651 | G31: =IF(AND(ISNUMBER(INDEX(Recipe_Calc[K],8)),N(INDEX(Recipe_Calc[K],8))>0),INDEX(Recipe_Calc[K],7)/INDEX(Recipe_Calc[K],8)*100,"") -> 55.587172 | H31: =IF(AND(ISNUMBER(INDEX(Recipe_Calc[Ca],8)),N(INDEX(Recipe_Calc[Ca],8))>0),INDEX(Recipe_Calc[Ca],7)/INDEX(Recipe_Calc[Ca],8)*100,"") -> 57.201727 | I31: =IF(AND(ISNUMBER(INDEX(Recipe_Calc[Mg],8)),N(INDEX(Recipe_Calc[Mg],8))>0),INDEX(Recipe_Calc[Mg],7)/INDEX(Recipe_Calc[Mg],8)*100,"") -> 51.247954 | J31: =IF(AND(ISNUMBER(INDEX(Recipe_Calc[S],8)),N(INDEX(Recipe_Calc[S],8))>0),INDEX(Recipe_Calc[S],7)/INDEX(Recipe_Calc[S],8)*100,"") -> 0 | K31: =IF(AND(ISNUMBER(INDEX(Recipe_Calc[B],8)),N(INDEX(Recipe_Calc[B],8))>0),INDEX(Recipe_Calc[B],7)/INDEX(Recipe_Calc[B],8)*100,"") -> 60.141509 | L31: =IF(AND(ISNUMBER(INDEX(Recipe_Calc[Cu],8)),N(INDEX(Recipe_Calc[Cu],8))>0),INDEX(Recipe_Calc[Cu],7)/INDEX(Recipe_Calc[Cu],8)*100,"") -> 197.36842 | M31: =IF(AND(ISNUMBER(INDEX(Recipe_Calc[Fe],8)),N(INDEX(Recipe_Calc[Fe],8))>0),INDEX(Recipe_Calc[Fe],7)/INDEX(Recipe_Calc[Fe],8)*100,"") -> 62.5 | N31: =IF(AND(ISNUMBER(INDEX(Recipe_Calc[Mn],8)),N(INDEX(Recipe_Calc[Mn],8))>0),INDEX(Recipe_Calc[Mn],7)/INDEX(Recipe_Calc[Mn],8)*100,"") -> 126 | O31: =IF(AND(ISNUMBER(INDEX(Recipe_Calc[Mo],8)),N(INDEX(Recipe_Calc[Mo],8))>0),INDEX(Recipe_Calc[Mo],7)/INDEX(Recipe_Calc[Mo],8)*100,"") -> 39.893617 | P31: =IF(AND(ISNUMBER(INDEX(Recipe_Calc[Zn],8)),N(INDEX(Recipe_Calc[Zn],8))>0),INDEX(Recipe_Calc[Zn],7)/INDEX(Recipe_Calc[Zn],8)*100,"") -> 205.18868

Sheet 2026-10-03_Recipes
A2: Hydroponic Nutrient Solution Calculator
A3: Recreated from the University of Missouri Extension calculator (J. Cabrera-Garcia & R. Milhollin, 1/2026; see MU Extension g6984). Crop requirements are read from the Nutrients sheet and fertilizer analyses from the Fertilizers sheet.
A4: Cell colors: | B4: Input | C4: Result | D4: Info | E4: Educational use only; the user assumes all risks associated with its use.
A6: STEP 1: Insert results from your water test report (in parts per million - ppm)
A7: Water test report concentration | B7: Total N | C7: Urea | D7: Ammonium-N | E7: Nitrate-N | F7: P | G7: K | H7: Ca | I7: Mg | J7: SO₄²⁻ | K7: B | L7: Cu | M7: Fe | N7: Mn | O7: Mo | P7: Zn | Q7: Alkalinity (as CaCO₃) | R7: pH | S7: EC (dS/m)
A8: Enter ppm from water report (0 if none) | B8: 0 | C8: 0 | D8: 0 | E8: 0 | F8: 0 | G8: 0 | H8: 0 | I8: 0 | J8: 0 | K8: 0 | L8: 0 | M8: 0 | N8: 0 | O8: 0 | P8: 0
A10: STEP 2: Select the hydroponic crop and enter the measured pH of your nutrient solution (if available)
A11: Crop | B11: Lactuca sativa
A12: Nutrient volume (liters) | B12: 10
A13: pH of nutrient solution (optional) | E13: =IF(OR($B$11="",$B$13=""),"",IF(OR($B$14="",$C$14=""),"No pH range on file for this crop",IF(AND($B$13>=$B$14,$B$13<=$C$14),"Optimal pH","Warning - pH level is outside of normal range")))
A14: Recommended pH range (min | max) | B14: =IF($B$11="","",IFERROR(IF(ISNUMBER(INDEX(Nutrients_2[C:pH (min)],MATCH($B$11,Nutrients_2[For],0))),INDEX(Nutrients_2[C:pH (min)],MATCH($B$11,Nutrients_2[For],0)),""),"")) -> 5.5 | C14: =IF($B$11="","",IFERROR(IF(ISNUMBER(INDEX(Nutrients_2[C:pH (max)],MATCH($B$11,Nutrients_2[For],0))),INDEX(Nutrients_2[C:pH (max)],MATCH($B$11,Nutrients_2[For],0)),""),"")) -> 6
A15: Sources averaged in Nutrients sheet | B15: =IF($B$11="","",COUNTIF(Nutrients_1[For],$B$11)) -> 1
A17: STEP 3: Select the fertilizers and input the amount dissolved in the nutrient volume above
A18: Type of fertilizer | B18: Amount (grams) | C18: Fertilizer (mg/L) | D18: N supplied (ppm)
A19: 12-4-16 | B19: 1.7 | C19: =IF(OR($A19="",$B19=""),"",IFERROR($B19*1000/$B$12,"")) -> 170 | D19: =IFERROR(IF($A19="",0,VALUE(INDEX(Fertilizers[N],MATCH($A19,Fertilizers[Fertilizer],0)))*N($B19)*10/$B$12),0) -> 20.4
C20: =IF(OR($A20="",$B20=""),"",IFERROR($B20*1000/$B$12,"")) | D20: =IFERROR(IF($A20="",0,VALUE(INDEX(Fertilizers[N],MATCH($A20,Fertilizers[Fertilizer],0)))*N($B20)*10/$B$12),0) -> 0
C21: =IF(OR($A21="",$B21=""),"",IFERROR($B21*1000/$B$12,"")) | D21: =IFERROR(IF($A21="",0,VALUE(INDEX(Fertilizers[N],MATCH($A21,Fertilizers[Fertilizer],0)))*N($B21)*10/$B$12),0) -> 0
C22: =IF(OR($A22="",$B22=""),"",IFERROR($B22*1000/$B$12,"")) | D22: =IFERROR(IF($A22="",0,VALUE(INDEX(Fertilizers[N],MATCH($A22,Fertilizers[Fertilizer],0)))*N($B22)*10/$B$12),0) -> 0
C23: =IF(OR($A23="",$B23=""),"",IFERROR($B23*1000/$B$12,"")) | D23: =IFERROR(IF($A23="",0,VALUE(INDEX(Fertilizers[N],MATCH($A23,Fertilizers[Fertilizer],0)))*N($B23)*10/$B$12),0) -> 0
A25: STEP 4: Verify that the inputs from Step 3 meet the crop nutritional requirement
A26: Nutrient concentration (ppm) | B26: Total N | C26: Urea | D26: Ammonium-N | E26: Nitrate-N | F26: P | G26: K | H26: Ca | I26: Mg | J26: S | K26: B | L26: Cu | M26: Fe | N26: Mn | O26: Mo | P26: Zn | Q26: K/N
A27: =IF($A19="","(none selected)",$A19) -> 12-4-16 | B27: =IFERROR($D19*INDEX(Fertilizers[#Data],MATCH($A19,Fertilizers[Fertilizer],0),MATCH(B$69,Fertilizers[#Headers],0))/100,0) -> 20.4 | C27: =IFERROR($D19*INDEX(Fertilizers[#Data],MATCH($A19,Fertilizers[Fertilizer],0),MATCH(C$69,Fertilizers[#Headers],0))/100,0) -> 0 | D27: =IFERROR($D19*INDEX(Fertilizers[#Data],MATCH($A19,Fertilizers[Fertilizer],0),MATCH(D$69,Fertilizers[#Headers],0))/100,0) -> 0.3468 | E27: =IFERROR($D19*INDEX(Fertilizers[#Data],MATCH($A19,Fertilizers[Fertilizer],0),MATCH(E$69,Fertilizers[#Headers],0))/100,0) -> 20.0532 | F27: =IFERROR($D19*INDEX(Fertilizers[#Data],MATCH($A19,Fertilizers[Fertilizer],0),MATCH(F$69,Fertilizers[#Headers],0))/100,0) -> 2.958 | G27: =IFERROR($D19*INDEX(Fertilizers[#Data],MATCH($A19,Fertilizers[Fertilizer],0),MATCH(G$69,Fertilizers[#Headers],0))/100,0) -> 22.5828 | H27: =IFERROR($D19*INDEX(Fertilizers[#Data],MATCH($A19,Fertilizers[Fertilizer],0),MATCH(H$69,Fertilizers[#Headers],0))/100,0) -> 11.8932 | I27: =IFERROR($D19*INDEX(Fertilizers[#Data],MATCH($A19,Fertilizers[Fertilizer],0),MATCH(I$69,Fertilizers[#Headers],0))/100,0) -> 3.4068 | ... P27: =IFERROR($D19*INDEX(Fertilizers[#Data],MATCH($A19,Fertilizers[Fertilizer],0),MATCH(P$69,Fertilizers[#Headers],0))/100,0) -> 0.05916
A28: =IF($A20="","(none selected)",$A20) -> (none selected) | B28: =IFERROR($D20*INDEX(Fertilizers[#Data],MATCH($A20,Fertilizers[Fertilizer],0),MATCH(B$69,Fertilizers[#Headers],0))/100,0) -> 0 | C28: =IFERROR($D20*INDEX(Fertilizers[#Data],MATCH($A20,Fertilizers[Fertilizer],0),MATCH(C$69,Fertilizers[#Headers],0))/100,0) -> 0 | D28: =IFERROR($D20*INDEX(Fertilizers[#Data],MATCH($A20,Fertilizers[Fertilizer],0),MATCH(D$69,Fertilizers[#Headers],0))/100,0) -> 0 | E28: =IFERROR($D20*INDEX(Fertilizers[#Data],MATCH($A20,Fertilizers[Fertilizer],0),MATCH(E$69,Fertilizers[#Headers],0))/100,0) -> 0 | F28: =IFERROR($D20*INDEX(Fertilizers[#Data],MATCH($A20,Fertilizers[Fertilizer],0),MATCH(F$69,Fertilizers[#Headers],0))/100,0) -> 0 | G28: =IFERROR($D20*INDEX(Fertilizers[#Data],MATCH($A20,Fertilizers[Fertilizer],0),MATCH(G$69,Fertilizers[#Headers],0))/100,0) -> 0 | H28: =IFERROR($D20*INDEX(Fertilizers[#Data],MATCH($A20,Fertilizers[Fertilizer],0),MATCH(H$69,Fertilizers[#Headers],0))/100,0) -> 0 | I28: =IFERROR($D20*INDEX(Fertilizers[#Data],MATCH($A20,Fertilizers[Fertilizer],0),MATCH(I$69,Fertilizers[#Headers],0))/100,0) -> 0 | ... P28: =IFERROR($D20*INDEX(Fertilizers[#Data],MATCH($A20,Fertilizers[Fertilizer],0),MATCH(P$69,Fertilizers[#Headers],0))/100,0) -> 0
A29: =IF($A21="","(none selected)",$A21) -> (none selected) | B29: =IFERROR($D21*INDEX(Fertilizers[#Data],MATCH($A21,Fertilizers[Fertilizer],0),MATCH(B$69,Fertilizers[#Headers],0))/100,0) -> 0 | C29: =IFERROR($D21*INDEX(Fertilizers[#Data],MATCH($A21,Fertilizers[Fertilizer],0),MATCH(C$69,Fertilizers[#Headers],0))/100,0) -> 0 | D29: =IFERROR($D21*INDEX(Fertilizers[#Data],MATCH($A21,Fertilizers[Fertilizer],0),MATCH(D$69,Fertilizers[#Headers],0))/100,0) -> 0 | E29: =IFERROR($D21*INDEX(Fertilizers[#Data],MATCH($A21,Fertilizers[Fertilizer],0),MATCH(E$69,Fertilizers[#Headers],0))/100,0) -> 0 | F29: =IFERROR($D21*INDEX(Fertilizers[#Data],MATCH($A21,Fertilizers[Fertilizer],0),MATCH(F$69,Fertilizers[#Headers],0))/100,0) -> 0 | G29: =IFERROR($D21*INDEX(Fertilizers[#Data],MATCH($A21,Fertilizers[Fertilizer],0),MATCH(G$69,Fertilizers[#Headers],0))/100,0) -> 0 | H29: =IFERROR($D21*INDEX(Fertilizers[#Data],MATCH($A21,Fertilizers[Fertilizer],0),MATCH(H$69,Fertilizers[#Headers],0))/100,0) -> 0 | I29: =IFERROR($D21*INDEX(Fertilizers[#Data],MATCH($A21,Fertilizers[Fertilizer],0),MATCH(I$69,Fertilizers[#Headers],0))/100,0) -> 0 | ... P29: =IFERROR($D21*INDEX(Fertilizers[#Data],MATCH($A21,Fertilizers[Fertilizer],0),MATCH(P$69,Fertilizers[#Headers],0))/100,0) -> 0
A30: =IF($A22="","(none selected)",$A22) -> (none selected) | B30: =IFERROR($D22*INDEX(Fertilizers[#Data],MATCH($A22,Fertilizers[Fertilizer],0),MATCH(B$69,Fertilizers[#Headers],0))/100,0) -> 0 | C30: =IFERROR($D22*INDEX(Fertilizers[#Data],MATCH($A22,Fertilizers[Fertilizer],0),MATCH(C$69,Fertilizers[#Headers],0))/100,0) -> 0 | D30: =IFERROR($D22*INDEX(Fertilizers[#Data],MATCH($A22,Fertilizers[Fertilizer],0),MATCH(D$69,Fertilizers[#Headers],0))/100,0) -> 0 | E30: =IFERROR($D22*INDEX(Fertilizers[#Data],MATCH($A22,Fertilizers[Fertilizer],0),MATCH(E$69,Fertilizers[#Headers],0))/100,0) -> 0 | F30: =IFERROR($D22*INDEX(Fertilizers[#Data],MATCH($A22,Fertilizers[Fertilizer],0),MATCH(F$69,Fertilizers[#Headers],0))/100,0) -> 0 | G30: =IFERROR($D22*INDEX(Fertilizers[#Data],MATCH($A22,Fertilizers[Fertilizer],0),MATCH(G$69,Fertilizers[#Headers],0))/100,0) -> 0 | H30: =IFERROR($D22*INDEX(Fertilizers[#Data],MATCH($A22,Fertilizers[Fertilizer],0),MATCH(H$69,Fertilizers[#Headers],0))/100,0) -> 0 | I30: =IFERROR($D22*INDEX(Fertilizers[#Data],MATCH($A22,Fertilizers[Fertilizer],0),MATCH(I$69,Fertilizers[#Headers],0))/100,0) -> 0 | ... P30: =IFERROR($D22*INDEX(Fertilizers[#Data],MATCH($A22,Fertilizers[Fertilizer],0),MATCH(P$69,Fertilizers[#Headers],0))/100,0) -> 0
A31: =IF($A23="","(none selected)",$A23) -> (none selected) | B31: =IFERROR($D23*INDEX(Fertilizers[#Data],MATCH($A23,Fertilizers[Fertilizer],0),MATCH(B$69,Fertilizers[#Headers],0))/100,0) -> 0 | C31: =IFERROR($D23*INDEX(Fertilizers[#Data],MATCH($A23,Fertilizers[Fertilizer],0),MATCH(C$69,Fertilizers[#Headers],0))/100,0) -> 0 | D31: =IFERROR($D23*INDEX(Fertilizers[#Data],MATCH($A23,Fertilizers[Fertilizer],0),MATCH(D$69,Fertilizers[#Headers],0))/100,0) -> 0 | E31: =IFERROR($D23*INDEX(Fertilizers[#Data],MATCH($A23,Fertilizers[Fertilizer],0),MATCH(E$69,Fertilizers[#Headers],0))/100,0) -> 0 | F31: =IFERROR($D23*INDEX(Fertilizers[#Data],MATCH($A23,Fertilizers[Fertilizer],0),MATCH(F$69,Fertilizers[#Headers],0))/100,0) -> 0 | G31: =IFERROR($D23*INDEX(Fertilizers[#Data],MATCH($A23,Fertilizers[Fertilizer],0),MATCH(G$69,Fertilizers[#Headers],0))/100,0) -> 0 | H31: =IFERROR($D23*INDEX(Fertilizers[#Data],MATCH($A23,Fertilizers[Fertilizer],0),MATCH(H$69,Fertilizers[#Headers],0))/100,0) -> 0 | I31: =IFERROR($D23*INDEX(Fertilizers[#Data],MATCH($A23,Fertilizers[Fertilizer],0),MATCH(I$69,Fertilizers[#Headers],0))/100,0) -> 0 | ... P31: =IFERROR($D23*INDEX(Fertilizers[#Data],MATCH($A23,Fertilizers[Fertilizer],0),MATCH(P$69,Fertilizers[#Headers],0))/100,0) -> 0
A32: Water test (from Step 1) | B32: =B8 -> 0 | C32: =C8 -> 0 | D32: =D8 -> 0 | E32: =E8 -> 0 | F32: =F8 -> 0 | G32: =G8 -> 0 | H32: =H8 -> 0 | I32: =I8 -> 0 | J32: =J8*$B$65 -> 0 | K32: =K8 -> 0 | L32: =L8 -> 0 | M32: =M8 -> 0 | N32: =N8 -> 0 | O32: =O8 -> 0 | P32: =P8 -> 0
A33: Provided by Steps 1 + 3 | B33: =SUM(B27:B32) -> 20.4 | C33: =SUM(C27:C32) -> 0 | D33: =SUM(D27:D32) -> 0.3468 | E33: =SUM(E27:E32) -> 20.0532 | F33: =SUM(F27:F32) -> 2.958 | G33: =SUM(G27:G32) -> 22.5828 | H33: =SUM(H27:H32) -> 11.8932 | I33: =SUM(I27:I32) -> 3.4068 | ... P33: =SUM(P27:P32) -> 0.05916 | Q33: =IF(N(B33)>0,G33/B33,"") -> 1.107 | R33: ← pink = below crop requirement
A34: Crop requirement | B34: =IF($B$11="","",IFERROR(IF(SUMPRODUCT((Nutrients_1[For]=$B$11)*(INDEX(Nutrients_1[#Data],0,MATCH(B$70,Nutrients_1[#Headers],0))<>""))=0,"",SUMPRODUCT((Nutrients_1[For]=$B$11)*("0"&INDEX(Nutrients_1[#Data],0,MATCH(B$70,Nutrients_1[#Headers],0))))/SUMPRODUCT((Nutrients_1[For]=$B$11)*(INDEX(Nutrients_1[#Data],0,MATCH(B$70,Nutrients_1[#Headers],0))<>""))),"")) -> 150 | F34: =IF($B$11="","",IFERROR(IF(SUMPRODUCT((Nutrients_1[For]=$B$11)*(INDEX(Nutrients_1[#Data],0,MATCH(F$70,Nutrients_1[#Headers],0))<>""))=0,"",SUMPRODUCT((Nutrients_1[For]=$B$11)*("0"&INDEX(Nutrients_1[#Data],0,MATCH(F$70,Nutrients_1[#Headers],0))))/SUMPRODUCT((Nutrients_1[For]=$B$11)*(INDEX(Nutrients_1[#Data],0,MATCH(F$70,Nutrients_1[#Headers],0))<>""))),"")) -> 31 | G34: =IF($B$11="","",IFERROR(IF(SUMPRODUCT((Nutrients_1[For]=$B$11)*(INDEX(Nutrients_1[#Data],0,MATCH(G$70,Nutrients_1[#Headers],0))<>""))=0,"",SUMPRODUCT((Nutrients_1[For]=$B$11)*("0"&INDEX(Nutrients_1[#Data],0,MATCH(G$70,Nutrients_1[#Headers],0))))/SUMPRODUCT((Nutrients_1[For]=$B$11)*(INDEX(Nutrients_1[#Data],0,MATCH(G$70,Nutrients_1[#Headers],0))<>""))),"")) -> 210 | H34: =IF($B$11="","",IFERROR(IF(SUMPRODUCT((Nutrients_1[For]=$B$11)*(INDEX(Nutrients_1[#Data],0,MATCH(H$70,Nutrients_1[#Headers],0))<>""))=0,"",SUMPRODUCT((Nutrients_1[For]=$B$11)*("0"&INDEX(Nutrients_1[#Data],0,MATCH(H$70,Nutrients_1[#Headers],0))))/SUMPRODUCT((Nutrients_1[For]=$B$11)*(INDEX(Nutrients_1[#Data],0,MATCH(H$70,Nutrients_1[#Headers],0))<>""))),"")) -> 90 | I34: =IF($B$11="","",IFERROR(IF(SUMPRODUCT((Nutrients_1[For]=$B$11)*(INDEX(Nutrients_1[#Data],0,MATCH(I$70,Nutrients_1[#Headers],0))<>""))=0,"",SUMPRODUCT((Nutrients_1[For]=$B$11)*("0"&INDEX(Nutrients_1[#Data],0,MATCH(I$70,Nutrients_1[#Headers],0))))/SUMPRODUCT((Nutrients_1[For]=$B$11)*(INDEX(Nutrients_1[#Data],0,MATCH(I$70,Nutrients_1[#Headers],0))<>""))),"")) -> 24 | J34: =IF($B$11="","",IFERROR(IF(SUMPRODUCT((Nutrients_1[For]=$B$11)*(INDEX(Nutrients_1[#Data],0,MATCH(J$70,Nutrients_1[#Headers],0))<>""))=0,"",SUMPRODUCT((Nutrients_1[For]=$B$11)*("0"&INDEX(Nutrients_1[#Data],0,MATCH(J$70,Nutrients_1[#Headers],0))))/SUMPRODUCT((Nutrients_1[For]=$B$11)*(INDEX(Nutrients_1[#Data],0,MATCH(J$70,Nutrients_1[#Headers],0))<>""))),"")) -> 0 | K34: =IF($B$11="","",IFERROR(IF(SUMPRODUCT((Nutrients_1[For]=$B$11)*(INDEX(Nutrients_1[#Data],0,MATCH(K$70,Nutrients_1[#Headers],0))<>""))=0,"",SUMPRODUCT((Nutrients_1[For]=$B$11)*("0"&INDEX(Nutrients_1[#Data],0,MATCH(K$70,Nutrients_1[#Headers],0))))/SUMPRODUCT((Nutrients_1[For]=$B$11)*(INDEX(Nutrients_1[#Data],0,MATCH(K$70,Nutrients_1[#Headers],0))<>""))),"")) -> 0.16 | L34: =IF($B$11="","",IFERROR(IF(SUMPRODUCT((Nutrients_1[For]=$B$11)*(INDEX(Nutrients_1[#Data],0,MATCH(L$70,Nutrients_1[#Headers],0))<>""))=0,"",SUMPRODUCT((Nutrients_1[For]=$B$11)*("0"&INDEX(Nutrients_1[#Data],0,MATCH(L$70,Nutrients_1[#Headers],0))))/SUMPRODUCT((Nutrients_1[For]=$B$11)*(INDEX(Nutrients_1[#Data],0,MATCH(L$70,Nutrients_1[#Headers],0))<>""))),"")) -> 0.02 | M34: =IF($B$11="","",IFERROR(IF(SUMPRODUCT((Nutrients_1[For]=$B$11)*(INDEX(Nutrients_1[#Data],0,MATCH(M$70,Nutrients_1[#Headers],0))<>""))=0,"",SUMPRODUCT((Nutrients_1[For]=$B$11)*("0"&INDEX(Nutrients_1[#Data],0,MATCH(M$70,Nutrients_1[#Headers],0))))/SUMPRODUCT((Nutrients_1[For]=$B$11)*(INDEX(Nutrients_1[#Data],0,MATCH(M$70,Nutrients_1[#Headers],0))<>""))),"")) -> 1 | ... P34: =IF($B$11="","",IFERROR(IF(SUMPRODUCT((Nutrients_1[For]=$B$11)*(INDEX(Nutrients_1[#Data],0,MATCH(P$70,Nutrients_1[#Headers],0))<>""))=0,"",SUMPRODUCT((Nutrients_1[For]=$B$11)*("0"&INDEX(Nutrients_1[#Data],0,MATCH(P$70,Nutrients_1[#Headers],0))))/SUMPRODUCT((Nutrients_1[For]=$B$11)*(INDEX(Nutrients_1[#Data],0,MATCH(P$70,Nutrients_1[#Headers],0))<>""))),"")) -> 0.13 | Q34: =IF(AND(ISNUMBER(G34),ISNUMBER(B34)),IF(B34>0,G34/B34,""),"") -> 1.4
A35: % of requirement (100% = met) | B35: =IF(AND(ISNUMBER(B34),N(B34)>0),B33/B34*100,"") -> 13.6 | F35: =IF(AND(ISNUMBER(F34),N(F34)>0),F33/F34*100,"") -> 9.5419355 | G35: =IF(AND(ISNUMBER(G34),N(G34)>0),G33/G34*100,"") -> 10.753714 | H35: =IF(AND(ISNUMBER(H34),N(H34)>0),H33/H34*100,"") -> 13.214667 | I35: =IF(AND(ISNUMBER(I34),N(I34)>0),I33/I34*100,"") -> 14.195 | J35: =IF(AND(ISNUMBER(J34),N(J34)>0),J33/J34*100,"") | K35: =IF(AND(ISNUMBER(K34),N(K34)>0),K33/K34*100,"") -> 21.675 | L35: =IF(AND(ISNUMBER(L34),N(L34)>0),L33/L34*100,"") -> 173.4 | M35: =IF(AND(ISNUMBER(M34),N(M34)>0),M33/M34*100,"") -> 25.5 | ... P35: =IF(AND(ISNUMBER(P34),N(P34)>0),P33/P34*100,"") -> 45.507692
A37: Result 1: Hand mixed fertilizer recipe
A38: Fertilizer | B38: Grams in 10 liters | C38: Ounces in 10 gallons
A39: =IF($A19="","",$A19) -> 12-4-16 | B39: =IF(OR($A19="",$B19=""),"",IFERROR($B19*10/$B$12,"")) -> 1.7 | C39: =IF(B39="","",B39*$B$63/$B$64) -> 0.22699508
A40: =IF($A20="","",$A20) | B40: =IF(OR($A20="",$B20=""),"",IFERROR($B20*10/$B$12,"")) | C40: =IF(B40="","",B40*$B$63/$B$64)
A41: =IF($A21="","",$A21) | B41: =IF(OR($A21="",$B21=""),"",IFERROR($B21*10/$B$12,"")) | C41: =IF(B41="","",B41*$B$63/$B$64)
A42: =IF($A22="","",$A22) | B42: =IF(OR($A22="",$B22=""),"",IFERROR($B22*10/$B$12,"")) | C42: =IF(B42="","",B42*$B$63/$B$64)
A43: =IF($A23="","",$A23) | B43: =IF(OR($A23="",$B23=""),"",IFERROR($B23*10/$B$12,"")) | C43: =IF(B43="","",B43*$B$63/$B$64)
A45: ="Result 2: Recipes to make stock solutions when using injectors set at 1:"&$B$66 -> Result 2: Recipes to make stock solutions when using injectors set at 1:100
A46: Fertilizer | B46: Tank | C46: g per L of stock | D46: g per 10 L of stock | E46: oz per 10 gal of stock | F46: lb per gal of stock
A47: =IF($A19="","",$A19) -> 12-4-16 | B47: A | C47: =IF(OR($A19="",$B19=""),"",IFERROR($B19/$B$12*$B$66,"")) -> 17 | D47: =IF(C47="","",C47*10) -> 170 | E47: =IF(D47="","",D47*$B$63/$B$64) -> 22.699508 | F47: =IF(E47="","",E47/16/10) -> 0.14187192
A48: =IF($A20="","",$A20) | B48: B | C48: =IF(OR($A20="",$B20=""),"",IFERROR($B20/$B$12*$B$66,"")) | D48: =IF(C48="","",C48*10) | E48: =IF(D48="","",D48*$B$63/$B$64) | F48: =IF(E48="","",E48/16/10)
A49: =IF($A21="","",$A21) | B49: C | C49: =IF(OR($A21="",$B21=""),"",IFERROR($B21/$B$12*$B$66,"")) | D49: =IF(C49="","",C49*10) | E49: =IF(D49="","",D49*$B$63/$B$64) | F49: =IF(E49="","",E49/16/10)
A50: =IF($A22="","",$A22) | B50: D | C50: =IF(OR($A22="",$B22=""),"",IFERROR($B22/$B$12*$B$66,"")) | D50: =IF(C50="","",C50*10) | E50: =IF(D50="","",D50*$B$63/$B$64) | F50: =IF(E50="","",E50/16/10)
A51: =IF($A23="","",$A23) | B51: E | C51: =IF(OR($A23="",$B23=""),"",IFERROR($B23/$B$12*$B$66,"")) | D51: =IF(C51="","",C51*10) | E51: =IF(D51="","",D51*$B$63/$B$64) | F51: =IF(E51="","",E51/16/10)
A53: Result 3: Cost of fertilizer per 10 liters of nutrient solution
A54: Type of fertilizer | B54: Cost per kg | C54: Cost per 10 L
A55: =IF($A19="","",$A19) -> 12-4-16 | C55: =IF(OR($A19="",$B19="",B55=""),"",IFERROR(B55/1000*$B19*10/$B$12,""))
A56: =IF($A20="","",$A20) | C56: =IF(OR($A20="",$B20="",B56=""),"",IFERROR(B56/1000*$B20*10/$B$12,""))
A57: =IF($A21="","",$A21) | C57: =IF(OR($A21="",$B21="",B57=""),"",IFERROR(B57/1000*$B21*10/$B$12,""))
A58: =IF($A22="","",$A22) | C58: =IF(OR($A22="",$B22="",B58=""),"",IFERROR(B58/1000*$B22*10/$B$12,""))
A59: =IF($A23="","",$A23) | C59: =IF(OR($A23="",$B23="",B59=""),"",IFERROR(B59/1000*$B23*10/$B$12,""))
A60: Total fertilizer cost per 10 L | C60: =SUM(C55:C59) -> 0
A62: CONVERSIONS AND ASSUMPTIONS
A63: Liters per US gallon | B63: 3.78541
A64: Grams per ounce | B64: 28.3495
A65: S per SO₄²⁻ (32.06 / 96.06) | B65: =32.06/96.06 -> 0.33374974
A66: Injector dilution (1 : X) | B66: 100
A68: DATA MAPPING (column names looked up in the Fertilizers and Nutrients sheets)
A69: Fertilizers sheet column | B69: Total Nitrogen (N) | C69: Urea - N | D69: Ammonium - N (NH₄) | E69: Nitrate - N (NO₃) | F69: Phosphorus (P) | G69: Potassium (K) | H69: Calcium (Ca) | I69: Magnesium (Mg) | J69: Sulfur (S) | K69: Boron (B) | L69: Copper (Cu) | M69: Iron (Fe) | N69: Manganese (Mn) | O69: Molybdenum (Mo) | P69: Zinc (Zn)
A70: Nutrients sheet column | B70: Nitrogen | F70: Phosphorus | G70: Potassium | H70: Calcium | I70: Magnesium | J70: Sulfur | K70: Boron | L70: Copper | M70: Iron | N70: Manganese | O70: Molybdenum | P70: Zinc
A72: Fertilizer ppm: ppm of N supplied = grams x %N x 10 / liters. The Fertilizers sheet analysis columns are ppm of each element delivered when the fertilizer supplies 100 ppm N, so ppm of an element = ppm N supplied x (value / 100).
A73: Crop requirement: average of every row for the crop in the Nutrients sheet (blank cells ignored), the same averaging the Nutrients sheet uses for N, P and K. Urea, ammonium-N and nitrate-N have no crop requirement.
A74: Water test sulfate (SO4) is converted to S with the ratio above before it is added to the S column. Row heights and the dropdown lists follow the Nutrients and Fertilizers tables as they grow.

Sheet Water
A1: Water test report concentration
A2: Enter ppm from water report (0 if none)
A10: Total N | B10: Urea | C10: Ammonium-N | D10: Nitrate-N | E10: P | F10: K | G10: Ca | H10: Mg | I10: SO₄²⁻ | J10: B | K10: Cu | L10: Fe | M10: Mn | N10: Mo | O10: Zn | P10: Alkalinity (as CaCO₃) | Q10: pH | R10: EC (dS/m)
A11: 0 | B11: 0 | C11: 0 | D11: 0 | E11: 0 | F11: 0 | G11: 0 | H11: 0 | I11: 0 | J11: 0 | K11: 0 | L11: 0 | M11: 0 | N11: 0 | O11: 0

Sheet Seeds
B9: Genus species | H9: Quality Control
A10: Seed | B10: Scientific Name | C10: Common Name | D10: Brand Name | E10: Variety | F10: Color | G10: Type | H10: QC Testing Designation | I10: Organic | J10: Pelleted | K10: Days Until Germination (min) | L10: Days Until Germination (max) | M10: Days Until Maturity | N10: Disease Resistance | O10: Link
A11: 3059JP.65 | B11: Lactuca sativa | C11: Red Oakleaf Lettuce | D11: SC Salanova Brand Lettuce | E11: Xandra | F11: Red | G11: Oakleaf | H11: MT0 | I11: OG | J11: Pelleted | K11: 0 | L11: 0 | M11: 55 | N11: Downy Mildew (High), Lettuce Leaf Aphid Nasonovia ribisnigri (High) | O11: https://www.johnnyseeds.com/vegetables/lettuce/salanova-lettuce/salanova-premier-collection-pelleted-lettuce-seed-3073JP.html
A12: 3057JP.65 | B12: Lactuca sativa | C12: Red Butter Lettuce | D12: SC Salanova Brand Lettuce | E12: Davinci | F12: Red | G12: Butter | H12: MT0 | I12: OG | J12: Pelleted | K12: 0 | L12: 0 | M12: 55 | N12: Downy Mildew (High), Lettuce Leaf Aphid Nasonovia ribisnigri (High) | O12: https://www.johnnyseeds.com/vegetables/lettuce/salanova-lettuce/salanova-premier-collection-pelleted-lettuce-seed-3073JP.html
A13: 3058JP.65 | B13: Lactuca sativa | C13: Green Oakleaf Lettuce | D13: SC Salanova Brand Lettuce | E13: Cousteau | F13: Green | G13: Oakleaf | H13: MT0 | I13: OG | J13: Pelleted | K13: 0 | L13: 0 | M13: 55 | N13: Downy Mildew (High), Lettuce Leaf Aphid Nasonovia ribisnigri (High) | O13: https://www.johnnyseeds.com/vegetables/lettuce/salanova-lettuce/salanova-premier-collection-pelleted-lettuce-seed-3073JP.html
A14: 3056JP.65 | B14: Lactuca sativa | C14: Green Butter Lettuce | D14: SC Salanova Brand Lettuce | E14: Higgs | F14: Green | G14: Butter | H14: MT0 | I14: OG | J14: Pelleted | K14: 0 | L14: 0 | M14: 55 | N14: Downy Mildew (High), Lettuce Leaf Aphid Nasonovia ribisnigri (High) | O14: https://www.johnnyseeds.com/vegetables/lettuce/salanova-lettuce/salanova-premier-collection-pelleted-lettuce-seed-3073JP.html
A15: 2178GP.53 | B15: Ocimum basilicum | C15: Nufar Basil | D15: Large Leaf Basil | F15: Green | G15: Nufar | I15: OG | J15: Pelleted | K15: 5 | L15: 10 | M15: 74 | N15: Fusarium Wilt (Intermediate) | O15: https://www.johnnyseeds.com/herbs/basil/italian-large-leaf-basil/nufar-organic-pelleted-basil-seed-2178GP.html

Sheet 2026-10-02_Jars
P1: Measure 1st | Q1: Measure 2nd | X1: After Death | Y1: After Death
E9: =IF(@[Jar Type]="", "", TEXT(XLOOKUP([@[Jar Type]], 'Containers'!A:A, 'Containers'!C:C), "General")) | F9: ... | I9: =IF(@[Jar Type]="", "", TEXT(IFERROR(MEDIAN(FILTER(VALUE([Water Added (mL)]), ([Jar Purpose]=[@[Jar Purpose]])*([Jar Type]=[@[Jar Type]])*([Additional Water Added]="1"))), 0), "0000")) | J9: ==IF(@[Jar Type]="", "", TEXT(IFERROR(MEDIAN(FILTER(VALUE([Water Added (mL)]), ([Jar Purpose]=[@[Jar Purpose]])*([Jar Type]=[@[Jar Type]])*([Additional Water Added]="0"))), 0), "0000")) | K9: ... | R9: =IF(@[Jar]="", "", IFERROR(IFERROR(XLOOKUP(@[Jar], Growing[Growing Jar], Growing[Status]), XLOOKUP(@[Jar], Growing[Seeding Jar], Growing[Status])), "")) | S9: ... | X9: ...
A10: Jar | B10: Jar Type | C10: Jar Name | D10: Jar Purpose | E10: Jar Size (mL) | F10: Autoclaved | G10: Date Made | H10: Water Type | I10: Expected Water (min, mL) | J10: Expected Water (max, mL) | K10: Water Added (mL) | L10: Water Level from Top (mm) | M10: Target PPM Nitrogen | N10: Fertilizer Added (g) | O10: pH Procedure | P10: Initial pH | Q10: Initial EC (μS) | R10: Growing Status | S10: Additional Water Added (mL) | T10: Additional Fertilizer Added (g) | U10: Fertilizer Added Date | V10: Total Water Added (mL) | W10: Total Fertilizer Added (g) | X10: Final pH | Y10: Final EC (μS) | Z10: Exterior | AA10: Shade | AB10: Notes
A11: 1 | B11: Half-Gallon Ball Mason Jar | C11: Romaine Calm | D11: Seeding & Growing | E11: =IF(zzz_20261002_Jars[[#This Row],[Jar Type]]="", "", TEXT(_xlfn.XLOOKUP(zzz_20261002_Jars[[#This Row],[Jar Type]], Containers!A:A, Containers!C:C), "General")) -> 1892.7 | F11: 0 | G11: 2026-05-22 | H11: Distilled | I11: {=IF(_xlfn.SINGLE(zzz_20261002_Jars[Jar Type])="", "", TEXT(IFERROR(MEDIAN(_xlfn._xlws.FILTER(VALUE(zzz_20261002_Jars[Water Added (mL)]), (zzz_20261002_Jars[Jar Purpose]=zzz_20261002_Jars[[#This Row],[Jar Purpose]])*(zzz_20261002_Jars[Jar Type]=zzz_20261002_Jars[[#This Row],[Jar Type]])*(zzz_20261002_Jars[Additional Water Added (mL)]="1"))), 0), "0000"))} -> 1700 | J11: {=IF(_xlfn.SINGLE(zzz_20261002_Jars[Jar Type])="", "", TEXT(IFERROR(MEDIAN(_xlfn._xlws.FILTER(VALUE(zzz_20261002_Jars[Water Added (mL)]), (zzz_20261002_Jars[Jar Purpose]=zzz_20261002_Jars[[#This Row],[Jar Purpose]])*(zzz_20261002_Jars[Jar Type]=zzz_20261002_Jars[[#This Row],[Jar Type]])*(zzz_20261002_Jars[Additional Water Added (mL)]="0"))), 0), "0000"))} -> 0000 | K11: 1750 | L11: Unknown | M11: Unknown | N11: 1.48 | O11: default-ph | P11: 5.75 | Q11: 1040 | R11: =IF(zzz_20261002_Jars[[#This Row],[Jar]]="", "", IFERROR(IFERROR(_xlfn.XLOOKUP(zzz_20261002_Jars[[#This Row],[Jar]], Growing[Growing Jar], Growing[Status]), _xlfn.XLOOKUP(zzz_20261002_Jars[[#This Row],[Jar]], Growing[Seeding Jar], Growing[Status])), "Ready")) -> Finished | S11: Unknown | T11: 0 | U11: None | V11: {=_xlfn.LET( _xlpm.water, zzz_20261002_Jars[[#This Row],[Water Added (mL)]], _xlpm.additional, zzz_20261002_Jars[[#This Row],[Additional Water Added (mL)]], IF(_xlpm.water="", "", IF(_xlpm.additional="Unknown", VALUE(_xlpm.water), VALUE(_xlpm.water)+VALUE(_xlpm.additional))) )} -> 1750 | W11: {=_xlfn.LET( _xlpm.fertilizer, zzz_20261002_Jars[[#This Row],[Fertilizer Added (g)]], _xlpm.additional, zzz_20261002_Jars[[#This Row],[Additional Fertilizer Added (g)]], IF(_xlpm.fertilizer="", "", IF(_xlpm.additional="Unknown", VALUE(_xlpm.fertilizer), VALUE(_xlpm.fertilizer)+VALUE(_xlpm.additional))) )} -> 1.48 | X11: 6.50 | Y11: 507 | Z11: 1 Brown Paper Bag | AA11: 1 Sheet Cardboard
A12: 2 | B12: Half-Gallon Ball Mason Jar | C12: Leaf Quickly | D12: Seeding & Growing | E12: =IF(zzz_20261002_Jars[[#This Row],[Jar Type]]="", "", TEXT(_xlfn.XLOOKUP(zzz_20261002_Jars[[#This Row],[Jar Type]], Containers!A:A, Containers!C:C), "General")) -> 1892.7 | F12: 0 | G12: 2026-05-22 | H12: Distilled | I12: {=IF(_xlfn.SINGLE(zzz_20261002_Jars[Jar Type])="", "", TEXT(IFERROR(MEDIAN(_xlfn._xlws.FILTER(VALUE(zzz_20261002_Jars[Water Added (mL)]), (zzz_20261002_Jars[Jar Purpose]=zzz_20261002_Jars[[#This Row],[Jar Purpose]])*(zzz_20261002_Jars[Jar Type]=zzz_20261002_Jars[[#This Row],[Jar Type]])*(zzz_20261002_Jars[Additional Water Added (mL)]="1"))), 0), "0000"))} -> 1700 | J12: {=IF(_xlfn.SINGLE(zzz_20261002_Jars[Jar Type])="", "", TEXT(IFERROR(MEDIAN(_xlfn._xlws.FILTER(VALUE(zzz_20261002_Jars[Water Added (mL)]), (zzz_20261002_Jars[Jar Purpose]=zzz_20261002_Jars[[#This Row],[Jar Purpose]])*(zzz_20261002_Jars[Jar Type]=zzz_20261002_Jars[[#This Row],[Jar Type]])*(zzz_20261002_Jars[Additional Water Added (mL)]="0"))), 0), "0000"))} -> 0000 | K12: 1750 | L12: Unknown | M12: Unknown | N12: 1.48 | O12: default-ph | P12: 5.75 | Q12: 1011 | R12: =IF(zzz_20261002_Jars[[#This Row],[Jar]]="", "", IFERROR(IFERROR(_xlfn.XLOOKUP(zzz_20261002_Jars[[#This Row],[Jar]], Growing[Growing Jar], Growing[Status]), _xlfn.XLOOKUP(zzz_20261002_Jars[[#This Row],[Jar]], Growing[Seeding Jar], Growing[Status])), "Ready")) -> Finished | S12: Unknown | T12: 0 | U12: None | V12: {=_xlfn.LET( _xlpm.water, zzz_20261002_Jars[[#This Row],[Water Added (mL)]], _xlpm.additional, zzz_20261002_Jars[[#This Row],[Additional Water Added (mL)]], IF(_xlpm.water="", "", IF(_xlpm.additional="Unknown", VALUE(_xlpm.water), VALUE(_xlpm.water)+VALUE(_xlpm.additional))) )} -> 1750 | W12: {=_xlfn.LET( _xlpm.fertilizer, zzz_20261002_Jars[[#This Row],[Fertilizer Added (g)]], _xlpm.additional, zzz_20261002_Jars[[#This Row],[Additional Fertilizer Added (g)]], IF(_xlpm.fertilizer="", "", IF(_xlpm.additional="Unknown", VALUE(_xlpm.fertilizer), VALUE(_xlpm.fertilizer)+VALUE(_xlpm.additional))) )} -> 1.48 | X12: 6.50 | Y12: 504 | Z12: 1 Brown Paper Bag | AA12: 1 Sheet Cardboard
A13: 3 | B13: Half-Gallon Ball Mason Jar | C13: Toss Boss | D13: Seeding & Growing | E13: =IF(zzz_20261002_Jars[[#This Row],[Jar Type]]="", "", TEXT(_xlfn.XLOOKUP(zzz_20261002_Jars[[#This Row],[Jar Type]], Containers!A:A, Containers!C:C), "General")) -> 1892.7 | F13: 0 | G13: 2026-05-22 | H13: Distilled | I13: {=IF(_xlfn.SINGLE(zzz_20261002_Jars[Jar Type])="", "", TEXT(IFERROR(MEDIAN(_xlfn._xlws.FILTER(VALUE(zzz_20261002_Jars[Water Added (mL)]), (zzz_20261002_Jars[Jar Purpose]=zzz_20261002_Jars[[#This Row],[Jar Purpose]])*(zzz_20261002_Jars[Jar Type]=zzz_20261002_Jars[[#This Row],[Jar Type]])*(zzz_20261002_Jars[Additional Water Added (mL)]="1"))), 0), "0000"))} -> 1700 | J13: {=IF(_xlfn.SINGLE(zzz_20261002_Jars[Jar Type])="", "", TEXT(IFERROR(MEDIAN(_xlfn._xlws.FILTER(VALUE(zzz_20261002_Jars[Water Added (mL)]), (zzz_20261002_Jars[Jar Purpose]=zzz_20261002_Jars[[#This Row],[Jar Purpose]])*(zzz_20261002_Jars[Jar Type]=zzz_20261002_Jars[[#This Row],[Jar Type]])*(zzz_20261002_Jars[Additional Water Added (mL)]="0"))), 0), "0000"))} -> 0000 | K13: 1700 | L13: Unknown | M13: Unknown | N13: 1.11 | O13: default-ph | P13: 5.25 | Q13: 683 | R13: =IF(zzz_20261002_Jars[[#This Row],[Jar]]="", "", IFERROR(IFERROR(_xlfn.XLOOKUP(zzz_20261002_Jars[[#This Row],[Jar]], Growing[Growing Jar], Growing[Status]), _xlfn.XLOOKUP(zzz_20261002_Jars[[#This Row],[Jar]], Growing[Seeding Jar], Growing[Status])), "Ready")) -> Finished | S13: Unknown | T13: 0 | U13: None | V13: {=_xlfn.LET( _xlpm.water, zzz_20261002_Jars[[#This Row],[Water Added (mL)]], _xlpm.additional, zzz_20261002_Jars[[#This Row],[Additional Water Added (mL)]], IF(_xlpm.water="", "", IF(_xlpm.additional="Unknown", VALUE(_xlpm.water), VALUE(_xlpm.water)+VALUE(_xlpm.additional))) )} -> 1700 | W13: {=_xlfn.LET( _xlpm.fertilizer, zzz_20261002_Jars[[#This Row],[Fertilizer Added (g)]], _xlpm.additional, zzz_20261002_Jars[[#This Row],[Additional Fertilizer Added (g)]], IF(_xlpm.fertilizer="", "", IF(_xlpm.additional="Unknown", VALUE(_xlpm.fertilizer), VALUE(_xlpm.fertilizer)+VALUE(_xlpm.additional))) )} -> 1.11 | X13: 6.00 | Y13: 366 | Z13: 1 Brown Paper Bag | AA13: 1 Sheet Cardboard
A14: 4 | B14: Half-Gallon Ball Mason Jar | C14: Lettuce Bee Bold | D14: Seeding & Growing | E14: =IF(zzz_20261002_Jars[[#This Row],[Jar Type]]="", "", TEXT(_xlfn.XLOOKUP(zzz_20261002_Jars[[#This Row],[Jar Type]], Containers!A:A, Containers!C:C), "General")) -> 1892.7 | F14: 0 | G14: 2026-05-22 | H14: Distilled | I14: {=IF(_xlfn.SINGLE(zzz_20261002_Jars[Jar Type])="", "", TEXT(IFERROR(MEDIAN(_xlfn._xlws.FILTER(VALUE(zzz_20261002_Jars[Water Added (mL)]), (zzz_20261002_Jars[Jar Purpose]=zzz_20261002_Jars[[#This Row],[Jar Purpose]])*(zzz_20261002_Jars[Jar Type]=zzz_20261002_Jars[[#This Row],[Jar Type]])*(zzz_20261002_Jars[Additional Water Added (mL)]="1"))), 0), "0000"))} -> 1700 | J14: {=IF(_xlfn.SINGLE(zzz_20261002_Jars[Jar Type])="", "", TEXT(IFERROR(MEDIAN(_xlfn._xlws.FILTER(VALUE(zzz_20261002_Jars[Water Added (mL)]), (zzz_20261002_Jars[Jar Purpose]=zzz_20261002_Jars[[#This Row],[Jar Purpose]])*(zzz_20261002_Jars[Jar Type]=zzz_20261002_Jars[[#This Row],[Jar Type]])*(zzz_20261002_Jars[Additional Water Added (mL)]="0"))), 0), "0000"))} -> 0000 | K14: 1700 | L14: Unknown | M14: Unknown | N14: 1.44 | O14: default-ph | P14: 5.75 | Q14: 1045 | R14: =IF(zzz_20261002_Jars[[#This Row],[Jar]]="", "", IFERROR(IFERROR(_xlfn.XLOOKUP(zzz_20261002_Jars[[#This Row],[Jar]], Growing[Growing Jar], Growing[Status]), _xlfn.XLOOKUP(zzz_20261002_Jars[[#This Row],[Jar]], Growing[Seeding Jar], Growing[Status])), "Ready")) -> Finished | S14: Unknown | T14: 0 | U14: None | V14: {=_xlfn.LET( _xlpm.water, zzz_20261002_Jars[[#This Row],[Water Added (mL)]], _xlpm.additional, zzz_20261002_Jars[[#This Row],[Additional Water Added (mL)]], IF(_xlpm.water="", "", IF(_xlpm.additional="Unknown", VALUE(_xlpm.water), VALUE(_xlpm.water)+VALUE(_xlpm.additional))) )} -> 1700 | W14: {=_xlfn.LET( _xlpm.fertilizer, zzz_20261002_Jars[[#This Row],[Fertilizer Added (g)]], _xlpm.additional, zzz_20261002_Jars[[#This Row],[Additional Fertilizer Added (g)]], IF(_xlpm.fertilizer="", "", IF(_xlpm.additional="Unknown", VALUE(_xlpm.fertilizer), VALUE(_xlpm.fertilizer)+VALUE(_xlpm.additional))) )} -> 1.44 | X14: 6.00 | Y14: 371 | Z14: 1 Brown Paper Bag | AA14: 1 Sheet Cardboard
A15: 5 | B15: Half-Gallon Ball Mason Jar | C15: Dressed for Success | D15: Seeding & Growing | E15: =IF(zzz_20261002_Jars[[#This Row],[Jar Type]]="", "", TEXT(_xlfn.XLOOKUP(zzz_20261002_Jars[[#This Row],[Jar Type]], Containers!A:A, Containers!C:C), "General")) -> 1892.7 | F15: 0 | G15: 2026-05-29 | H15: Distilled | I15: {=IF(_xlfn.SINGLE(zzz_20261002_Jars[Jar Type])="", "", TEXT(IFERROR(MEDIAN(_xlfn._xlws.FILTER(VALUE(zzz_20261002_Jars[Water Added (mL)]), (zzz_20261002_Jars[Jar Purpose]=zzz_20261002_Jars[[#This Row],[Jar Purpose]])*(zzz_20261002_Jars[Jar Type]=zzz_20261002_Jars[[#This Row],[Jar Type]])*(zzz_20261002_Jars[Additional Water Added (mL)]="1"))), 0), "0000"))} -> 1700 | J15: {=IF(_xlfn.SINGLE(zzz_20261002_Jars[Jar Type])="", "", TEXT(IFERROR(MEDIAN(_xlfn._xlws.FILTER(VALUE(zzz_20261002_Jars[Water Added (mL)]), (zzz_20261002_Jars[Jar Purpose]=zzz_20261002_Jars[[#This Row],[Jar Purpose]])*(zzz_20261002_Jars[Jar Type]=zzz_20261002_Jars[[#This Row],[Jar Type]])*(zzz_20261002_Jars[Additional Water Added (mL)]="0"))), 0), "0000"))} -> 0000 | K15: 1700 | L15: Unknown | M15: Unknown | N15: 1.39 | O15: default-ph | P15: 5.75 | Q15: 937 | R15: =IF(zzz_20261002_Jars[[#This Row],[Jar]]="", "", IFERROR(IFERROR(_xlfn.XLOOKUP(zzz_20261002_Jars[[#This Row],[Jar]], Growing[Growing Jar], Growing[Status]), _xlfn.XLOOKUP(zzz_20261002_Jars[[#This Row],[Jar]], Growing[Seeding Jar], Growing[Status])), "Ready")) -> Finished | S15: Unknown | T15: 0 | U15: None | V15: {=_xlfn.LET( _xlpm.water, zzz_20261002_Jars[[#This Row],[Water Added (mL)]], _xlpm.additional, zzz_20261002_Jars[[#This Row],[Additional Water Added (mL)]], IF(_xlpm.water="", "", IF(_xlpm.additional="Unknown", VALUE(_xlpm.water), VALUE(_xlpm.water)+VALUE(_xlpm.additional))) )} -> 1700 | W15: {=_xlfn.LET( _xlpm.fertilizer, zzz_20261002_Jars[[#This Row],[Fertilizer Added (g)]], _xlpm.additional, zzz_20261002_Jars[[#This Row],[Additional Fertilizer Added (g)]], IF(_xlpm.fertilizer="", "", IF(_xlpm.additional="Unknown", VALUE(_xlpm.fertilizer), VALUE(_xlpm.fertilizer)+VALUE(_xlpm.additional))) )} -> 1.39 | X15: 5.25 | Y15: 994 | Z15: 1 Brown Paper Bag | AA15: 1 Sheet Cardboard
A16: 6 | B16: Half-Gallon Ball Mason Jar | C16: Chop Chop Real Smooth | D16: Seeding & Growing | E16: =IF(zzz_20261002_Jars[[#This Row],[Jar Type]]="", "", TEXT(_xlfn.XLOOKUP(zzz_20261002_Jars[[#This Row],[Jar Type]], Containers!A:A, Containers!C:C), "General")) -> 1892.7 | F16: 0 | G16: 2026-06-03 | H16: Distilled | I16: {=IF(_xlfn.SINGLE(zzz_20261002_Jars[Jar Type])="", "", TEXT(IFERROR(MEDIAN(_xlfn._xlws.FILTER(VALUE(zzz_20261002_Jars[Water Added (mL)]), (zzz_20261002_Jars[Jar Purpose]=zzz_20261002_Jars[[#This Row],[Jar Purpose]])*(zzz_20261002_Jars[Jar Type]=zzz_20261002_Jars[[#This Row],[Jar Type]])*(zzz_20261002_Jars[Additional Water Added (mL)]="1"))), 0), "0000"))} -> 1700 | J16: {=IF(_xlfn.SINGLE(zzz_20261002_Jars[Jar Type])="", "", TEXT(IFERROR(MEDIAN(_xlfn._xlws.FILTER(VALUE(zzz_20261002_Jars[Water Added (mL)]), (zzz_20261002_Jars[Jar Purpose]=zzz_20261002_Jars[[#This Row],[Jar Purpose]])*(zzz_20261002_Jars[Jar Type]=zzz_20261002_Jars[[#This Row],[Jar Type]])*(zzz_20261002_Jars[Additional Water Added (mL)]="0"))), 0), "0000"))} -> 0000 | K16: 1750 | L16: Unknown | M16: Unknown | N16: 1.40 | O16: default-ph | P16: 5.25 | Q16: 941 | R16: =IF(zzz_20261002_Jars[[#This Row],[Jar]]="", "", IFERROR(IFERROR(_xlfn.XLOOKUP(zzz_20261002_Jars[[#This Row],[Jar]], Growing[Growing Jar], Growing[Status]), _xlfn.XLOOKUP(zzz_20261002_Jars[[#This Row],[Jar]], Growing[Seeding Jar], Growing[Status])), "Ready")) -> Finished | S16: Unknown | T16: 0 | U16: None | V16: {=_xlfn.LET( _xlpm.water, zzz_20261002_Jars[[#This Row],[Water Added (mL)]], _xlpm.additional, zzz_20261002_Jars[[#This Row],[Additional Water Added (mL)]], IF(_xlpm.water="", "", IF(_xlpm.additional="Unknown", VALUE(_xlpm.water), VALUE(_xlpm.water)+VALUE(_xlpm.additional))) )} -> 1750 | W16: {=_xlfn.LET( _xlpm.fertilizer, zzz_20261002_Jars[[#This Row],[Fertilizer Added (g)]], _xlpm.additional, zzz_20261002_Jars[[#This Row],[Additional Fertilizer Added (g)]], IF(_xlpm.fertilizer="", "", IF(_xlpm.additional="Unknown", VALUE(_xlpm.fertilizer), VALUE(_xlpm.fertilizer)+VALUE(_xlpm.additional))) )} -> 1.4 | X16: 6.50 | Y16: 525 | Z16: 1 Brown Paper Bag | AA16: 1 Sheet Cardboard
A17: 7 | B17: Half-Gallon Ball Mason Jar | C17: Duck Duck Produce! | D17: Seeding & Growing | E17: =IF(zzz_20261002_Jars[[#This Row],[Jar Type]]="", "", TEXT(_xlfn.XLOOKUP(zzz_20261002_Jars[[#This Row],[Jar Type]], Containers!A:A, Containers!C:C), "General")) -> 1892.7 | F17: 0 | G17: 2026-06-03 | H17: Distilled | I17: {=IF(_xlfn.SINGLE(zzz_20261002_Jars[Jar Type])="", "", TEXT(IFERROR(MEDIAN(_xlfn._xlws.FILTER(VALUE(zzz_20261002_Jars[Water Added (mL)]), (zzz_20261002_Jars[Jar Purpose]=zzz_20261002_Jars[[#This Row],[Jar Purpose]])*(zzz_20261002_Jars[Jar Type]=zzz_20261002_Jars[[#This Row],[Jar Type]])*(zzz_20261002_Jars[Additional Water Added (mL)]="1"))), 0), "0000"))} -> 1700 | J17: {=IF(_xlfn.SINGLE(zzz_20261002_Jars[Jar Type])="", "", TEXT(IFERROR(MEDIAN(_xlfn._xlws.FILTER(VALUE(zzz_20261002_Jars[Water Added (mL)]), (zzz_20261002_Jars[Jar Purpose]=zzz_20261002_Jars[[#This Row],[Jar Purpose]])*(zzz_20261002_Jars[Jar Type]=zzz_20261002_Jars[[#This Row],[Jar Type]])*(zzz_20261002_Jars[Additional Water Added (mL)]="0"))), 0), "0000"))} -> 0000 | K17: 1750 | L17: Unknown | M17: Unknown | N17: 1.43 | O17: default-ph | P17: 5.75 | Q17: 1017 | R17: =IF(zzz_20261002_Jars[[#This Row],[Jar]]="", "", IFERROR(IFERROR(_xlfn.XLOOKUP(zzz_20261002_Jars[[#This Row],[Jar]], Growing[Growing Jar], Growing[Status]), _xlfn.XLOOKUP(zzz_20261002_Jars[[#This Row],[Jar]], Growing[Seeding Jar], Growing[Status])), "Ready")) -> Finished | S17: Unknown | T17: 0 | U17: None | V17: {=_xlfn.LET( _xlpm.water, zzz_20261002_Jars[[#This Row],[Water Added (mL)]], _xlpm.additional, zzz_20261002_Jars[[#This Row],[Additional Water Added (mL)]], IF(_xlpm.water="", "", IF(_xlpm.additional="Unknown", VALUE(_xlpm.water), VALUE(_xlpm.water)+VALUE(_xlpm.additional))) )} -> 1750 | W17: {=_xlfn.LET( _xlpm.fertilizer, zzz_20261002_Jars[[#This Row],[Fertilizer Added (g)]], _xlpm.additional, zzz_20261002_Jars[[#This Row],[Additional Fertilizer Added (g)]], IF(_xlpm.fertilizer="", "", IF(_xlpm.additional="Unknown", VALUE(_xlpm.fertilizer), VALUE(_xlpm.fertilizer)+VALUE(_xlpm.additional))) )} -> 1.43 | X17: 6.50 | Y17: 526 | Z17: 1 Brown Paper Bag | AA17: 1 Sheet Cardboard
A18: 8 | B18: Half-Gallon Ball Mason Jar | C18: Home Sill Home | D18: Seeding & Growing | E18: =IF(zzz_20261002_Jars[[#This Row],[Jar Type]]="", "", TEXT(_xlfn.XLOOKUP(zzz_20261002_Jars[[#This Row],[Jar Type]], Containers!A:A, Containers!C:C), "General")) -> 1892.7 | F18: 0 | G18: 2026-06-03 | H18: Distilled | I18: {=IF(_xlfn.SINGLE(zzz_20261002_Jars[Jar Type])="", "", TEXT(IFERROR(MEDIAN(_xlfn._xlws.FILTER(VALUE(zzz_20261002_Jars[Water Added (mL)]), (zzz_20261002_Jars[Jar Purpose]=zzz_20261002_Jars[[#This Row],[Jar Purpose]])*(zzz_20261002_Jars[Jar Type]=zzz_20261002_Jars[[#This Row],[Jar Type]])*(zzz_20261002_Jars[Additional Water Added (mL)]="1"))), 0), "0000"))} -> 1700 | J18: {=IF(_xlfn.SINGLE(zzz_20261002_Jars[Jar Type])="", "", TEXT(IFERROR(MEDIAN(_xlfn._xlws.FILTER(VALUE(zzz_20261002_Jars[Water Added (mL)]), (zzz_20261002_Jars[Jar Purpose]=zzz_20261002_Jars[[#This Row],[Jar Purpose]])*(zzz_20261002_Jars[Jar Type]=zzz_20261002_Jars[[#This Row],[Jar Type]])*(zzz_20261002_Jars[Additional Water Added (mL)]="0"))), 0), "0000"))} -> 0000 | K18: 1750 | L18: Unknown | M18: Unknown | N18: 1.37 | O18: default-ph | P18: 5.75 | Q18: 968 | R18: =IF(zzz_20261002_Jars[[#This Row],[Jar]]="", "", IFERROR(IFERROR(_xlfn.XLOOKUP(zzz_20261002_Jars[[#This Row],[Jar]], Growing[Growing Jar], Growing[Status]), _xlfn.XLOOKUP(zzz_20261002_Jars[[#This Row],[Jar]], Growing[Seeding Jar], Growing[Status])), "Ready")) -> Finished | S18: Unknown | T18: 0 | U18: None | V18: {=_xlfn.LET( _xlpm.water, zzz_20261002_Jars[[#This Row],[Water Added (mL)]], _xlpm.additional, zzz_20261002_Jars[[#This Row],[Additional Water Added (mL)]], IF(_xlpm.water="", "", IF(_xlpm.additional="Unknown", VALUE(_xlpm.water), VALUE(_xlpm.water)+VALUE(_xlpm.additional))) )} -> 1750 | W18: {=_xlfn.LET( _xlpm.fertilizer, zzz_20261002_Jars[[#This Row],[Fertilizer Added (g)]], _xlpm.additional, zzz_20261002_Jars[[#This Row],[Additional Fertilizer Added (g)]], IF(_xlpm.fertilizer="", "", IF(_xlpm.additional="Unknown", VALUE(_xlpm.fertilizer), VALUE(_xlpm.fertilizer)+VALUE(_xlpm.additional))) )} -> 1.37 | X18: 6.50 | Y18: 495 | Z18: 1 Brown Paper Bag | AA18: 1 Sheet Cardboard
A19: 9 | B19: Half-Gallon Ball Mason Jar | C19: Mr. Green, in the Hall, with the Jar (candlestick) | D19: Seeding & Growing | E19: =IF(zzz_20261002_Jars[[#This Row],[Jar Type]]="", "", TEXT(_xlfn.XLOOKUP(zzz_20261002_Jars[[#This Row],[Jar Type]], Containers!A:A, Containers!C:C), "General")) -> 1892.7 | F19: 0 | G19: 2026-06-03 | H19: Distilled | I19: {=IF(_xlfn.SINGLE(zzz_20261002_Jars[Jar Type])="", "", TEXT(IFERROR(MEDIAN(_xlfn._xlws.FILTER(VALUE(zzz_20261002_Jars[Water Added (mL)]), (zzz_20261002_Jars[Jar Purpose]=zzz_20261002_Jars[[#This Row],[Jar Purpose]])*(zzz_20261002_Jars[Jar Type]=zzz_20261002_Jars[[#This Row],[Jar Type]])*(zzz_20261002_Jars[Additional Water Added (mL)]="1"))), 0), "0000"))} -> 1700 | J19: {=IF(_xlfn.SINGLE(zzz_20261002_Jars[Jar Type])="", "", TEXT(IFERROR(MEDIAN(_xlfn._xlws.FILTER(VALUE(zzz_20261002_Jars[Water Added (mL)]), (zzz_20261002_Jars[Jar Purpose]=zzz_20261002_Jars[[#This Row],[Jar Purpose]])*(zzz_20261002_Jars[Jar Type]=zzz_20261002_Jars[[#This Row],[Jar Type]])*(zzz_20261002_Jars[Additional Water Added (mL)]="0"))), 0), "0000"))} -> 0000 | K19: 1750 | L19: Unknown | M19: Unknown | N19: 1.49 | O19: default-ph | P19: 6.50 | Q19: 1114 | R19: =IF(zzz_20261002_Jars[[#This Row],[Jar]]="", "", IFERROR(IFERROR(_xlfn.XLOOKUP(zzz_20261002_Jars[[#This Row],[Jar]], Growing[Growing Jar], Growing[Status]), _xlfn.XLOOKUP(zzz_20261002_Jars[[#This Row],[Jar]], Growing[Seeding Jar], Growing[Status])), "Ready")) -> Finished | S19: 1 | T19: 0 | U19: None | V19: {=_xlfn.LET( _xlpm.water, zzz_20261002_Jars[[#This Row],[Water Added (mL)]], _xlpm.additional, zzz_20261002_Jars[[#This Row],[Additional Water Added (mL)]], IF(_xlpm.water="", "", IF(_xlpm.additional="Unknown", VALUE(_xlpm.water), VALUE(_xlpm.water)+VALUE(_xlpm.additional))) )} -> 1751 | W19: {=_xlfn.LET( _xlpm.fertilizer, zzz_20261002_Jars[[#This Row],[Fertilizer Added (g)]], _xlpm.additional, zzz_20261002_Jars[[#This Row],[Additional Fertilizer Added (g)]], IF(_xlpm.fertilizer="", "", IF(_xlpm.additional="Unknown", VALUE(_xlpm.fertilizer), VALUE(_xlpm.fertilizer)+VALUE(_xlpm.additional))) )} -> 1.49 | X19: 6.25 | Y19: 441 | Z19: 1 Brown Paper Bag | AA19: 1 Sheet Cardboard | AB19: Added DI water to elevate the water level for evaporation during a hot week.
A20: 10 | B20: Half-Gallon Ball Mason Jar | C20: These are a few of my favorite things | D20: Seeding & Growing | E20: =IF(zzz_20261002_Jars[[#This Row],[Jar Type]]="", "", TEXT(_xlfn.XLOOKUP(zzz_20261002_Jars[[#This Row],[Jar Type]], Containers!A:A, Containers!C:C), "General")) -> 1892.7 | F20: 0 | G20: 2026-06-12 | H20: Distilled | I20: {=IF(_xlfn.SINGLE(zzz_20261002_Jars[Jar Type])="", "", TEXT(IFERROR(MEDIAN(_xlfn._xlws.FILTER(VALUE(zzz_20261002_Jars[Water Added (mL)]), (zzz_20261002_Jars[Jar Purpose]=zzz_20261002_Jars[[#This Row],[Jar Purpose]])*(zzz_20261002_Jars[Jar Type]=zzz_20261002_Jars[[#This Row],[Jar Type]])*(zzz_20261002_Jars[Additional Water Added (mL)]="1"))), 0), "0000"))} -> 1700 | J20: {=IF(_xlfn.SINGLE(zzz_20261002_Jars[Jar Type])="", "", TEXT(IFERROR(MEDIAN(_xlfn._xlws.FILTER(VALUE(zzz_20261002_Jars[Water Added (mL)]), (zzz_20261002_Jars[Jar Purpose]=zzz_20261002_Jars[[#This Row],[Jar Purpose]])*(zzz_20261002_Jars[Jar Type]=zzz_20261002_Jars[[#This Row],[Jar Type]])*(zzz_20261002_Jars[Additional Water Added (mL)]="0"))), 0), "0000"))} -> 0000 | K20: 1700 | L20: Unknown | M20: Unknown | N20: 1.39 | O20: default-ph | P20: 6.00 | Q20: 1050 | R20: =IF(zzz_20261002_Jars[[#This Row],[Jar]]="", "", IFERROR(IFERROR(_xlfn.XLOOKUP(zzz_20261002_Jars[[#This Row],[Jar]], Growing[Growing Jar], Growing[Status]), _xlfn.XLOOKUP(zzz_20261002_Jars[[#This Row],[Jar]], Growing[Seeding Jar], Growing[Status])), "Ready")) -> Finished | S20: Unknown | T20: 0 | U20: None | V20: {=_xlfn.LET( _xlpm.water, zzz_20261002_Jars[[#This Row],[Water Added (mL)]], _xlpm.additional, zzz_20261002_Jars[[#This Row],[Additional Water Added (mL)]], IF(_xlpm.water="", "", IF(_xlpm.additional="Unknown", VALUE(_xlpm.water), VALUE(_xlpm.water)+VALUE(_xlpm.additional))) )} -> 1700 | W20: {=_xlfn.LET( _xlpm.fertilizer, zzz_20261002_Jars[[#This Row],[Fertilizer Added (g)]], _xlpm.additional, zzz_20261002_Jars[[#This Row],[Additional Fertilizer Added (g)]], IF(_xlpm.fertilizer="", "", IF(_xlpm.additional="Unknown", VALUE(_xlpm.fertilizer), VALUE(_xlpm.fertilizer)+VALUE(_xlpm.additional))) )} -> 1.39 | X20: Unknown | Y20: Unknown | Z20: 1 Brown Paper Bag | AA20: 1 Sheet Cardboard
A21: 11 | B21: Half-Gallon Ball Mason Jar | C21: You're the Best! A Crown! | D21: Seeding & Growing | E21: =IF(zzz_20261002_Jars[[#This Row],[Jar Type]]="", "", TEXT(_xlfn.XLOOKUP(zzz_20261002_Jars[[#This Row],[Jar Type]], Containers!A:A, Containers!C:C), "General")) -> 1892.7 | F21: 0 | G21: 2026-06-12 | H21: Distilled | I21: {=IF(_xlfn.SINGLE(zzz_20261002_Jars[Jar Type])="", "", TEXT(IFERROR(MEDIAN(_xlfn._xlws.FILTER(VALUE(zzz_20261002_Jars[Water Added (mL)]), (zzz_20261002_Jars[Jar Purpose]=zzz_20261002_Jars[[#This Row],[Jar Purpose]])*(zzz_20261002_Jars[Jar Type]=zzz_20261002_Jars[[#This Row],[Jar Type]])*(zzz_20261002_Jars[Additional Water Added (mL)]="1"))), 0), "0000"))} -> 1700 | J21: {=IF(_xlfn.SINGLE(zzz_20261002_Jars[Jar Type])="", "", TEXT(IFERROR(MEDIAN(_xlfn._xlws.FILTER(VALUE(zzz_20261002_Jars[Water Added (mL)]), (zzz_20261002_Jars[Jar Purpose]=zzz_20261002_Jars[[#This Row],[Jar Purpose]])*(zzz_20261002_Jars[Jar Type]=zzz_20261002_Jars[[#This Row],[Jar Type]])*(zzz_20261002_Jars[Additional Water Added (mL)]="0"))), 0), "0000"))} -> 0000 | K21: 1700 | L21: Unknown | M21: Unknown | N21: 1.39 | O21: default-ph | P21: 6.50 | Q21: 1043 | R21: =IF(zzz_20261002_Jars[[#This Row],[Jar]]="", "", IFERROR(IFERROR(_xlfn.XLOOKUP(zzz_20261002_Jars[[#This Row],[Jar]], Growing[Growing Jar], Growing[Status]), _xlfn.XLOOKUP(zzz_20261002_Jars[[#This Row],[Jar]], Growing[Seeding Jar], Growing[Status])), "Ready")) -> Finished | S21: Unknown | T21: 0 | U21: None | V21: {=_xlfn.LET( _xlpm.water, zzz_20261002_Jars[[#This Row],[Water Added (mL)]], _xlpm.additional, zzz_20261002_Jars[[#This Row],[Additional Water Added (mL)]], IF(_xlpm.water="", "", IF(_xlpm.additional="Unknown", VALUE(_xlpm.water), VALUE(_xlpm.water)+VALUE(_xlpm.additional))) )} -> 1700 | W21: {=_xlfn.LET( _xlpm.fertilizer, zzz_20261002_Jars[[#This Row],[Fertilizer Added (g)]], _xlpm.additional, zzz_20261002_Jars[[#This Row],[Additional Fertilizer Added (g)]], IF(_xlpm.fertilizer="", "", IF(_xlpm.additional="Unknown", VALUE(_xlpm.fertilizer), VALUE(_xlpm.fertilizer)+VALUE(_xlpm.additional))) )} -> 1.39 | X21: 6.50 | Y21: 399 | Z21: 1 Brown Paper Bag | AA21: 1 Sheet Cardboard
A22: 12 | B22: Half-Gallon Ball Mason Jar | C22: Breakfast and Move Things | D22: Seeding & Growing | E22: =IF(zzz_20261002_Jars[[#This Row],[Jar Type]]="", "", TEXT(_xlfn.XLOOKUP(zzz_20261002_Jars[[#This Row],[Jar Type]], Containers!A:A, Containers!C:C), "General")) -> 1892.7 | F22: 0 | G22: 2026-06-12 | H22: Distilled | I22: {=IF(_xlfn.SINGLE(zzz_20261002_Jars[Jar Type])="", "", TEXT(IFERROR(MEDIAN(_xlfn._xlws.FILTER(VALUE(zzz_20261002_Jars[Water Added (mL)]), (zzz_20261002_Jars[Jar Purpose]=zzz_20261002_Jars[[#This Row],[Jar Purpose]])*(zzz_20261002_Jars[Jar Type]=zzz_20261002_Jars[[#This Row],[Jar Type]])*(zzz_20261002_Jars[Additional Water Added (mL)]="1"))), 0), "0000"))} -> 1700 | J22: {=IF(_xlfn.SINGLE(zzz_20261002_Jars[Jar Type])="", "", TEXT(IFERROR(MEDIAN(_xlfn._xlws.FILTER(VALUE(zzz_20261002_Jars[Water Added (mL)]), (zzz_20261002_Jars[Jar Purpose]=zzz_20261002_Jars[[#This Row],[Jar Purpose]])*(zzz_20261002_Jars[Jar Type]=zzz_20261002_Jars[[#This Row],[Jar Type]])*(zzz_20261002_Jars[Additional Water Added (mL)]="0"))), 0), "0000"))} -> 0000 | K22: 1700 | L22: Unknown | M22: Unknown | N22: 1.41 | O22: default-ph | P22: 6.00 | Q22: 1066 | R22: =IF(zzz_20261002_Jars[[#This Row],[Jar]]="", "", IFERROR(IFERROR(_xlfn.XLOOKUP(zzz_20261002_Jars[[#This Row],[Jar]], Growing[Growing Jar], Growing[Status]), _xlfn.XLOOKUP(zzz_20261002_Jars[[#This Row],[Jar]], Growing[Seeding Jar], Growing[Status])), "Ready")) -> Finished | S22: Unknown | T22: 0 | U22: None | V22: {=_xlfn.LET( _xlpm.water, zzz_20261002_Jars[[#This Row],[Water Added (mL)]], _xlpm.additional, zzz_20261002_Jars[[#This Row],[Additional Water Added (mL)]], IF(_xlpm.water="", "", IF(_xlpm.additional="Unknown", VALUE(_xlpm.water), VALUE(_xlpm.water)+VALUE(_xlpm.additional))) )} -> 1700 | W22: {=_xlfn.LET( _xlpm.fertilizer, zzz_20261002_Jars[[#This Row],[Fertilizer Added (g)]], _xlpm.additional, zzz_20261002_Jars[[#This Row],[Additional Fertilizer Added (g)]], IF(_xlpm.fertilizer="", "", IF(_xlpm.additional="Unknown", VALUE(_xlpm.fertilizer), VALUE(_xlpm.fertilizer)+VALUE(_xlpm.additional))) )} -> 1.41 | X22: Unknown | Y22: Unknown | Z22: 1 Brown Paper Bag | AA22: 1 Sheet Cardboard
A23: 13 | B23: Half-Gallon Ball Mason Jar | C23: Dancing on my Shelf | D23: Seeding & Growing | E23: =IF(zzz_20261002_Jars[[#This Row],[Jar Type]]="", "", TEXT(_xlfn.XLOOKUP(zzz_20261002_Jars[[#This Row],[Jar Type]], Containers!A:A, Containers!C:C), "General")) -> 1892.7 | F23: 0 | G23: 2026-06-12 | H23: Distilled | I23: {=IF(_xlfn.SINGLE(zzz_20261002_Jars[Jar Type])="", "", TEXT(IFERROR(MEDIAN(_xlfn._xlws.FILTER(VALUE(zzz_20261002_Jars[Water Added (mL)]), (zzz_20261002_Jars[Jar Purpose]=zzz_20261002_Jars[[#This Row],[Jar Purpose]])*(zzz_20261002_Jars[Jar Type]=zzz_20261002_Jars[[#This Row],[Jar Type]])*(zzz_20261002_Jars[Additional Water Added (mL)]="1"))), 0), "0000"))} -> 1700 | J23: {=IF(_xlfn.SINGLE(zzz_20261002_Jars[Jar Type])="", "", TEXT(IFERROR(MEDIAN(_xlfn._xlws.FILTER(VALUE(zzz_20261002_Jars[Water Added (mL)]), (zzz_20261002_Jars[Jar Purpose]=zzz_20261002_Jars[[#This Row],[Jar Purpose]])*(zzz_20261002_Jars[Jar Type]=zzz_20261002_Jars[[#This Row],[Jar Type]])*(zzz_20261002_Jars[Additional Water Added (mL)]="0"))), 0), "0000"))} -> 0000 | K23: 1700 | L23: Unknown | M23: Unknown | N23: 1.80 | O23: default-ph | P23: 6.00 | Q23: 1290 | R23: =IF(zzz_20261002_Jars[[#This Row],[Jar]]="", "", IFERROR(IFERROR(_xlfn.XLOOKUP(zzz_20261002_Jars[[#This Row],[Jar]], Growing[Growing Jar], Growing[Status]), _xlfn.XLOOKUP(zzz_20261002_Jars[[#This Row],[Jar]], Growing[Seeding Jar], Growing[Status])), "Ready")) -> Finished | S23: Unknown | T23: 0 | U23: None | V23: {=_xlfn.LET( _xlpm.water, zzz_20261002_Jars[[#This Row],[Water Added (mL)]], _xlpm.additional, zzz_20261002_Jars[[#This Row],[Additional Water Added (mL)]], IF(_xlpm.water="", "", IF(_xlpm.additional="Unknown", VALUE(_xlpm.water), VALUE(_xlpm.water)+VALUE(_xlpm.additional))) )} -> 1700 | W23: {=_xlfn.LET( _xlpm.fertilizer, zzz_20261002_Jars[[#This Row],[Fertilizer Added (g)]], _xlpm.additional, zzz_20261002_Jars[[#This Row],[Additional Fertilizer Added (g)]], IF(_xlpm.fertilizer="", "", IF(_xlpm.additional="Unknown", VALUE(_xlpm.fertilizer), VALUE(_xlpm.fertilizer)+VALUE(_xlpm.additional))) )} -> 1.8 | X23: 6.50 | Y23: 493 | Z23: 1 Brown Paper Bag | AA23: 1 Sheet Cardboard
A24: 14 | B24: Half-Gallon Ball Mason Jar | C24: Look Out and-Grow! | D24: Seeding & Growing | E24: =IF(zzz_20261002_Jars[[#This Row],[Jar Type]]="", "", TEXT(_xlfn.XLOOKUP(zzz_20261002_Jars[[#This Row],[Jar Type]], Containers!A:A, Containers!C:C), "General")) -> 1892.7 | F24: 0 | G24: 2026-06-17 | H24: Distilled | I24: {=IF(_xlfn.SINGLE(zzz_20261002_Jars[Jar Type])="", "", TEXT(IFERROR(MEDIAN(_xlfn._xlws.FILTER(VALUE(zzz_20261002_Jars[Water Added (mL)]), (zzz_20261002_Jars[Jar Purpose]=zzz_20261002_Jars[[#This Row],[Jar Purpose]])*(zzz_20261002_Jars[Jar Type]=zzz_20261002_Jars[[#This Row],[Jar Type]])*(zzz_20261002_Jars[Additional Water Added (mL)]="1"))), 0), "0000"))} -> 1700 | J24: {=IF(_xlfn.SINGLE(zzz_20261002_Jars[Jar Type])="", "", TEXT(IFERROR(MEDIAN(_xlfn._xlws.FILTER(VALUE(zzz_20261002_Jars[Water Added (mL)]), (zzz_20261002_Jars[Jar Purpose]=zzz_20261002_Jars[[#This Row],[Jar Purpose]])*(zzz_20261002_Jars[Jar Type]=zzz_20261002_Jars[[#This Row],[Jar Type]])*(zzz_20261002_Jars[Additional Water Added (mL)]="0"))), 0), "0000"))} -> 0000 | K24: 1700 | L24: Unknown | M24: Unknown | N24: 1.40 | O24: default-ph | P24: 6.00 | Q24: Skipped | R24: =IF(zzz_20261002_Jars[[#This Row],[Jar]]="", "", IFERROR(IFERROR(_xlfn.XLOOKUP(zzz_20261002_Jars[[#This Row],[Jar]], Growing[Growing Jar], Growing[Status]), _xlfn.XLOOKUP(zzz_20261002_Jars[[#This Row],[Jar]], Growing[Seeding Jar], Growing[Status])), "Ready")) -> Finished | S24: Unknown | T24: 0 | U24: None | V24: {=_xlfn.LET( _xlpm.water, zzz_20261002_Jars[[#This Row],[Water Added (mL)]], _xlpm.additional, zzz_20261002_Jars[[#This Row],[Additional Water Added (mL)]], IF(_xlpm.water="", "", IF(_xlpm.additional="Unknown", VALUE(_xlpm.water), VALUE(_xlpm.water)+VALUE(_xlpm.additional))) )} -> 1700 | W24: {=_xlfn.LET( _xlpm.fertilizer, zzz_20261002_Jars[[#This Row],[Fertilizer Added (g)]], _xlpm.additional, zzz_20261002_Jars[[#This Row],[Additional Fertilizer Added (g)]], IF(_xlpm.fertilizer="", "", IF(_xlpm.additional="Unknown", VALUE(_xlpm.fertilizer), VALUE(_xlpm.fertilizer)+VALUE(_xlpm.additional))) )} -> 1.4 | X24: 6.25 | Y24: 333 | Z24: 1 Brown Paper Bag | AA24: 1 Sheet Cardboard
A25: 15 | B25: Half-Gallon Ball Mason Jar | C25: Green Queen | D25: Seeding & Growing | E25: =IF(zzz_20261002_Jars[[#This Row],[Jar Type]]="", "", TEXT(_xlfn.XLOOKUP(zzz_20261002_Jars[[#This Row],[Jar Type]], Containers!A:A, Containers!C:C), "General")) -> 1892.7 | F25: 0 | G25: 2026-06-17 | H25: Distilled | I25: {=IF(_xlfn.SINGLE(zzz_20261002_Jars[Jar Type])="", "", TEXT(IFERROR(MEDIAN(_xlfn._xlws.FILTER(VALUE(zzz_20261002_Jars[Water Added (mL)]), (zzz_20261002_Jars[Jar Purpose]=zzz_20261002_Jars[[#This Row],[Jar Purpose]])*(zzz_20261002_Jars[Jar Type]=zzz_20261002_Jars[[#This Row],[Jar Type]])*(zzz_20261002_Jars[Additional Water Added (mL)]="1"))), 0), "0000"))} -> 1700 | J25: {=IF(_xlfn.SINGLE(zzz_20261002_Jars[Jar Type])="", "", TEXT(IFERROR(MEDIAN(_xlfn._xlws.FILTER(VALUE(zzz_20261002_Jars[Water Added (mL)]), (zzz_20261002_Jars[Jar Purpose]=zzz_20261002_Jars[[#This Row],[Jar Purpose]])*(zzz_20261002_Jars[Jar Type]=zzz_20261002_Jars[[#This Row],[Jar Type]])*(zzz_20261002_Jars[Additional Water Added (mL)]="0"))), 0), "0000"))} -> 0000 | K25: 1700 | L25: Unknown | M25: Unknown | N25: 1.44 | O25: default-ph | P25: 5.75 | Q25: Skipped | R25: =IF(zzz_20261002_Jars[[#This Row],[Jar]]="", "", IFERROR(IFERROR(_xlfn.XLOOKUP(zzz_20261002_Jars[[#This Row],[Jar]], Growing[Growing Jar], Growing[Status]), _xlfn.XLOOKUP(zzz_20261002_Jars[[#This Row],[Jar]], Growing[Seeding Jar], Growing[Status])), "Ready")) -> Finished | S25: 1 | T25: 0 | U25: None | V25: {=_xlfn.LET( _xlpm.water, zzz_20261002_Jars[[#This Row],[Water Added (mL)]], _xlpm.additional, zzz_20261002_Jars[[#This Row],[Additional Water Added (mL)]], IF(_xlpm.water="", "", IF(_xlpm.additional="Unknown", VALUE(_xlpm.water), VALUE(_xlpm.water)+VALUE(_xlpm.additional))) )} -> 1701 | W25: {=_xlfn.LET( _xlpm.fertilizer, zzz_20261002_Jars[[#This Row],[Fertilizer Added (g)]], _xlpm.additional, zzz_20261002_Jars[[#This Row],[Additional Fertilizer Added (g)]], IF(_xlpm.fertilizer="", "", IF(_xlpm.additional="Unknown", VALUE(_xlpm.fertilizer), VALUE(_xlpm.fertilizer)+VALUE(_xlpm.additional))) )} -> 1.44 | X25: 5.00 | Y25: 963 | Z25: 1 Brown Paper Bag | AA25: 1 Sheet Cardboard | AB25: Added DI water to elevate the water level for evaporation during a hot week.
A26: 16 | B26: Half-Gallon Ball Mason Jar | C26: My Cat Ate My Lettuce | D26: Seeding & Growing | E26: =IF(zzz_20261002_Jars[[#This Row],[Jar Type]]="", "", TEXT(_xlfn.XLOOKUP(zzz_20261002_Jars[[#This Row],[Jar Type]], Containers!A:A, Containers!C:C), "General")) -> 1892.7 | F26: 0 | G26: 2026-06-17 | H26: Distilled | I26: {=IF(_xlfn.SINGLE(zzz_20261002_Jars[Jar Type])="", "", TEXT(IFERROR(MEDIAN(_xlfn._xlws.FILTER(VALUE(zzz_20261002_Jars[Water Added (mL)]), (zzz_20261002_Jars[Jar Purpose]=zzz_20261002_Jars[[#This Row],[Jar Purpose]])*(zzz_20261002_Jars[Jar Type]=zzz_20261002_Jars[[#This Row],[Jar Type]])*(zzz_20261002_Jars[Additional Water Added (mL)]="1"))), 0), "0000"))} -> 1700 | J26: {=IF(_xlfn.SINGLE(zzz_20261002_Jars[Jar Type])="", "", TEXT(IFERROR(MEDIAN(_xlfn._xlws.FILTER(VALUE(zzz_20261002_Jars[Water Added (mL)]), (zzz_20261002_Jars[Jar Purpose]=zzz_20261002_Jars[[#This Row],[Jar Purpose]])*(zzz_20261002_Jars[Jar Type]=zzz_20261002_Jars[[#This Row],[Jar Type]])*(zzz_20261002_Jars[Additional Water Added (mL)]="0"))), 0), "0000"))} -> 0000 | K26: 1700 | L26: Unknown | M26: Unknown | N26: 1.55 | O26: default-ph | P26: 6.00 | Q26: Skipped | R26: =IF(zzz_20261002_Jars[[#This Row],[Jar]]="", "", IFERROR(IFERROR(_xlfn.XLOOKUP(zzz_20261002_Jars[[#This Row],[Jar]], Growing[Growing Jar], Growing[Status]), _xlfn.XLOOKUP(zzz_20261002_Jars[[#This Row],[Jar]], Growing[Seeding Jar], Growing[Status])), "Ready")) -> Finished | S26: 1 | T26: 0 | U26: None | V26: {=_xlfn.LET( _xlpm.water, zzz_20261002_Jars[[#This Row],[Water Added (mL)]], _xlpm.additional, zzz_20261002_Jars[[#This Row],[Additional Water Added (mL)]], IF(_xlpm.water="", "", IF(_xlpm.additional="Unknown", VALUE(_xlpm.water), VALUE(_xlpm.water)+VALUE(_xlpm.additional))) )} -> 1701 | W26: {=_xlfn.LET( _xlpm.fertilizer, zzz_20261002_Jars[[#This Row],[Fertilizer Added (g)]], _xlpm.additional, zzz_20261002_Jars[[#This Row],[Additional Fertilizer Added (g)]], IF(_xlpm.fertilizer="", "", IF(_xlpm.additional="Unknown", VALUE(_xlpm.fertilizer), VALUE(_xlpm.fertilizer)+VALUE(_xlpm.additional))) )} -> 1.55 | X26: 6.00 | Y26: 907 | Z26: 1 Brown Paper Bag | AA26: 1 Sheet Cardboard | AB26: Added DI water to elevate the water level for evaporation during a hot week.
A27: 17 | B27: Half-Gallon Ball Mason Jar | C27: Buddy | D27: Seeding & Growing | E27: =IF(zzz_20261002_Jars[[#This Row],[Jar Type]]="", "", TEXT(_xlfn.XLOOKUP(zzz_20261002_Jars[[#This Row],[Jar Type]], Containers!A:A, Containers!C:C), "General")) -> 1892.7 | F27: 0 | G27: 2026-06-17 | H27: Distilled | I27: {=IF(_xlfn.SINGLE(zzz_20261002_Jars[Jar Type])="", "", TEXT(IFERROR(MEDIAN(_xlfn._xlws.FILTER(VALUE(zzz_20261002_Jars[Water Added (mL)]), (zzz_20261002_Jars[Jar Purpose]=zzz_20261002_Jars[[#This Row],[Jar Purpose]])*(zzz_20261002_Jars[Jar Type]=zzz_20261002_Jars[[#This Row],[Jar Type]])*(zzz_20261002_Jars[Additional Water Added (mL)]="1"))), 0), "0000"))} -> 1700 | J27: {=IF(_xlfn.SINGLE(zzz_20261002_Jars[Jar Type])="", "", TEXT(IFERROR(MEDIAN(_xlfn._xlws.FILTER(VALUE(zzz_20261002_Jars[Water Added (mL)]), (zzz_20261002_Jars[Jar Purpose]=zzz_20261002_Jars[[#This Row],[Jar Purpose]])*(zzz_20261002_Jars[Jar Type]=zzz_20261002_Jars[[#This Row],[Jar Type]])*(zzz_20261002_Jars[Additional Water Added (mL)]="0"))), 0), "0000"))} -> 0000 | K27: 1700 | L27: Unknown | M27: Unknown | N27: 1.57 | O27: default-ph | P27: 5.50 | Q27: Skipped | R27: =IF(zzz_20261002_Jars[[#This Row],[Jar]]="", "", IFERROR(IFERROR(_xlfn.XLOOKUP(zzz_20261002_Jars[[#This Row],[Jar]], Growing[Growing Jar], Growing[Status]), _xlfn.XLOOKUP(zzz_20261002_Jars[[#This Row],[Jar]], Growing[Seeding Jar], Growing[Status])), "Ready")) -> Finished | S27: 1 | T27: 0 | U27: None | V27: {=_xlfn.LET( _xlpm.water, zzz_20261002_Jars[[#This Row],[Water Added (mL)]], _xlpm.additional, zzz_20261002_Jars[[#This Row],[Additional Water Added (mL)]], IF(_xlpm.water="", "", IF(_xlpm.additional="Unknown", VALUE(_xlpm.water), VALUE(_xlpm.water)+VALUE(_xlpm.additional))) )} -> 1701 | W27: {=_xlfn.LET( _xlpm.fertilizer, zzz_20261002_Jars[[#This Row],[Fertilizer Added (g)]], _xlpm.additional, zzz_20261002_Jars[[#This Row],[Additional Fertilizer Added (g)]], IF(_xlpm.fertilizer="", "", IF(_xlpm.additional="Unknown", VALUE(_xlpm.fertilizer), VALUE(_xlpm.fertilizer)+VALUE(_xlpm.additional))) )} -> 1.57 | X27: 6.00 | Y27: 1087 | Z27: 1 Brown Paper Bag | AA27: 1 Sheet Cardboard | AB27: Added DI water to elevate the water level for evaporation during a hot week. Plant was started during a heat wave and ran out of water in the medium before the roots extended.
A28: 18 | B28: Half-Gallon Ball Mason Jar | C28: Goose | D28: Growing | E28: =IF(zzz_20261002_Jars[[#This Row],[Jar Type]]="", "", TEXT(_xlfn.XLOOKUP(zzz_20261002_Jars[[#This Row],[Jar Type]], Containers!A:A, Containers!C:C), "General")) -> 1892.7 | F28: 1 | G28: 2026-08-27 | H28: Milli-Q | I28: {=IF(_xlfn.SINGLE(zzz_20261002_Jars[Jar Type])="", "", TEXT(IFERROR(MEDIAN(_xlfn._xlws.FILTER(VALUE(zzz_20261002_Jars[Water Added (mL)]), (zzz_20261002_Jars[Jar Purpose]=zzz_20261002_Jars[[#This Row],[Jar Purpose]])*(zzz_20261002_Jars[Jar Type]=zzz_20261002_Jars[[#This Row],[Jar Type]])*(zzz_20261002_Jars[Additional Water Added (mL)]="1"))), 0), "0000"))} -> 1650 | J28: {=IF(_xlfn.SINGLE(zzz_20261002_Jars[Jar Type])="", "", TEXT(IFERROR(MEDIAN(_xlfn._xlws.FILTER(VALUE(zzz_20261002_Jars[Water Added (mL)]), (zzz_20261002_Jars[Jar Purpose]=zzz_20261002_Jars[[#This Row],[Jar Purpose]])*(zzz_20261002_Jars[Jar Type]=zzz_20261002_Jars[[#This Row],[Jar Type]])*(zzz_20261002_Jars[Additional Water Added (mL)]="0"))), 0), "0000"))} -> 1700 | K28: 1700 | L28: Unknown | M28: Unknown | N28: 1.77 | O28: default-ph | P28: 5.50 | Q28: 1232 | R28: =IF(zzz_20261002_Jars[[#This Row],[Jar]]="", "", IFERROR(IFERROR(_xlfn.XLOOKUP(zzz_20261002_Jars[[#This Row],[Jar]], Growing[Growing Jar], Growing[Status]), _xlfn.XLOOKUP(zzz_20261002_Jars[[#This Row],[Jar]], Growing[Seeding Jar], Growing[Status])), "Ready")) -> Growing | S28: Unknown | T28: 0 | U28: None | V28: {=_xlfn.LET( _xlpm.water, zzz_20261002_Jars[[#This Row],[Water Added (mL)]], _xlpm.additional, zzz_20261002_Jars[[#This Row],[Additional Water Added (mL)]], IF(_xlpm.water="", "", IF(_xlpm.additional="Unknown", VALUE(_xlpm.water), VALUE(_xlpm.water)+VALUE(_xlpm.additional))) )} -> 1700 | W28: {=_xlfn.LET( _xlpm.fertilizer, zzz_20261002_Jars[[#This Row],[Fertilizer Added (g)]], _xlpm.additional, zzz_20261002_Jars[[#This Row],[Additional Fertilizer Added (g)]], IF(_xlpm.fertilizer="", "", IF(_xlpm.additional="Unknown", VALUE(_xlpm.fertilizer), VALUE(_xlpm.fertilizer)+VALUE(_xlpm.additional))) )} -> 1.77 | Z28: 1 Brown Paper Bag | AA28: 1 Sheet Cardboard
A29: 19 | B29: Half-Gallon Ball Mason Jar | C29: Duck | D29: Growing | E29: =IF(zzz_20261002_Jars[[#This Row],[Jar Type]]="", "", TEXT(_xlfn.XLOOKUP(zzz_20261002_Jars[[#This Row],[Jar Type]], Containers!A:A, Containers!C:C), "General")) -> 1892.7 | F29: 1 | G29: 2026-08-27 | H29: Milli-Q | I29: {=IF(_xlfn.SINGLE(zzz_20261002_Jars[Jar Type])="", "", TEXT(IFERROR(MEDIAN(_xlfn._xlws.FILTER(VALUE(zzz_20261002_Jars[Water Added (mL)]), (zzz_20261002_Jars[Jar Purpose]=zzz_20261002_Jars[[#This Row],[Jar Purpose]])*(zzz_20261002_Jars[Jar Type]=zzz_20261002_Jars[[#This Row],[Jar Type]])*(zzz_20261002_Jars[Additional Water Added (mL)]="1"))), 0), "0000"))} -> 1650 | J29: {=IF(_xlfn.SINGLE(zzz_20261002_Jars[Jar Type])="", "", TEXT(IFERROR(MEDIAN(_xlfn._xlws.FILTER(VALUE(zzz_20261002_Jars[Water Added (mL)]), (zzz_20261002_Jars[Jar Purpose]=zzz_20261002_Jars[[#This Row],[Jar Purpose]])*(zzz_20261002_Jars[Jar Type]=zzz_20261002_Jars[[#This Row],[Jar Type]])*(zzz_20261002_Jars[Additional Water Added (mL)]="0"))), 0), "0000"))} -> 1700 | K29: 1650 | L29: Unknown | M29: Unknown | N29: 1.72 | O29: default-ph | P29: 5.50 | Q29: 1230 | R29: =IF(zzz_20261002_Jars[[#This Row],[Jar]]="", "", IFERROR(IFERROR(_xlfn.XLOOKUP(zzz_20261002_Jars[[#This Row],[Jar]], Growing[Growing Jar], Growing[Status]), _xlfn.XLOOKUP(zzz_20261002_Jars[[#This Row],[Jar]], Growing[Seeding Jar], Growing[Status])), "Ready")) -> Growing | S29: Unknown | T29: 0 | U29: None | V29: {=_xlfn.LET( _xlpm.water, zzz_20261002_Jars[[#This Row],[Water Added (mL)]], _xlpm.additional, zzz_20261002_Jars[[#This Row],[Additional Water Added (mL)]], IF(_xlpm.water="", "", IF(_xlpm.additional="Unknown", VALUE(_xlpm.water), VALUE(_xlpm.water)+VALUE(_xlpm.additional))) )} -> 1650 | W29: {=_xlfn.LET( _xlpm.fertilizer, zzz_20261002_Jars[[#This Row],[Fertilizer Added (g)]], _xlpm.additional, zzz_20261002_Jars[[#This Row],[Additional Fertilizer Added (g)]], IF(_xlpm.fertilizer="", "", IF(_xlpm.additional="Unknown", VALUE(_xlpm.fertilizer), VALUE(_xlpm.fertilizer)+VALUE(_xlpm.additional))) )} -> 1.72 | Z29: 1 Brown Paper Bag | AA29: 1 Sheet Cardboard
A30: 20 | B30: Half-Gallon Ball Mason Jar | C30: 20 | D30: Growing | E30: =IF(zzz_20261002_Jars[[#This Row],[Jar Type]]="", "", TEXT(_xlfn.XLOOKUP(zzz_20261002_Jars[[#This Row],[Jar Type]], Containers!A:A, Containers!C:C), "General")) -> 1892.7 | F30: 1 | G30: 2026-08-27 | H30: Milli-Q | I30: {=IF(_xlfn.SINGLE(zzz_20261002_Jars[Jar Type])="", "", TEXT(IFERROR(MEDIAN(_xlfn._xlws.FILTER(VALUE(zzz_20261002_Jars[Water Added (mL)]), (zzz_20261002_Jars[Jar Purpose]=zzz_20261002_Jars[[#This Row],[Jar Purpose]])*(zzz_20261002_Jars[Jar Type]=zzz_20261002_Jars[[#This Row],[Jar Type]])*(zzz_20261002_Jars[Additional Water Added (mL)]="1"))), 0), "0000"))} -> 1650 | J30: {=IF(_xlfn.SINGLE(zzz_20261002_Jars[Jar Type])="", "", TEXT(IFERROR(MEDIAN(_xlfn._xlws.FILTER(VALUE(zzz_20261002_Jars[Water Added (mL)]), (zzz_20261002_Jars[Jar Purpose]=zzz_20261002_Jars[[#This Row],[Jar Purpose]])*(zzz_20261002_Jars[Jar Type]=zzz_20261002_Jars[[#This Row],[Jar Type]])*(zzz_20261002_Jars[Additional Water Added (mL)]="0"))), 0), "0000"))} -> 1700 | K30: 1600 | L30: Unknown | M30: Unknown | N30: 1.67 | O30: default-ph | P30: 5.50 | Q30: 1231 | R30: =IF(zzz_20261002_Jars[[#This Row],[Jar]]="", "", IFERROR(IFERROR(_xlfn.XLOOKUP(zzz_20261002_Jars[[#This Row],[Jar]], Growing[Growing Jar], Growing[Status]), _xlfn.XLOOKUP(zzz_20261002_Jars[[#This Row],[Jar]], Growing[Seeding Jar], Growing[Status])), "Ready")) -> Ready | S30: Unknown | T30: 0 | U30: None | V30: {=_xlfn.LET( _xlpm.water, zzz_20261002_Jars[[#This Row],[Water Added (mL)]], _xlpm.additional, zzz_20261002_Jars[[#This Row],[Additional Water Added (mL)]], IF(_xlpm.water="", "", IF(_xlpm.additional="Unknown", VALUE(_xlpm.water), VALUE(_xlpm.water)+VALUE(_xlpm.additional))) )} -> 1600 | W30: {=_xlfn.LET( _xlpm.fertilizer, zzz_20261002_Jars[[#This Row],[Fertilizer Added (g)]], _xlpm.additional, zzz_20261002_Jars[[#This Row],[Additional Fertilizer Added (g)]], IF(_xlpm.fertilizer="", "", IF(_xlpm.additional="Unknown", VALUE(_xlpm.fertilizer), VALUE(_xlpm.fertilizer)+VALUE(_xlpm.additional))) )} -> 1.67 | Z30: 1 Brown Paper Bag | AA30: 1 Sheet Cardboard
A31: 21 | B31: Half-Gallon Ball Mason Jar | C31: Duck | D31: Growing | E31: =IF(zzz_20261002_Jars[[#This Row],[Jar Type]]="", "", TEXT(_xlfn.XLOOKUP(zzz_20261002_Jars[[#This Row],[Jar Type]], Containers!A:A, Containers!C:C), "General")) -> 1892.7 | F31: 1 | G31: 2026-08-27 | H31: Milli-Q | I31: {=IF(_xlfn.SINGLE(zzz_20261002_Jars[Jar Type])="", "", TEXT(IFERROR(MEDIAN(_xlfn._xlws.FILTER(VALUE(zzz_20261002_Jars[Water Added (mL)]), (zzz_20261002_Jars[Jar Purpose]=zzz_20261002_Jars[[#This Row],[Jar Purpose]])*(zzz_20261002_Jars[Jar Type]=zzz_20261002_Jars[[#This Row],[Jar Type]])*(zzz_20261002_Jars[Additional Water Added (mL)]="1"))), 0), "0000"))} -> 1650 | J31: {=IF(_xlfn.SINGLE(zzz_20261002_Jars[Jar Type])="", "", TEXT(IFERROR(MEDIAN(_xlfn._xlws.FILTER(VALUE(zzz_20261002_Jars[Water Added (mL)]), (zzz_20261002_Jars[Jar Purpose]=zzz_20261002_Jars[[#This Row],[Jar Purpose]])*(zzz_20261002_Jars[Jar Type]=zzz_20261002_Jars[[#This Row],[Jar Type]])*(zzz_20261002_Jars[Additional Water Added (mL)]="0"))), 0), "0000"))} -> 1700 | K31: 1550 | L31: Unknown | M31: Unknown | N31: 1.64 | O31: default-ph | P31: 5.50 | Q31: 1257 | R31: =IF(zzz_20261002_Jars[[#This Row],[Jar]]="", "", IFERROR(IFERROR(_xlfn.XLOOKUP(zzz_20261002_Jars[[#This Row],[Jar]], Growing[Growing Jar], Growing[Status]), _xlfn.XLOOKUP(zzz_20261002_Jars[[#This Row],[Jar]], Growing[Seeding Jar], Growing[Status])), "Ready")) -> Growing | S31: Unknown | T31: 0 | U31: None | V31: {=_xlfn.LET( _xlpm.water, zzz_20261002_Jars[[#This Row],[Water Added (mL)]], _xlpm.additional, zzz_20261002_Jars[[#This Row],[Additional Water Added (mL)]], IF(_xlpm.water="", "", IF(_xlpm.additional="Unknown", VALUE(_xlpm.water), VALUE(_xlpm.water)+VALUE(_xlpm.additional))) )} -> 1550 | W31: {=_xlfn.LET( _xlpm.fertilizer, zzz_20261002_Jars[[#This Row],[Fertilizer Added (g)]], _xlpm.additional, zzz_20261002_Jars[[#This Row],[Additional Fertilizer Added (g)]], IF(_xlpm.fertilizer="", "", IF(_xlpm.additional="Unknown", VALUE(_xlpm.fertilizer), VALUE(_xlpm.fertilizer)+VALUE(_xlpm.additional))) )} -> 1.64 | Z31: 1 Brown Paper Bag | AA31: 1 Sheet Cardboard
A32: 22 | B32: Half-Gallon Ball Mason Jar | C32: Duck | D32: Growing | E32: =IF(zzz_20261002_Jars[[#This Row],[Jar Type]]="", "", TEXT(_xlfn.XLOOKUP(zzz_20261002_Jars[[#This Row],[Jar Type]], Containers!A:A, Containers!C:C), "General")) -> 1892.7 | F32: 1 | G32: 2026-08-28 | H32: Milli-Q | I32: {=IF(_xlfn.SINGLE(zzz_20261002_Jars[Jar Type])="", "", TEXT(IFERROR(MEDIAN(_xlfn._xlws.FILTER(VALUE(zzz_20261002_Jars[Water Added (mL)]), (zzz_20261002_Jars[Jar Purpose]=zzz_20261002_Jars[[#This Row],[Jar Purpose]])*(zzz_20261002_Jars[Jar Type]=zzz_20261002_Jars[[#This Row],[Jar Type]])*(zzz_20261002_Jars[Additional Water Added (mL)]="1"))), 0), "0000"))} -> 1650 | J32: {=IF(_xlfn.SINGLE(zzz_20261002_Jars[Jar Type])="", "", TEXT(IFERROR(MEDIAN(_xlfn._xlws.FILTER(VALUE(zzz_20261002_Jars[Water Added (mL)]), (zzz_20261002_Jars[Jar Purpose]=zzz_20261002_Jars[[#This Row],[Jar Purpose]])*(zzz_20261002_Jars[Jar Type]=zzz_20261002_Jars[[#This Row],[Jar Type]])*(zzz_20261002_Jars[Additional Water Added (mL)]="0"))), 0), "0000"))} -> 1700 | K32: 1750 | L32: Unknown | M32: Unknown | N32: 1.83 | O32: default-ph | P32: 6.00 | Q32: 1237 | R32: =IF(zzz_20261002_Jars[[#This Row],[Jar]]="", "", IFERROR(IFERROR(_xlfn.XLOOKUP(zzz_20261002_Jars[[#This Row],[Jar]], Growing[Growing Jar], Growing[Status]), _xlfn.XLOOKUP(zzz_20261002_Jars[[#This Row],[Jar]], Growing[Seeding Jar], Growing[Status])), "Ready")) -> Growing | S32: Unknown | T32: 0 | U32: None | V32: {=_xlfn.LET( _xlpm.water, zzz_20261002_Jars[[#This Row],[Water Added (mL)]], _xlpm.additional, zzz_20261002_Jars[[#This Row],[Additional Water Added (mL)]], IF(_xlpm.water="", "", IF(_xlpm.additional="Unknown", VALUE(_xlpm.water), VALUE(_xlpm.water)+VALUE(_xlpm.additional))) )} -> 1750 | W32: {=_xlfn.LET( _xlpm.fertilizer, zzz_20261002_Jars[[#This Row],[Fertilizer Added (g)]], _xlpm.additional, zzz_20261002_Jars[[#This Row],[Additional Fertilizer Added (g)]], IF(_xlpm.fertilizer="", "", IF(_xlpm.additional="Unknown", VALUE(_xlpm.fertilizer), VALUE(_xlpm.fertilizer)+VALUE(_xlpm.additional))) )} -> 1.83 | Z32: 1 Brown Paper Bag | AA32: 1 Sheet Cardboard
A33: 23 | B33: Cylindrical Olive Jar | D33: Seeding | E33: =IF(zzz_20261002_Jars[[#This Row],[Jar Type]]="", "", TEXT(_xlfn.XLOOKUP(zzz_20261002_Jars[[#This Row],[Jar Type]], Containers!A:A, Containers!C:C), "General")) -> 371 | F33: 1 | G33: 2026-08-28 | H33: Milli-Q | I33: {=IF(_xlfn.SINGLE(zzz_20261002_Jars[Jar Type])="", "", TEXT(IFERROR(MEDIAN(_xlfn._xlws.FILTER(VALUE(zzz_20261002_Jars[Water Added (mL)]), (zzz_20261002_Jars[Jar Purpose]=zzz_20261002_Jars[[#This Row],[Jar Purpose]])*(zzz_20261002_Jars[Jar Type]=zzz_20261002_Jars[[#This Row],[Jar Type]])*(zzz_20261002_Jars[Additional Water Added (mL)]="1"))), 0), "0000"))} -> 0000 | J33: {=IF(_xlfn.SINGLE(zzz_20261002_Jars[Jar Type])="", "", TEXT(IFERROR(MEDIAN(_xlfn._xlws.FILTER(VALUE(zzz_20261002_Jars[Water Added (mL)]), (zzz_20261002_Jars[Jar Purpose]=zzz_20261002_Jars[[#This Row],[Jar Purpose]])*(zzz_20261002_Jars[Jar Type]=zzz_20261002_Jars[[#This Row],[Jar Type]])*(zzz_20261002_Jars[Additional Water Added (mL)]="0"))), 0), "0000"))} -> 0275 | K33: 275 | L33: Unknown | M33: Unknown | N33: 0.23 | O33: default-ph | P33: Unknown | Q33: Unknown | R33: =IF(zzz_20261002_Jars[[#This Row],[Jar]]="", "", IFERROR(IFERROR(_xlfn.XLOOKUP(zzz_20261002_Jars[[#This Row],[Jar]], Growing[Growing Jar], Growing[Status]), _xlfn.XLOOKUP(zzz_20261002_Jars[[#This Row],[Jar]], Growing[Seeding Jar], Growing[Status])), "Ready")) -> Growing | S33: Unknown | T33: 0 | U33: None | V33: {=_xlfn.LET( _xlpm.water, zzz_20261002_Jars[[#This Row],[Water Added (mL)]], _xlpm.additional, zzz_20261002_Jars[[#This Row],[Additional Water Added (mL)]], IF(_xlpm.water="", "", IF(_xlpm.additional="Unknown", VALUE(_xlpm.water), VALUE(_xlpm.water)+VALUE(_xlpm.additional))) )} -> 275 | W33: {=_xlfn.LET( _xlpm.fertilizer, zzz_20261002_Jars[[#This Row],[Fertilizer Added (g)]], _xlpm.additional, zzz_20261002_Jars[[#This Row],[Additional Fertilizer Added (g)]], IF(_xlpm.fertilizer="", "", IF(_xlpm.additional="Unknown", VALUE(_xlpm.fertilizer), VALUE(_xlpm.fertilizer)+VALUE(_xlpm.additional))) )} -> 0.23 | Z33: 1 Brown Paper Bag | AA33: 1 Sheet Cardboard
A34: 24 | B34: Half-Gallon Ball Mason Jar | D34: Seeding | E34: =IF(zzz_20261002_Jars[[#This Row],[Jar Type]]="", "", TEXT(_xlfn.XLOOKUP(zzz_20261002_Jars[[#This Row],[Jar Type]], Containers!A:A, Containers!C:C), "General")) -> 1892.7 | F34: 1 | G34: 2026-09-01 | H34: Milli-Q | I34: {=IF(_xlfn.SINGLE(zzz_20261002_Jars[Jar Type])="", "", TEXT(IFERROR(MEDIAN(_xlfn._xlws.FILTER(VALUE(zzz_20261002_Jars[Water Added (mL)]), (zzz_20261002_Jars[Jar Purpose]=zzz_20261002_Jars[[#This Row],[Jar Purpose]])*(zzz_20261002_Jars[Jar Type]=zzz_20261002_Jars[[#This Row],[Jar Type]])*(zzz_20261002_Jars[Additional Water Added (mL)]="1"))), 0), "0000"))} -> 0000 | J34: {=IF(_xlfn.SINGLE(zzz_20261002_Jars[Jar Type])="", "", TEXT(IFERROR(MEDIAN(_xlfn._xlws.FILTER(VALUE(zzz_20261002_Jars[Water Added (mL)]), (zzz_20261002_Jars[Jar Purpose]=zzz_20261002_Jars[[#This Row],[Jar Purpose]])*(zzz_20261002_Jars[Jar Type]=zzz_20261002_Jars[[#This Row],[Jar Type]])*(zzz_20261002_Jars[Additional Water Added (mL)]="0"))), 0), "0000"))} -> 0000 | K34: 1775 | L34: Unknown | M34: Unknown | N34: 0 | O34: default-ph | P34: Unknown | Q34: Unknown | R34: =IF(zzz_20261002_Jars[[#This Row],[Jar]]="", "", IFERROR(IFERROR(_xlfn.XLOOKUP(zzz_20261002_Jars[[#This Row],[Jar]], Growing[Growing Jar], Growing[Status]), _xlfn.XLOOKUP(zzz_20261002_Jars[[#This Row],[Jar]], Growing[Seeding Jar], Growing[Status])), "Ready")) -> Growing | S34: Unknown | T34: 0 | U34: None | V34: {=_xlfn.LET( _xlpm.water, zzz_20261002_Jars[[#This Row],[Water Added (mL)]], _xlpm.additional, zzz_20261002_Jars[[#This Row],[Additional Water Added (mL)]], IF(_xlpm.water="", "", IF(_xlpm.additional="Unknown", VALUE(_xlpm.water), VALUE(_xlpm.water)+VALUE(_xlpm.additional))) )} -> 1775 | W34: {=_xlfn.LET( _xlpm.fertilizer, zzz_20261002_Jars[[#This Row],[Fertilizer Added (g)]], _xlpm.additional, zzz_20261002_Jars[[#This Row],[Additional Fertilizer Added (g)]], IF(_xlpm.fertilizer="", "", IF(_xlpm.additional="Unknown", VALUE(_xlpm.fertilizer), VALUE(_xlpm.fertilizer)+VALUE(_xlpm.additional))) )} -> 0 | Z34: 1 Brown Paper Bag | AA34: 1 Sheet Cardboard
A35: 25 | B35: Jelly Jar, Cube Shape | D35: Seeding | E35: =IF(zzz_20261002_Jars[[#This Row],[Jar Type]]="", "", TEXT(_xlfn.XLOOKUP(zzz_20261002_Jars[[#This Row],[Jar Type]], Containers!A:A, Containers!C:C), "General")) -> 354 | F35: 1 | G35: 2026-09-04 | H35: Milli-Q | I35: {=IF(_xlfn.SINGLE(zzz_20261002_Jars[Jar Type])="", "", TEXT(IFERROR(MEDIAN(_xlfn._xlws.FILTER(VALUE(zzz_20261002_Jars[Water Added (mL)]), (zzz_20261002_Jars[Jar Purpose]=zzz_20261002_Jars[[#This Row],[Jar Purpose]])*(zzz_20261002_Jars[Jar Type]=zzz_20261002_Jars[[#This Row],[Jar Type]])*(zzz_20261002_Jars[Additional Water Added (mL)]="1"))), 0), "0000"))} -> 0000 | J35: {=IF(_xlfn.SINGLE(zzz_20261002_Jars[Jar Type])="", "", TEXT(IFERROR(MEDIAN(_xlfn._xlws.FILTER(VALUE(zzz_20261002_Jars[Water Added (mL)]), (zzz_20261002_Jars[Jar Purpose]=zzz_20261002_Jars[[#This Row],[Jar Purpose]])*(zzz_20261002_Jars[Jar Type]=zzz_20261002_Jars[[#This Row],[Jar Type]])*(zzz_20261002_Jars[Additional Water Added (mL)]="0"))), 0), "0000"))} -> 0250 | K35: 250 | L35: Unknown | M35: Unknown | N35: 0.17 | O35: default-ph | P35: 6.25 | Q35: Unknown | R35: =IF(zzz_20261002_Jars[[#This Row],[Jar]]="", "", IFERROR(IFERROR(_xlfn.XLOOKUP(zzz_20261002_Jars[[#This Row],[Jar]], Growing[Growing Jar], Growing[Status]), _xlfn.XLOOKUP(zzz_20261002_Jars[[#This Row],[Jar]], Growing[Seeding Jar], Growing[Status])), "Ready")) -> Growing | S35: Unknown | T35: 0 | U35: None | V35: {=_xlfn.LET( _xlpm.water, zzz_20261002_Jars[[#This Row],[Water Added (mL)]], _xlpm.additional, zzz_20261002_Jars[[#This Row],[Additional Water Added (mL)]], IF(_xlpm.water="", "", IF(_xlpm.additional="Unknown", VALUE(_xlpm.water), VALUE(_xlpm.water)+VALUE(_xlpm.additional))) )} -> 250 | W35: {=_xlfn.LET( _xlpm.fertilizer, zzz_20261002_Jars[[#This Row],[Fertilizer Added (g)]], _xlpm.additional, zzz_20261002_Jars[[#This Row],[Additional Fertilizer Added (g)]], IF(_xlpm.fertilizer="", "", IF(_xlpm.additional="Unknown", VALUE(_xlpm.fertilizer), VALUE(_xlpm.fertilizer)+VALUE(_xlpm.additional))) )} -> 0.17 | Z35: 1 Nitrile Glove (s) | AA35: 1 Sheet Cardboard
A36: 26 | B36: Half-Gallon Ball Mason Jar | C36: My Cat Ate My Lettuce | D36: Growing | E36: =IF(zzz_20261002_Jars[[#This Row],[Jar Type]]="", "", TEXT(_xlfn.XLOOKUP(zzz_20261002_Jars[[#This Row],[Jar Type]], Containers!A:A, Containers!C:C), "General")) -> 1892.7 | F36: 1 | G36: 2026-09-04 | H36: Milli-Q | I36: {=IF(_xlfn.SINGLE(zzz_20261002_Jars[Jar Type])="", "", TEXT(IFERROR(MEDIAN(_xlfn._xlws.FILTER(VALUE(zzz_20261002_Jars[Water Added (mL)]), (zzz_20261002_Jars[Jar Purpose]=zzz_20261002_Jars[[#This Row],[Jar Purpose]])*(zzz_20261002_Jars[Jar Type]=zzz_20261002_Jars[[#This Row],[Jar Type]])*(zzz_20261002_Jars[Additional Water Added (mL)]="1"))), 0), "0000"))} -> 1650 | J36: {=IF(_xlfn.SINGLE(zzz_20261002_Jars[Jar Type])="", "", TEXT(IFERROR(MEDIAN(_xlfn._xlws.FILTER(VALUE(zzz_20261002_Jars[Water Added (mL)]), (zzz_20261002_Jars[Jar Purpose]=zzz_20261002_Jars[[#This Row],[Jar Purpose]])*(zzz_20261002_Jars[Jar Type]=zzz_20261002_Jars[[#This Row],[Jar Type]])*(zzz_20261002_Jars[Additional Water Added (mL)]="0"))), 0), "0000"))} -> 1700 | K36: 1800 | L36: Unknown | M36: Unknown | N36: 1.87 | O36: default-ph | P36: 6.50 | Q36: 1287 | R36: =IF(zzz_20261002_Jars[[#This Row],[Jar]]="", "", IFERROR(IFERROR(_xlfn.XLOOKUP(zzz_20261002_Jars[[#This Row],[Jar]], Growing[Growing Jar], Growing[Status]), _xlfn.XLOOKUP(zzz_20261002_Jars[[#This Row],[Jar]], Growing[Seeding Jar], Growing[Status])), "Ready")) -> Growing | S36: Unknown | T36: 0 | U36: None | V36: {=_xlfn.LET( _xlpm.water, zzz_20261002_Jars[[#This Row],[Water Added (mL)]], _xlpm.additional, zzz_20261002_Jars[[#This Row],[Additional Water Added (mL)]], IF(_xlpm.water="", "", IF(_xlpm.additional="Unknown", VALUE(_xlpm.water), VALUE(_xlpm.water)+VALUE(_xlpm.additional))) )} -> 1800 | W36: {=_xlfn.LET( _xlpm.fertilizer, zzz_20261002_Jars[[#This Row],[Fertilizer Added (g)]], _xlpm.additional, zzz_20261002_Jars[[#This Row],[Additional Fertilizer Added (g)]], IF(_xlpm.fertilizer="", "", IF(_xlpm.additional="Unknown", VALUE(_xlpm.fertilizer), VALUE(_xlpm.fertilizer)+VALUE(_xlpm.additional))) )} -> 1.87 | Z36: 1 Brown Paper Bag | AA36: 1 Sheet Cardboard
A37: 27 | B37: Half-Gallon Ball Mason Jar | C37: Duck | D37: Growing | E37: =IF(zzz_20261002_Jars[[#This Row],[Jar Type]]="", "", TEXT(_xlfn.XLOOKUP(zzz_20261002_Jars[[#This Row],[Jar Type]], Containers!A:A, Containers!C:C), "General")) -> 1892.7 | F37: 1 | G37: 2026-09-04 | H37: Milli-Q | I37: {=IF(_xlfn.SINGLE(zzz_20261002_Jars[Jar Type])="", "", TEXT(IFERROR(MEDIAN(_xlfn._xlws.FILTER(VALUE(zzz_20261002_Jars[Water Added (mL)]), (zzz_20261002_Jars[Jar Purpose]=zzz_20261002_Jars[[#This Row],[Jar Purpose]])*(zzz_20261002_Jars[Jar Type]=zzz_20261002_Jars[[#This Row],[Jar Type]])*(zzz_20261002_Jars[Additional Water Added (mL)]="1"))), 0), "0000"))} -> 1650 | J37: {=IF(_xlfn.SINGLE(zzz_20261002_Jars[Jar Type])="", "", TEXT(IFERROR(MEDIAN(_xlfn._xlws.FILTER(VALUE(zzz_20261002_Jars[Water Added (mL)]), (zzz_20261002_Jars[Jar Purpose]=zzz_20261002_Jars[[#This Row],[Jar Purpose]])*(zzz_20261002_Jars[Jar Type]=zzz_20261002_Jars[[#This Row],[Jar Type]])*(zzz_20261002_Jars[Additional Water Added (mL)]="0"))), 0), "0000"))} -> 1700 | K37: 1700 | L37: Unknown | M37: Unknown | N37: 1.83 | O37: default-ph | P37: 6.00 | Q37: 1270 | R37: =IF(zzz_20261002_Jars[[#This Row],[Jar]]="", "", IFERROR(IFERROR(_xlfn.XLOOKUP(zzz_20261002_Jars[[#This Row],[Jar]], Growing[Growing Jar], Growing[Status]), _xlfn.XLOOKUP(zzz_20261002_Jars[[#This Row],[Jar]], Growing[Seeding Jar], Growing[Status])), "Ready")) -> Growing | S37: Unknown | T37: 1.80 | U37: 2026-10-02 | V37: {=_xlfn.LET( _xlpm.water, zzz_20261002_Jars[[#This Row],[Water Added (mL)]], _xlpm.additional, zzz_20261002_Jars[[#This Row],[Additional Water Added (mL)]], IF(_xlpm.water="", "", IF(_xlpm.additional="Unknown", VALUE(_xlpm.water), VALUE(_xlpm.water)+VALUE(_xlpm.additional))) )} -> 1700 | W37: {=_xlfn.LET( _xlpm.fertilizer, zzz_20261002_Jars[[#This Row],[Fertilizer Added (g)]], _xlpm.additional, zzz_20261002_Jars[[#This Row],[Additional Fertilizer Added (g)]], IF(_xlpm.fertilizer="", "", IF(_xlpm.additional="Unknown", VALUE(_xlpm.fertilizer), VALUE(_xlpm.fertilizer)+VALUE(_xlpm.additional))) )} -> 3.63 | Z37: 1 Brown Paper Bag | AA37: 1 Sheet Cardboard
A38: 28 | B38: Half-Gallon Ball Mason Jar | C38: You've Made it this Jar | D38: Growing | E38: =IF(zzz_20261002_Jars[[#This Row],[Jar Type]]="", "", TEXT(_xlfn.XLOOKUP(zzz_20261002_Jars[[#This Row],[Jar Type]], Containers!A:A, Containers!C:C), "General")) -> 1892.7 | F38: 1 | G38: 2026-09-04 | H38: Milli-Q | I38: {=IF(_xlfn.SINGLE(zzz_20261002_Jars[Jar Type])="", "", TEXT(IFERROR(MEDIAN(_xlfn._xlws.FILTER(VALUE(zzz_20261002_Jars[Water Added (mL)]), (zzz_20261002_Jars[Jar Purpose]=zzz_20261002_Jars[[#This Row],[Jar Purpose]])*(zzz_20261002_Jars[Jar Type]=zzz_20261002_Jars[[#This Row],[Jar Type]])*(zzz_20261002_Jars[Additional Water Added (mL)]="1"))), 0), "0000"))} -> 1650 | J38: {=IF(_xlfn.SINGLE(zzz_20261002_Jars[Jar Type])="", "", TEXT(IFERROR(MEDIAN(_xlfn._xlws.FILTER(VALUE(zzz_20261002_Jars[Water Added (mL)]), (zzz_20261002_Jars[Jar Purpose]=zzz_20261002_Jars[[#This Row],[Jar Purpose]])*(zzz_20261002_Jars[Jar Type]=zzz_20261002_Jars[[#This Row],[Jar Type]])*(zzz_20261002_Jars[Additional Water Added (mL)]="0"))), 0), "0000"))} -> 1700 | K38: 1650 | L38: Unknown | M38: Unknown | N38: 1.71 | O38: default-ph | P38: 5.75 | Q38: 1248 | R38: =IF(zzz_20261002_Jars[[#This Row],[Jar]]="", "", IFERROR(IFERROR(_xlfn.XLOOKUP(zzz_20261002_Jars[[#This Row],[Jar]], Growing[Growing Jar], Growing[Status]), _xlfn.XLOOKUP(zzz_20261002_Jars[[#This Row],[Jar]], Growing[Seeding Jar], Growing[Status])), "Ready")) -> Growing | S38: 1 | T38: 0 | U38: None | V38: {=_xlfn.LET( _xlpm.water, zzz_20261002_Jars[[#This Row],[Water Added (mL)]], _xlpm.additional, zzz_20261002_Jars[[#This Row],[Additional Water Added (mL)]], IF(_xlpm.water="", "", IF(_xlpm.additional="Unknown", VALUE(_xlpm.water), VALUE(_xlpm.water)+VALUE(_xlpm.additional))) )} -> 1651 | W38: {=_xlfn.LET( _xlpm.fertilizer, zzz_20261002_Jars[[#This Row],[Fertilizer Added (g)]], _xlpm.additional, zzz_20261002_Jars[[#This Row],[Additional Fertilizer Added (g)]], IF(_xlpm.fertilizer="", "", IF(_xlpm.additional="Unknown", VALUE(_xlpm.fertilizer), VALUE(_xlpm.fertilizer)+VALUE(_xlpm.additional))) )} -> 1.71 | Z38: 1 Brown Paper Bag | AA38: 1 Sheet Cardboard | AB38: Added a small amount of water so the seedling's roots touched.
